BEGIN:VCALENDAR
VERSION:2.0
PRODID:-//Ohavi Zedek Synagogue - ECPv6.15.17.1//NONSGML v1.0//EN
CALSCALE:GREGORIAN
METHOD:PUBLISH
X-ORIGINAL-URL:https://ohavizedek.org
X-WR-CALDESC:Events for Ohavi Zedek Synagogue
REFRESH-INTERVAL;VALUE=DURATION:PT1H
X-Robots-Tag:noindex
X-PUBLISHED-TTL:PT1H
BEGIN:VTIMEZONE
TZID:America/New_York
BEGIN:DAYLIGHT
TZOFFSETFROM:-0500
TZOFFSETTO:-0400
TZNAME:EDT
DTSTART:20210314T070000
END:DAYLIGHT
BEGIN:STANDARD
TZOFFSETFROM:-0400
TZOFFSETTO:-0500
TZNAME:EST
DTSTART:20211107T060000
END:STANDARD
BEGIN:DAYLIGHT
TZOFFSETFROM:-0500
TZOFFSETTO:-0400
TZNAME:EDT
DTSTART:20220313T070000
END:DAYLIGHT
BEGIN:STANDARD
TZOFFSETFROM:-0400
TZOFFSETTO:-0500
TZNAME:EST
DTSTART:20221106T060000
END:STANDARD
BEGIN:DAYLIGHT
TZOFFSETFROM:-0500
TZOFFSETTO:-0400
TZNAME:EDT
DTSTART:20230312T070000
END:DAYLIGHT
BEGIN:STANDARD
TZOFFSETFROM:-0400
TZOFFSETTO:-0500
TZNAME:EST
DTSTART:20231105T060000
END:STANDARD
END:VTIMEZONE
BEGIN:VEVENT
DTSTART;TZID=America/New_York:20221204T091500
DTEND;TZID=America/New_York:20221204T114500
DTSTAMP:20260423T150321
CREATED:20220701T164915Z
LAST-MODIFIED:20220915T185752Z
UID:10024371-1670145300-1670154300@ohavizedek.org
SUMMARY:Hebrew School
DESCRIPTION:9:15 am- 11:45 am: OZHS classes\n 
URL:https://ohavizedek.org/event/hebrew-school-165/
LOCATION:Ohavi Zedek Synagogue\, 188 North Prospect Street\, Burlington\, VT\, 05401\, United States
CATEGORIES:Hebrew School
GEO:44.486379;-73.201175
X-APPLE-STRUCTURED-LOCATION;VALUE=URI;X-ADDRESS=Ohavi Zedek Synagogue 188 North Prospect Street Burlington VT 05401 United States;X-APPLE-RADIUS=500;X-TITLE=188 North Prospect Street:geo:-73.201175,44.486379
END:VEVENT
BEGIN:VEVENT
DTSTART;TZID=America/New_York:20221204T093000
DTEND;TZID=America/New_York:20221204T113000
DTSTAMP:20260423T150321
CREATED:20220915T185835Z
LAST-MODIFIED:20221202T183927Z
UID:10025520-1670146200-1670153400@ohavizedek.org
SUMMARY:Congregational Meeting
DESCRIPTION:Please join us for our congregational meeting. This meeting will be hybrid. Come in person for a light nosh at 9:00 AM! Childcare will be provided (please let us know your childcare needs in advance). \nThe meeting will be held from 9:30 AM- 11:30 AM. \n\nThe agenda for the upcoming meeting can be accessed by clicking here.\nThe Board’s nominees for open Board seats can be accessed by clicking here.\n​​​​​​​The Treasurer’s Report can be accessed by clicking here.\n​​​​​​​The June 6\, 2022 meeting minutes can be accessed by clicking here.
URL:https://ohavizedek.org/event/congregational-meeting-15/
LOCATION:Ohavi Zedek Synagogue\, 188 North Prospect Street\, Burlington\, VT\, 05401\, United States
ATTACH;FMTTYPE=image/png:https://ohavizedek.org/wp-content/uploads/2022/12/Congregational-Meeting.png
GEO:44.486379;-73.201175
X-APPLE-STRUCTURED-LOCATION;VALUE=URI;X-ADDRESS=Ohavi Zedek Synagogue 188 North Prospect Street Burlington VT 05401 United States;X-APPLE-RADIUS=500;X-TITLE=188 North Prospect Street:geo:-73.201175,44.486379
END:VEVENT
BEGIN:VEVENT
DTSTART;TZID=America/New_York:20221204T130000
DTEND;TZID=America/New_York:20221204T150000
DTSTAMP:20260423T150321
CREATED:20220310T182039Z
LAST-MODIFIED:20220312T005443Z
UID:10023686-1670158800-1670166000@ohavizedek.org
SUMMARY:iEngage
DESCRIPTION:This ongoing course follows the curriculum from the Shalom Hartman Institute\, “Foundations for a Thoughtful Judaism- Ethics Course”. Sessions allow all  to have access to deep Jewish thought\, and to grapple with philosophical questions at the heart of Jewish tradition. \nSunday afternoons 1:00 to 3:00 PM; contact Rabbi Amy if you are interested
URL:https://ohavizedek.org/event/iengage-study-series-from-the-hartman-institute-in-israel-led-by-rabbi-amy/2022-12-04/
LOCATION:Ohavi Zedek Synagogue\, 188 North Prospect Street\, Burlington\, VT\, 05401\, United States
GEO:44.486379;-73.201175
X-APPLE-STRUCTURED-LOCATION;VALUE=URI;X-ADDRESS=Ohavi Zedek Synagogue 188 North Prospect Street Burlington VT 05401 United States;X-APPLE-RADIUS=500;X-TITLE=188 North Prospect Street:geo:-73.201175,44.486379
END:VEVENT
BEGIN:VEVENT
DTSTART;TZID=America/New_York:20221204T140000
DTEND;TZID=America/New_York:20221204T160000
DTSTAMP:20260423T150321
CREATED:20221130T230809Z
LAST-MODIFIED:20230419T192824Z
UID:10025539-1670162400-1670169600@ohavizedek.org
SUMMARY:iEngage: Foundations for a Thoughtful Judaism led by Rabbi Amy
DESCRIPTION:iEngage is back! Please note\, classes have been moved from 1-3 PM\, to 2-4 PM on Sundays! \nThe class will briefly dive back into ethics. Participants may need to obtain resources. \nRegular attendance is not required\, but is preferred. \nThis class is Zoom only! \nSchedule: \n12/4 \n12/11 \nNo class: 12/18\, 12/25\, 1/1 \nClasses Resume 1/8 and will be held every Sunday unless the calendar states otherwise!
URL:https://ohavizedek.org/event/iengage-foundations-for-a-thoughtful-judaism-led-by-rabbi-amy/2022-12-04/
LOCATION:Ohavi Zedek Synagogue\, 188 North Prospect Street\, Burlington\, VT\, 05401\, United States
GEO:44.486379;-73.201175
X-APPLE-STRUCTURED-LOCATION;VALUE=URI;X-ADDRESS=Ohavi Zedek Synagogue 188 North Prospect Street Burlington VT 05401 United States;X-APPLE-RADIUS=500;X-TITLE=188 North Prospect Street:geo:-73.201175,44.486379
END:VEVENT
BEGIN:VEVENT
DTSTART;TZID=America/New_York:20221204T190000
DTEND;TZID=America/New_York:20221204T190000
DTSTAMP:20260423T150321
CREATED:20211206T162724Z
LAST-MODIFIED:20220310T183555Z
UID:10023436-1670180400-1670180400@ohavizedek.org
SUMMARY:Minyan
DESCRIPTION:Ohavi Zedek offers regular minyan services to meet the worship needs of our community and especially to aid those members of our community who are reciting Kaddish in memory of a recently deceased loved one or on a Yahrzeit. Services are held Sunday-Thursday evenings at 7:00. Ohavi Zedek’s minyan is traditional and egalitarian. Mincha and Maariv are recited at evening services when the services begin before dark\, only Ma’ariv is recited once we reach the point in the year when services start after dark.\nIf you are planning to attend a service to recite Kaddish please contact the OZ Office (office@ohavizedek.org) and let us know so the minyan captains can make sure there is a minyan present.
URL:https://ohavizedek.org/event/minyan-177/2022-12-04/
LOCATION:VT
END:VEVENT
BEGIN:VEVENT
DTSTART;TZID=America/New_York:20221204T190000
DTEND;TZID=America/New_York:20221204T190000
DTSTAMP:20260423T150321
CREATED:20220312T013606Z
LAST-MODIFIED:20220409T151623Z
UID:10024498-1670180400-1670180400@ohavizedek.org
SUMMARY:Minyan
DESCRIPTION:Ohavi Zedek offers regular minyan services to meet the worship needs of our community and especially to aid those members of our community who are reciting Kaddish in memory of a recently deceased loved one or on a Yahrzeit. Services are held Sunday-Thursday evenings at 7:00. Ohavi Zedek’s minyan is traditional and egalitarian. Mincha and Maariv are recited at evening services when the services begin before dark\, only Ma’ariv is recited once we reach the point in the year when services start after dark.\nIf you are planning to attend a service to recite Kaddish please contact the OZ Office (office@ohavizedek.org) and let us know so the minyan captains can make sure there is a minyan present.
URL:https://ohavizedek.org/event/minyan-193/2022-12-04/
LOCATION:Ohavi Zedek Synagogue\, 188 North Prospect Street\, Burlington\, VT\, 05401\, United States
CATEGORIES:Worship Services
GEO:44.486379;-73.201175
X-APPLE-STRUCTURED-LOCATION;VALUE=URI;X-ADDRESS=Ohavi Zedek Synagogue 188 North Prospect Street Burlington VT 05401 United States;X-APPLE-RADIUS=500;X-TITLE=188 North Prospect Street:geo:-73.201175,44.486379
END:VEVENT
BEGIN:VEVENT
DTSTART;TZID=America/New_York:20221204T190000
DTEND;TZID=America/New_York:20221204T193000
DTSTAMP:20260423T150321
CREATED:20220504T142025Z
LAST-MODIFIED:20221219T213254Z
UID:10023964-1670180400-1670182200@ohavizedek.org
SUMMARY:Minyan
DESCRIPTION:Ohavi Zedek offers regular minyan services to meet the worship needs of our community and especially to aid those members of our community who are reciting Kaddish in memory of a recently deceased loved one or on a Yahrzeit. Services are held Sunday-Thursday evenings at 7:00. Ohavi Zedek’s minyan is traditional and egalitarian. Mincha and Maariv are recited at evening services when the services begin before dark\, only Ma’ariv is recited once we reach the point in the year when services start after dark. \nIf you are planning to attend a service to recite Kaddish please fill out this form to let us know so we can make sure there is a minyan present. \n  \nZoom link is below under the heading ‘Website’. \nPlease make your full first and last name viewable on Zoom\, so we know who you are and can admit you.
URL:https://ohavizedek.org/event/minyan-220/2022-12-04/
LOCATION:Ohavi Zedek Synagogue\, 188 North Prospect Street\, Burlington\, VT\, 05401\, United States
CATEGORIES:Worship Services
ATTACH;FMTTYPE=image/png:https://ohavizedek.org/wp-content/uploads/2022/05/Minyan.png
GEO:44.486379;-73.201175
X-APPLE-STRUCTURED-LOCATION;VALUE=URI;X-ADDRESS=Ohavi Zedek Synagogue 188 North Prospect Street Burlington VT 05401 United States;X-APPLE-RADIUS=500;X-TITLE=188 North Prospect Street:geo:-73.201175,44.486379
END:VEVENT
BEGIN:VEVENT
DTSTART;TZID=America/New_York:20221204T190000
DTEND;TZID=America/New_York:20221205T190000
DTSTAMP:20260423T150321
CREATED:20220312T013654Z
LAST-MODIFIED:20220514T234452Z
UID:10024786-1670180400-1670266800@ohavizedek.org
SUMMARY:Minyan
DESCRIPTION:Ohavi Zedek offers regular minyan services to meet the worship needs of our community and especially to aid those members of our community who are reciting Kaddish in memory of a recently deceased loved one or on a Yahrzeit. Services are held Sunday-Thursday evenings at 7:00. Ohavi Zedek’s minyan is traditional and egalitarian. Mincha and Maariv are recited at evening services when the services begin before dark\, only Ma’ariv is recited once we reach the point in the year when services start after dark.\nIf you are planning to attend a service to recite Kaddish please contact Cantor Steve to let us know so we can make sure there is a minyan present.
URL:https://ohavizedek.org/event/minyan-215/2022-12-04/
LOCATION:Ohavi Zedek Synagogue\, 188 North Prospect Street\, Burlington\, VT\, 05401\, United States
CATEGORIES:Worship Services
GEO:44.486379;-73.201175
X-APPLE-STRUCTURED-LOCATION;VALUE=URI;X-ADDRESS=Ohavi Zedek Synagogue 188 North Prospect Street Burlington VT 05401 United States;X-APPLE-RADIUS=500;X-TITLE=188 North Prospect Street:geo:-73.201175,44.486379
END:VEVENT
END:VCALENDAR