BEGIN:VCALENDAR
VERSION:2.0
PRODID:-//Ohavi Zedek Synagogue - ECPv6.15.17.1//NONSGML v1.0//EN
CALSCALE:GREGORIAN
METHOD:PUBLISH
X-WR-CALNAME:Ohavi Zedek Synagogue
X-ORIGINAL-URL:https://ohavizedek.org
X-WR-CALDESC:Events for Ohavi Zedek Synagogue
REFRESH-INTERVAL;VALUE=DURATION:PT1H
X-Robots-Tag:noindex
X-PUBLISHED-TTL:PT1H
BEGIN:VTIMEZONE
TZID:America/New_York
BEGIN:DAYLIGHT
TZOFFSETFROM:-0500
TZOFFSETTO:-0400
TZNAME:EDT
DTSTART:20220313T070000
END:DAYLIGHT
BEGIN:STANDARD
TZOFFSETFROM:-0400
TZOFFSETTO:-0500
TZNAME:EST
DTSTART:20221106T060000
END:STANDARD
BEGIN:DAYLIGHT
TZOFFSETFROM:-0500
TZOFFSETTO:-0400
TZNAME:EDT
DTSTART:20230312T070000
END:DAYLIGHT
BEGIN:STANDARD
TZOFFSETFROM:-0400
TZOFFSETTO:-0500
TZNAME:EST
DTSTART:20231105T060000
END:STANDARD
BEGIN:DAYLIGHT
TZOFFSETFROM:-0500
TZOFFSETTO:-0400
TZNAME:EDT
DTSTART:20240310T070000
END:DAYLIGHT
BEGIN:STANDARD
TZOFFSETFROM:-0400
TZOFFSETTO:-0500
TZNAME:EST
DTSTART:20241103T060000
END:STANDARD
END:VTIMEZONE
BEGIN:VEVENT
DTSTART;TZID=America/New_York:20230402T091500
DTEND;TZID=America/New_York:20230402T111500
DTSTAMP:20260422T100500
CREATED:20230308T214102Z
LAST-MODIFIED:20230331T154528Z
UID:10025825-1680426900-1680434100@ohavizedek.org
SUMMARY:OZHS Family Passover Event
DESCRIPTION:Round-robin of Passover themed activities and singing for OZ’s Hebrew School families! \nOur full passover schedule is here.
URL:https://ohavizedek.org/event/family-passover-event/
LOCATION:Ohavi Zedek Synagogue\, 188 North Prospect Street\, Burlington\, VT\, 05401\, United States
CATEGORIES:Hebrew School
GEO:44.486379;-73.201175
X-APPLE-STRUCTURED-LOCATION;VALUE=URI;X-ADDRESS=Ohavi Zedek Synagogue 188 North Prospect Street Burlington VT 05401 United States;X-APPLE-RADIUS=500;X-TITLE=188 North Prospect Street:geo:-73.201175,44.486379
END:VEVENT
BEGIN:VEVENT
DTSTART;TZID=America/New_York:20230402T091500
DTEND;TZID=America/New_York:20230402T114500
DTSTAMP:20260422T100500
CREATED:20220705T174405Z
LAST-MODIFIED:20220705T175450Z
UID:10025173-1680426900-1680435900@ohavizedek.org
SUMMARY:Hebrew School- Passover Event
DESCRIPTION:9:15 am- 11:00 am: OZHS classes\n11:00 am- 11:45 am: Passover event
URL:https://ohavizedek.org/event/hebrew-school-passover-event/
LOCATION:Ohavi Zedek Synagogue\, 188 North Prospect Street\, Burlington\, VT\, 05401\, United States
CATEGORIES:Hebrew School
GEO:44.486379;-73.201175
X-APPLE-STRUCTURED-LOCATION;VALUE=URI;X-ADDRESS=Ohavi Zedek Synagogue 188 North Prospect Street Burlington VT 05401 United States;X-APPLE-RADIUS=500;X-TITLE=188 North Prospect Street:geo:-73.201175,44.486379
END:VEVENT
BEGIN:VEVENT
DTSTART;TZID=America/New_York:20230402T130000
DTEND;TZID=America/New_York:20230402T150000
DTSTAMP:20260422T100500
CREATED:20220310T182039Z
LAST-MODIFIED:20220312T005443Z
UID:10023703-1680440400-1680447600@ohavizedek.org
SUMMARY:iEngage
DESCRIPTION:This ongoing course follows the curriculum from the Shalom Hartman Institute\, “Foundations for a Thoughtful Judaism- Ethics Course”. Sessions allow all  to have access to deep Jewish thought\, and to grapple with philosophical questions at the heart of Jewish tradition. \nSunday afternoons 1:00 to 3:00 PM; contact Rabbi Amy if you are interested
URL:https://ohavizedek.org/event/iengage-study-series-from-the-hartman-institute-in-israel-led-by-rabbi-amy/2023-04-02/
LOCATION:Ohavi Zedek Synagogue\, 188 North Prospect Street\, Burlington\, VT\, 05401\, United States
GEO:44.486379;-73.201175
X-APPLE-STRUCTURED-LOCATION;VALUE=URI;X-ADDRESS=Ohavi Zedek Synagogue 188 North Prospect Street Burlington VT 05401 United States;X-APPLE-RADIUS=500;X-TITLE=188 North Prospect Street:geo:-73.201175,44.486379
END:VEVENT
BEGIN:VEVENT
DTSTART;TZID=America/New_York:20230402T140000
DTEND;TZID=America/New_York:20230402T160000
DTSTAMP:20260422T100500
CREATED:20221130T230809Z
LAST-MODIFIED:20230328T151929Z
UID:10025559-1680444000-1680451200@ohavizedek.org
SUMMARY:iEngage: Foundations for a Thoughtful Judaism led by Rabbi Amy- CANCELLED
DESCRIPTION:iEngage is back! Please note\, classes have been moved from 1-3 PM\, to 2-4 PM on Sundays! \nThe class will briefly dive back into ethics. Participants may need to obtain resources. \nRegular attendance is not required\, but is preferred. \nThis class is Zoom only! \nSchedule: \n12/4 \n12/11 \nNo class: 12/18\, 12/25\, 1/1 \nClasses Resume 1/8 and will be held every Sunday unless the calendar states otherwise!
URL:https://ohavizedek.org/event/iengage-foundations-for-a-thoughtful-judaism-led-by-rabbi-amy-2023-04-02/
LOCATION:Ohavi Zedek Synagogue\, 188 North Prospect Street\, Burlington\, VT\, 05401\, United States
GEO:44.486379;-73.201175
X-APPLE-STRUCTURED-LOCATION;VALUE=URI;X-ADDRESS=Ohavi Zedek Synagogue 188 North Prospect Street Burlington VT 05401 United States;X-APPLE-RADIUS=500;X-TITLE=188 North Prospect Street:geo:-73.201175,44.486379
END:VEVENT
BEGIN:VEVENT
DTSTART;TZID=America/New_York:20230402T140000
DTEND;TZID=America/New_York:20230402T170000
DTSTAMP:20260422T100500
CREATED:20230328T152020Z
LAST-MODIFIED:20230330T171103Z
UID:10025838-1680444000-1680454800@ohavizedek.org
SUMMARY:Funeral for Miriam Samuelson
DESCRIPTION:Graveside funeral at Hebrew Holy Society Cemetery on Patchen Road \n 
URL:https://ohavizedek.org/event/funeral-for-miriam-samuelson/
LOCATION:Ohavi Zedek Synagogue\, 188 North Prospect Street\, Burlington\, VT\, 05401\, United States
GEO:44.486379;-73.201175
X-APPLE-STRUCTURED-LOCATION;VALUE=URI;X-ADDRESS=Ohavi Zedek Synagogue 188 North Prospect Street Burlington VT 05401 United States;X-APPLE-RADIUS=500;X-TITLE=188 North Prospect Street:geo:-73.201175,44.486379
END:VEVENT
BEGIN:VEVENT
DTSTART;TZID=America/New_York:20230402T190000
DTEND;TZID=America/New_York:20230402T190000
DTSTAMP:20260422T100500
CREATED:20211206T162724Z
LAST-MODIFIED:20220310T183555Z
UID:10023453-1680462000-1680462000@ohavizedek.org
SUMMARY:Minyan
DESCRIPTION:Ohavi Zedek offers regular minyan services to meet the worship needs of our community and especially to aid those members of our community who are reciting Kaddish in memory of a recently deceased loved one or on a Yahrzeit. Services are held Sunday-Thursday evenings at 7:00. Ohavi Zedek’s minyan is traditional and egalitarian. Mincha and Maariv are recited at evening services when the services begin before dark\, only Ma’ariv is recited once we reach the point in the year when services start after dark.\nIf you are planning to attend a service to recite Kaddish please contact the OZ Office (office@ohavizedek.org) and let us know so the minyan captains can make sure there is a minyan present.
URL:https://ohavizedek.org/event/minyan-177/2023-04-02/
LOCATION:VT
END:VEVENT
BEGIN:VEVENT
DTSTART;TZID=America/New_York:20230402T190000
DTEND;TZID=America/New_York:20230402T190000
DTSTAMP:20260422T100500
CREATED:20220312T013606Z
LAST-MODIFIED:20220409T151623Z
UID:10024515-1680462000-1680462000@ohavizedek.org
SUMMARY:Minyan
DESCRIPTION:Ohavi Zedek offers regular minyan services to meet the worship needs of our community and especially to aid those members of our community who are reciting Kaddish in memory of a recently deceased loved one or on a Yahrzeit. Services are held Sunday-Thursday evenings at 7:00. Ohavi Zedek’s minyan is traditional and egalitarian. Mincha and Maariv are recited at evening services when the services begin before dark\, only Ma’ariv is recited once we reach the point in the year when services start after dark.\nIf you are planning to attend a service to recite Kaddish please contact the OZ Office (office@ohavizedek.org) and let us know so the minyan captains can make sure there is a minyan present.
URL:https://ohavizedek.org/event/minyan-193/2023-04-02/
LOCATION:Ohavi Zedek Synagogue\, 188 North Prospect Street\, Burlington\, VT\, 05401\, United States
CATEGORIES:Worship Services
GEO:44.486379;-73.201175
X-APPLE-STRUCTURED-LOCATION;VALUE=URI;X-ADDRESS=Ohavi Zedek Synagogue 188 North Prospect Street Burlington VT 05401 United States;X-APPLE-RADIUS=500;X-TITLE=188 North Prospect Street:geo:-73.201175,44.486379
END:VEVENT
BEGIN:VEVENT
DTSTART;TZID=America/New_York:20230402T190000
DTEND;TZID=America/New_York:20230403T190000
DTSTAMP:20260422T100500
CREATED:20220312T013654Z
LAST-MODIFIED:20220514T234452Z
UID:10024803-1680462000-1680548400@ohavizedek.org
SUMMARY:Minyan
DESCRIPTION:Ohavi Zedek offers regular minyan services to meet the worship needs of our community and especially to aid those members of our community who are reciting Kaddish in memory of a recently deceased loved one or on a Yahrzeit. Services are held Sunday-Thursday evenings at 7:00. Ohavi Zedek’s minyan is traditional and egalitarian. Mincha and Maariv are recited at evening services when the services begin before dark\, only Ma’ariv is recited once we reach the point in the year when services start after dark.\nIf you are planning to attend a service to recite Kaddish please contact Cantor Steve to let us know so we can make sure there is a minyan present.
URL:https://ohavizedek.org/event/minyan-215/2023-04-02/
LOCATION:Ohavi Zedek Synagogue\, 188 North Prospect Street\, Burlington\, VT\, 05401\, United States
CATEGORIES:Worship Services
GEO:44.486379;-73.201175
X-APPLE-STRUCTURED-LOCATION;VALUE=URI;X-ADDRESS=Ohavi Zedek Synagogue 188 North Prospect Street Burlington VT 05401 United States;X-APPLE-RADIUS=500;X-TITLE=188 North Prospect Street:geo:-73.201175,44.486379
END:VEVENT
END:VCALENDAR