BEGIN:VCALENDAR
VERSION:2.0
PRODID:-//Ohavi Zedek Synagogue - ECPv6.15.17.1//NONSGML v1.0//EN
CALSCALE:GREGORIAN
METHOD:PUBLISH
X-WR-CALNAME:Ohavi Zedek Synagogue
X-ORIGINAL-URL:https://ohavizedek.org
X-WR-CALDESC:Events for Ohavi Zedek Synagogue
REFRESH-INTERVAL;VALUE=DURATION:PT1H
X-Robots-Tag:noindex
X-PUBLISHED-TTL:PT1H
BEGIN:VTIMEZONE
TZID:America/New_York
BEGIN:DAYLIGHT
TZOFFSETFROM:-0500
TZOFFSETTO:-0400
TZNAME:EDT
DTSTART:20220313T070000
END:DAYLIGHT
BEGIN:STANDARD
TZOFFSETFROM:-0400
TZOFFSETTO:-0500
TZNAME:EST
DTSTART:20221106T060000
END:STANDARD
BEGIN:DAYLIGHT
TZOFFSETFROM:-0500
TZOFFSETTO:-0400
TZNAME:EDT
DTSTART:20230312T070000
END:DAYLIGHT
BEGIN:STANDARD
TZOFFSETFROM:-0400
TZOFFSETTO:-0500
TZNAME:EST
DTSTART:20231105T060000
END:STANDARD
BEGIN:DAYLIGHT
TZOFFSETFROM:-0500
TZOFFSETTO:-0400
TZNAME:EDT
DTSTART:20240310T070000
END:DAYLIGHT
BEGIN:STANDARD
TZOFFSETFROM:-0400
TZOFFSETTO:-0500
TZNAME:EST
DTSTART:20241103T060000
END:STANDARD
END:VTIMEZONE
BEGIN:VEVENT
DTSTART;TZID=America/New_York:20231119T130000
DTEND;TZID=America/New_York:20231119T150000
DTSTAMP:20260422T085823
CREATED:20220310T182039Z
LAST-MODIFIED:20220312T005443Z
UID:10023736-1700398800-1700406000@ohavizedek.org
SUMMARY:iEngage
DESCRIPTION:This ongoing course follows the curriculum from the Shalom Hartman Institute\, “Foundations for a Thoughtful Judaism- Ethics Course”. Sessions allow all  to have access to deep Jewish thought\, and to grapple with philosophical questions at the heart of Jewish tradition. \nSunday afternoons 1:00 to 3:00 PM; contact Rabbi Amy if you are interested
URL:https://ohavizedek.org/event/iengage-study-series-from-the-hartman-institute-in-israel-led-by-rabbi-amy/2023-11-19/
LOCATION:Ohavi Zedek Synagogue\, 188 North Prospect Street\, Burlington\, VT\, 05401\, United States
GEO:44.486379;-73.201175
X-APPLE-STRUCTURED-LOCATION;VALUE=URI;X-ADDRESS=Ohavi Zedek Synagogue 188 North Prospect Street Burlington VT 05401 United States;X-APPLE-RADIUS=500;X-TITLE=188 North Prospect Street:geo:-73.201175,44.486379
END:VEVENT
BEGIN:VEVENT
DTSTART;TZID=America/New_York:20231119T173000
DTEND;TZID=America/New_York:20231119T193000
DTSTAMP:20260422T085823
CREATED:20230823T164326Z
LAST-MODIFIED:20231026T153220Z
UID:10025269-1700415000-1700422200@ohavizedek.org
SUMMARY:Hadassah Film Viewing of "Havah Negila" Followed by Israeli Dancing
DESCRIPTION:Join Hadassah as they is host viewing of the film Havah Negilah on Sunday November 19 at 5:30 pm. \nThe viewing will be followed by Israeli dancing led by Mitch Miller at 7:30pm. \nLight food will be provided by our event hosts Hadassah. \nThis event is free and donations on site are welcome. \nClick Here to Register \n  \n 
URL:https://ohavizedek.org/event/hadassah-film-viewing-of-havah-negilah-followinged-by-israeli-dancing/
LOCATION:Ohavi Zedek Synagogue\, 188 North Prospect Street\, Burlington\, VT\, 05401\, United States
CATEGORIES:Community Events,Non-OZ Event
GEO:44.486379;-73.201175
X-APPLE-STRUCTURED-LOCATION;VALUE=URI;X-ADDRESS=Ohavi Zedek Synagogue 188 North Prospect Street Burlington VT 05401 United States;X-APPLE-RADIUS=500;X-TITLE=188 North Prospect Street:geo:-73.201175,44.486379
END:VEVENT
BEGIN:VEVENT
DTSTART;TZID=America/New_York:20231119T190000
DTEND;TZID=America/New_York:20231119T190000
DTSTAMP:20260422T085823
CREATED:20211206T162724Z
LAST-MODIFIED:20220310T183555Z
UID:10023486-1700420400-1700420400@ohavizedek.org
SUMMARY:Minyan
DESCRIPTION:Ohavi Zedek offers regular minyan services to meet the worship needs of our community and especially to aid those members of our community who are reciting Kaddish in memory of a recently deceased loved one or on a Yahrzeit. Services are held Sunday-Thursday evenings at 7:00. Ohavi Zedek’s minyan is traditional and egalitarian. Mincha and Maariv are recited at evening services when the services begin before dark\, only Ma’ariv is recited once we reach the point in the year when services start after dark.\nIf you are planning to attend a service to recite Kaddish please contact the OZ Office (office@ohavizedek.org) and let us know so the minyan captains can make sure there is a minyan present.
URL:https://ohavizedek.org/event/minyan-177/2023-11-19/
LOCATION:VT
END:VEVENT
BEGIN:VEVENT
DTSTART;TZID=America/New_York:20231119T190000
DTEND;TZID=America/New_York:20231119T190000
DTSTAMP:20260422T085823
CREATED:20220312T013606Z
LAST-MODIFIED:20220409T151623Z
UID:10024548-1700420400-1700420400@ohavizedek.org
SUMMARY:Minyan
DESCRIPTION:Ohavi Zedek offers regular minyan services to meet the worship needs of our community and especially to aid those members of our community who are reciting Kaddish in memory of a recently deceased loved one or on a Yahrzeit. Services are held Sunday-Thursday evenings at 7:00. Ohavi Zedek’s minyan is traditional and egalitarian. Mincha and Maariv are recited at evening services when the services begin before dark\, only Ma’ariv is recited once we reach the point in the year when services start after dark.\nIf you are planning to attend a service to recite Kaddish please contact the OZ Office (office@ohavizedek.org) and let us know so the minyan captains can make sure there is a minyan present.
URL:https://ohavizedek.org/event/minyan-193/2023-11-19/
LOCATION:Ohavi Zedek Synagogue\, 188 North Prospect Street\, Burlington\, VT\, 05401\, United States
CATEGORIES:Worship Services
GEO:44.486379;-73.201175
X-APPLE-STRUCTURED-LOCATION;VALUE=URI;X-ADDRESS=Ohavi Zedek Synagogue 188 North Prospect Street Burlington VT 05401 United States;X-APPLE-RADIUS=500;X-TITLE=188 North Prospect Street:geo:-73.201175,44.486379
END:VEVENT
BEGIN:VEVENT
DTSTART;TZID=America/New_York:20231119T190000
DTEND;TZID=America/New_York:20231120T190000
DTSTAMP:20260422T085823
CREATED:20220312T013654Z
LAST-MODIFIED:20220514T234452Z
UID:10024836-1700420400-1700506800@ohavizedek.org
SUMMARY:Minyan
DESCRIPTION:Ohavi Zedek offers regular minyan services to meet the worship needs of our community and especially to aid those members of our community who are reciting Kaddish in memory of a recently deceased loved one or on a Yahrzeit. Services are held Sunday-Thursday evenings at 7:00. Ohavi Zedek’s minyan is traditional and egalitarian. Mincha and Maariv are recited at evening services when the services begin before dark\, only Ma’ariv is recited once we reach the point in the year when services start after dark.\nIf you are planning to attend a service to recite Kaddish please contact Cantor Steve to let us know so we can make sure there is a minyan present.
URL:https://ohavizedek.org/event/minyan-215/2023-11-19/
LOCATION:Ohavi Zedek Synagogue\, 188 North Prospect Street\, Burlington\, VT\, 05401\, United States
CATEGORIES:Worship Services
GEO:44.486379;-73.201175
X-APPLE-STRUCTURED-LOCATION;VALUE=URI;X-ADDRESS=Ohavi Zedek Synagogue 188 North Prospect Street Burlington VT 05401 United States;X-APPLE-RADIUS=500;X-TITLE=188 North Prospect Street:geo:-73.201175,44.486379
END:VEVENT
BEGIN:VEVENT
DTSTART;TZID=America/New_York:20231119T193000
DTEND;TZID=America/New_York:20231119T210000
DTSTAMP:20260422T085823
CREATED:20230913T001340Z
LAST-MODIFIED:20231021T204245Z
UID:10025964-1700422200-1700427600@ohavizedek.org
SUMMARY:Israeli Dancing
DESCRIPTION:Israeli folkdance is a joyous folk art form that is easy to start and difficult to stop. It draws from many cultures and expresses itself in dances that range in complexity and speed. See this article for more information. \nJoin hosts Adele\, Lani and Mitch and a friendly friendly group of people that gathers periodically on Zoom or in person to enjoy the folkdances of Israel! \nWe mostly dance around a circle so no partner is required and have a large repertoire of beginner-friendly dances. New dancers are encouraged to come at the beginning of the session to benefit from instruction.  Please wear shoes with clean soles. \nThis program is free with an optional donation. \nRegister Here
URL:https://ohavizedek.org/event/israeli-dancing-12/2023-11-19/
LOCATION:Ohavi Zedek Synagogue\, 188 North Prospect Street\, Burlington\, VT\, 05401\, United States
CATEGORIES:Adult Learning,Community Events
GEO:44.486379;-73.201175
X-APPLE-STRUCTURED-LOCATION;VALUE=URI;X-ADDRESS=Ohavi Zedek Synagogue 188 North Prospect Street Burlington VT 05401 United States;X-APPLE-RADIUS=500;X-TITLE=188 North Prospect Street:geo:-73.201175,44.486379
END:VEVENT
END:VCALENDAR