BEGIN:VCALENDAR
VERSION:2.0
PRODID:-//Ohavi Zedek Synagogue - ECPv6.15.17.1//NONSGML v1.0//EN
CALSCALE:GREGORIAN
METHOD:PUBLISH
X-WR-CALNAME:Ohavi Zedek Synagogue
X-ORIGINAL-URL:https://ohavizedek.org
X-WR-CALDESC:Events for Ohavi Zedek Synagogue
REFRESH-INTERVAL;VALUE=DURATION:PT1H
X-Robots-Tag:noindex
X-PUBLISHED-TTL:PT1H
BEGIN:VTIMEZONE
TZID:America/New_York
BEGIN:DAYLIGHT
TZOFFSETFROM:-0500
TZOFFSETTO:-0400
TZNAME:EDT
DTSTART:20230312T070000
END:DAYLIGHT
BEGIN:STANDARD
TZOFFSETFROM:-0400
TZOFFSETTO:-0500
TZNAME:EST
DTSTART:20231105T060000
END:STANDARD
BEGIN:DAYLIGHT
TZOFFSETFROM:-0500
TZOFFSETTO:-0400
TZNAME:EDT
DTSTART:20240310T070000
END:DAYLIGHT
BEGIN:STANDARD
TZOFFSETFROM:-0400
TZOFFSETTO:-0500
TZNAME:EST
DTSTART:20241103T060000
END:STANDARD
BEGIN:DAYLIGHT
TZOFFSETFROM:-0500
TZOFFSETTO:-0400
TZNAME:EDT
DTSTART:20250309T070000
END:DAYLIGHT
BEGIN:STANDARD
TZOFFSETFROM:-0400
TZOFFSETTO:-0500
TZNAME:EST
DTSTART:20251102T060000
END:STANDARD
END:VTIMEZONE
BEGIN:VEVENT
DTSTART;TZID=America/New_York:20240602T100000
DTEND;TZID=America/New_York:20240602T160000
DTSTAMP:20260422T214204
CREATED:20240528T182155Z
LAST-MODIFIED:20240530T164913Z
UID:10027396-1717322400-1717344000@ohavizedek.org
SUMMARY:Shalom Shuk Spring Sale 2024
DESCRIPTION:The Shalom Shuk thrift store is holding its spring sale event\, Sunday June 2 from 10 am to 4pm. \nGreat deals to be had!
URL:https://ohavizedek.org/event/shalom-shuk-spring-sale-2024/
LOCATION:Shalom Shuk\, 188 North Prospect Street\, Burlington\, VT\, 05401\, United States
CATEGORIES:Community Events
END:VEVENT
BEGIN:VEVENT
DTSTART;TZID=America/New_York:20240602T110000
DTEND;TZID=America/New_York:20240602T140000
DTSTAMP:20260422T214204
CREATED:20240509T194318Z
LAST-MODIFIED:20240515T152015Z
UID:10026960-1717326000-1717336800@ohavizedek.org
SUMMARY:Spring Trails & Gardens Clean Up
DESCRIPTION:We’re excited to expand on our annual tradition of getting together for a spring work day. Community members of all ages are invited!\nRSVP Here \nSpring Trails & Gardens Clean Up\nIt’s time for our annual spring gathering!  Let’s get together and improve the woods trails\, story walk\, gardens and outdoor spaces.  Please bring rakes\, gloves\, long pants\, etc. \nPlease join!
URL:https://ohavizedek.org/event/spring-trails-gardens-clean-up/
LOCATION:Ohavi Zedek Synagogue\, 188 North Prospect Street\, Burlington\, VT\, 05401\, United States
ATTACH;FMTTYPE=image/png:https://ohavizedek.org/wp-content/uploads/2022/04/Trail-Garden-Clean-Up-4-e1715720713739.png
GEO:44.486379;-73.201175
X-APPLE-STRUCTURED-LOCATION;VALUE=URI;X-ADDRESS=Ohavi Zedek Synagogue 188 North Prospect Street Burlington VT 05401 United States;X-APPLE-RADIUS=500;X-TITLE=188 North Prospect Street:geo:-73.201175,44.486379
END:VEVENT
BEGIN:VEVENT
DTSTART;TZID=America/New_York:20240602T190000
DTEND;TZID=America/New_York:20240602T193000
DTSTAMP:20260422T214204
CREATED:20231212T190239Z
LAST-MODIFIED:20241023T180439Z
UID:10026237-1717354800-1717356600@ohavizedek.org
SUMMARY:Minyan (Online)
DESCRIPTION:Ohavi Zedek offers regular minyan services to meet the worship needs of our community and especially to aid those members of our community who are reciting Kaddish in memory of a recently deceased loved one or on a Yahrzeit. Services are held Sunday-Thursday evenings at 7:00 on Zoom. Ohavi Zedek’s minyan is traditional and egalitarian. Mincha and Maariv are recited at evening services when the services begin before dark\, only Ma’ariv is recited once we reach the point in the year when services start after dark. \nIf you are planning to attend a service to recite Kaddish please fill out this form to let us know so we can make sure there is a minyan present. \nClick here to access the Weekday Siddur Lev Shalem used during our evening Minyan services. \nZoom link is below under the heading ‘Website’. \nPlease make your full first and last name viewable on Zoom\, so we know who you are and can admit you.
URL:https://ohavizedek.org/event/minyan-225/2024-06-02/
LOCATION:Zoom
CATEGORIES:Minyan,Worship Services
ATTACH;FMTTYPE=image/png:https://ohavizedek.org/wp-content/uploads/2023/10/Minyan.png
END:VEVENT
END:VCALENDAR