BEGIN:VCALENDAR
VERSION:2.0
PRODID:-//Ohavi Zedek Synagogue - ECPv6.15.17.1//NONSGML v1.0//EN
CALSCALE:GREGORIAN
METHOD:PUBLISH
X-WR-CALNAME:Ohavi Zedek Synagogue
X-ORIGINAL-URL:https://ohavizedek.org
X-WR-CALDESC:Events for Ohavi Zedek Synagogue
REFRESH-INTERVAL;VALUE=DURATION:PT1H
X-Robots-Tag:noindex
X-PUBLISHED-TTL:PT1H
BEGIN:VTIMEZONE
TZID:America/New_York
BEGIN:DAYLIGHT
TZOFFSETFROM:-0500
TZOFFSETTO:-0400
TZNAME:EDT
DTSTART:20230312T070000
END:DAYLIGHT
BEGIN:STANDARD
TZOFFSETFROM:-0400
TZOFFSETTO:-0500
TZNAME:EST
DTSTART:20231105T060000
END:STANDARD
BEGIN:DAYLIGHT
TZOFFSETFROM:-0500
TZOFFSETTO:-0400
TZNAME:EDT
DTSTART:20240310T070000
END:DAYLIGHT
BEGIN:STANDARD
TZOFFSETFROM:-0400
TZOFFSETTO:-0500
TZNAME:EST
DTSTART:20241103T060000
END:STANDARD
BEGIN:DAYLIGHT
TZOFFSETFROM:-0500
TZOFFSETTO:-0400
TZNAME:EDT
DTSTART:20250309T070000
END:DAYLIGHT
BEGIN:STANDARD
TZOFFSETFROM:-0400
TZOFFSETTO:-0500
TZNAME:EST
DTSTART:20251102T060000
END:STANDARD
END:VTIMEZONE
BEGIN:VEVENT
DTSTART;TZID=America/New_York:20240920T170000
DTEND;TZID=America/New_York:20240920T173000
DTSTAMP:20260424T063900
CREATED:20240617T145016Z
LAST-MODIFIED:20240919T185232Z
UID:10027439-1726851600-1726853400@ohavizedek.org
SUMMARY:Tot Shabbat
DESCRIPTION:Come sing\, clap\, and dance your way into Shabbat with your baby\, toddler\, or preschooler! And don’t forget a vegetarian dish to share! \n(No tree nuts or peanuts please!) \nIf you’re busy and can’t bring a dish\, please come anyway.  If you can bring extra food\, please do.
URL:https://ohavizedek.org/event/tot-shabbat-5/
LOCATION:Ohavi Zedek Synagogue\, 188 North Prospect Street\, Burlington\, VT\, 05401\, United States
CATEGORIES:Community Events,Full Circle Preschool,Worship Services,Young Family Programming
ATTACH;FMTTYPE=image/gif:https://ohavizedek.org/wp-content/uploads/2022/09/TOT-2.gif
GEO:44.486379;-73.201175
X-APPLE-STRUCTURED-LOCATION;VALUE=URI;X-ADDRESS=Ohavi Zedek Synagogue 188 North Prospect Street Burlington VT 05401 United States;X-APPLE-RADIUS=500;X-TITLE=188 North Prospect Street:geo:-73.201175,44.486379
END:VEVENT
BEGIN:VEVENT
DTSTART;TZID=America/New_York:20240920T180000
DTEND;TZID=America/New_York:20240920T193000
DTSTAMP:20260424T063900
CREATED:20231212T184743Z
LAST-MODIFIED:20241029T185513Z
UID:10026061-1726855200-1726860600@ohavizedek.org
SUMMARY:Kabbalat Shabbat
DESCRIPTION:Join Rabbi Aaron for a joyful\, instrumental Friday Night service. \nJoin in-person or on Zoom (link below). \nJoining by Zoom?  Please make your full first and last name viewable on Zoom\, so we know who you are and can admit you.
URL:https://ohavizedek.org/event/kabbalat-shabbat-61-11/2024-09-20/
LOCATION:Ohavi Zedek Synagogue\, 188 North Prospect Street\, Burlington\, VT\, 05401\, United States
CATEGORIES:Worship Services
ATTACH;FMTTYPE=image/jpeg:https://ohavizedek.org/wp-content/uploads/2023/12/kshabbat-2.jpg
GEO:44.486379;-73.201175
X-APPLE-STRUCTURED-LOCATION;VALUE=URI;X-ADDRESS=Ohavi Zedek Synagogue 188 North Prospect Street Burlington VT 05401 United States;X-APPLE-RADIUS=500;X-TITLE=188 North Prospect Street:geo:-73.201175,44.486379
END:VEVENT
END:VCALENDAR