BEGIN:VCALENDAR
VERSION:2.0
PRODID:-//Ohavi Zedek Synagogue - ECPv6.15.17.1//NONSGML v1.0//EN
CALSCALE:GREGORIAN
METHOD:PUBLISH
X-ORIGINAL-URL:https://ohavizedek.org
X-WR-CALDESC:Events for Ohavi Zedek Synagogue
REFRESH-INTERVAL;VALUE=DURATION:PT1H
X-Robots-Tag:noindex
X-PUBLISHED-TTL:PT1H
BEGIN:VTIMEZONE
TZID:America/New_York
BEGIN:DAYLIGHT
TZOFFSETFROM:-0500
TZOFFSETTO:-0400
TZNAME:EDT
DTSTART:20230312T070000
END:DAYLIGHT
BEGIN:STANDARD
TZOFFSETFROM:-0400
TZOFFSETTO:-0500
TZNAME:EST
DTSTART:20231105T060000
END:STANDARD
BEGIN:DAYLIGHT
TZOFFSETFROM:-0500
TZOFFSETTO:-0400
TZNAME:EDT
DTSTART:20240310T070000
END:DAYLIGHT
BEGIN:STANDARD
TZOFFSETFROM:-0400
TZOFFSETTO:-0500
TZNAME:EST
DTSTART:20241103T060000
END:STANDARD
BEGIN:DAYLIGHT
TZOFFSETFROM:-0500
TZOFFSETTO:-0400
TZNAME:EDT
DTSTART:20250309T070000
END:DAYLIGHT
BEGIN:STANDARD
TZOFFSETFROM:-0400
TZOFFSETTO:-0500
TZNAME:EST
DTSTART:20251102T060000
END:STANDARD
END:VTIMEZONE
BEGIN:VEVENT
DTSTART;TZID=America/New_York:20240926T120000
DTEND;TZID=America/New_York:20240926T131500
DTSTAMP:20260419T125147
CREATED:20240902T183323Z
LAST-MODIFIED:20240926T125621Z
UID:10028220-1727352000-1727356500@ohavizedek.org
SUMMARY:Lunch and Learn // A Storytelling Lunch Hour // Sept. 26\, 2024
DESCRIPTION:Please Register Here to Help Us Plan \n \nBefore turning to fiction writing\, Lenny Levine enjoyed a successful 20-year career as a recording studio singer and composer of many jingles\, such as McDonald’s\, Lipton Tea\, and Jeep. His stories have been widely published in literary magazines and journals\, and he received a Pushcart Prize nomination for short fiction. His mystery novels Diehard Fan and Death in the Jingle Jungle are available on Amazon and at Barnes and Noble. \nDavid Schein was lucky to go to Burlington High School in the mid-60s where he encountered writing teacher Gladys Colburn and theater teacher Margaret O’Brien whom he credits with setting him on his course. He spent many years in the San Francisco\, New York and Chicago theater and poetry scenes. David wrote for\, and performed and toured with Whoopi Goldberg as her star was rising. He lived in Tijuana\, where he wrote and recorded for NPR with performance artist\, Guillermo Gomez-Peña. He has worked extensively in Germany and Ethiopia — where\, with a troupe of street kids\, he founded One Love AIDS/HIV Awareness Theater. David is the author of three books\, published by Burlington’s own Fomite Press\, with another one\, STONES\, coming out soon. \nAbout OZ’s Lunch and Learns: \nIn-Person in Ohavi Zedek’s Social Hall. No Zoom unless conditions change. \nSpeakers cover a wide range of topics. A delicious lunch will be offered\, which is served promptly at NOON. The talks begin at about 12:15pm and end no later than 1:15pm (including some time for Q&A). \nSuggested cash contribution of $10 for food can be paid on the registration form or collected at the event — but feel free to give more or less. Please also consider sponsoring one or more Lunch & Learn to help cover expenses. Information on this is on the registration page. \nPlease Register Here to Help Us Plan \n2024-2025 Series of Lunch and Learn Talks: \n\nThursday\, September 26\, 2024: A Storytelling Lunch Hour. Readings by Lenny Levine & David Schein\nThursday\, November 21\, 2024: The Challenges Facing Caregivers. A talk by caregiver and author Alan Rubel.\nThursday\, December 19\, 2024: Bridges of Hope: Learning about Mental Health. A presentation by staff & volunteers with NAMI-Vermont\nThursday\, January 16\, 2025: Volunteering to Stop Human Trafficking in Vietnam. A talk by OZ member Sue Schein\n Thursday\, February 20\, 2025: Jewish Life & Antisemitism in Today’s Germany. A talk by UVM Professor of History & Holocaust Studies Alan Steinweis\n Thursday\, March 20\, 2025: Artists & the Holocaust: Documentation\, Memory\, Elegy. A visual presentation by former UVM Fleming Museum Director Janie Cohen\n Thursday\, April 24\, 2025: The Music of Terezin. A talk\, with music\, by composer Michael Schachter\n Thursday\, May 15\, 2025: Last Messages from the Dying. An exploration with End of Life Doula Sarah Villanueva\n\nDownload Our Lunch & Learn Brochure with Details on Each Talk \n\n	\n		\n	\n		0 events found.	\n	\n		\n	\n\n		\n	\n\n		\n	\n\n	\n\n\n		\n		\n\n		\n		\n\n	\n	Events\n\n	\n			\n			\n	\n		\n		\n		\n		\n	\n\n\n	Notice\n							\n					There were no results found.				\n					\n	\n\n	\n			\n			\n	\n		\n		\n		\n		\n	\n\n\n	Notice\n							\n					There were no results found.				\n					\n	\n\n	\n\n	\n		Events Search and Views Navigation	\n\n			\n	\n	\n\n	\n		Search	\n\n\n		\n			\n	\n		\n\n		\n			\n	\n		Enter Keyword. Search for Events by Keyword.	\n	\n	\n	\n\n\n		\n\n		\n	Find Events\n	\n\n		\n	\n	\n	\n		Event Views Navigation	\n	\n		\n			\n				\n	\n	\n		\n		\n	\n	\n			\n		\n	\n	\n		\n			\n		\n		\n			\n		\n	\n\n			\n			\n				List			\n			\n	\n\n		\n		\n	\n					\n	\n		\n			\n	\n	\n		\n		\n	\n	\n			\n		\n	\n	\n		\n			\n		\n		\n			\n		\n	\n\n		\n		\n			List		\n	\n\n					\n	\n		\n			\n	\n\n		\n		\n			Month		\n	\n\n					\n	\n		\n			\n	\n\n		\n		\n			Day		\n	\n\n					\n	\n		\n			\n	\n\n		\n		\n			Week		\n	\n\n			\n\n	\n\n\n\n\n	\n\n	\n	\n		\n	\n		\n	\n\n	\n\n\n		\n	\n		\n	\n\n	\n\n	\n\n\n	\n	Today\n\n	\n	\n		\n							\n					Upcoming				\n				\n					Upcoming				\n					\n				\n	\n\n	\n	\n		Select date.	\n	\n	\n	\n		\n	\n\n	\n	\n		\n	\n\n	\n\n\n	\n	\n	\n\n\n\n\n		\n		\n\n			\n		\n\n		\n	\n		\n	\n		\n	\n\n		\n			Previous Events		\n	\n\n\n		\n	\n		Today	\n\n\n		\n	\n		\n			Next Events		\n		\n	\n\n	\n\n	\n\n\n		\n	\n		\n			\n				Subscribe to calendar			\n			\n	\n\n		\n		\n			\n									\n\n	\n		Google Calendar	\n\n									\n\n	\n		iCalendar	\n\n									\n\n	\n		Outlook 365	\n\n									\n\n	\n		Outlook Live	\n\n									\n\n	\n		Export .ics file	\n\n									\n\n	\n		Export Outlook .ics file
URL:https://ohavizedek.org/event/lunch-and-learn-a-storytelling-lunch-hour-2/
LOCATION:Ohavi Zedek Synagogue\, 188 North Prospect Street\, Burlington\, VT\, 05401\, United States
CATEGORIES:Adult Learning,Lunch & Learn
GEO:44.486379;-73.201175
X-APPLE-STRUCTURED-LOCATION;VALUE=URI;X-ADDRESS=Ohavi Zedek Synagogue 188 North Prospect Street Burlington VT 05401 United States;X-APPLE-RADIUS=500;X-TITLE=188 North Prospect Street:geo:-73.201175,44.486379
END:VEVENT
BEGIN:VEVENT
DTSTART;TZID=America/New_York:20240926T190000
DTEND;TZID=America/New_York:20240926T193000
DTSTAMP:20260419T125147
CREATED:20231212T190239Z
LAST-MODIFIED:20241023T180439Z
UID:10026321-1727377200-1727379000@ohavizedek.org
SUMMARY:Minyan (Online)
DESCRIPTION:Ohavi Zedek offers regular minyan services to meet the worship needs of our community and especially to aid those members of our community who are reciting Kaddish in memory of a recently deceased loved one or on a Yahrzeit. Services are held Sunday-Thursday evenings at 7:00 on Zoom. Ohavi Zedek’s minyan is traditional and egalitarian. Mincha and Maariv are recited at evening services when the services begin before dark\, only Ma’ariv is recited once we reach the point in the year when services start after dark. \nIf you are planning to attend a service to recite Kaddish please fill out this form to let us know so we can make sure there is a minyan present. \nClick here to access the Weekday Siddur Lev Shalem used during our evening Minyan services. \nZoom link is below under the heading ‘Website’. \nPlease make your full first and last name viewable on Zoom\, so we know who you are and can admit you.
URL:https://ohavizedek.org/event/minyan-225/2024-09-26/
LOCATION:Zoom
CATEGORIES:Minyan,Worship Services
ATTACH;FMTTYPE=image/png:https://ohavizedek.org/wp-content/uploads/2023/10/Minyan.png
END:VEVENT
END:VCALENDAR