BEGIN:VCALENDAR
VERSION:2.0
PRODID:-//Ohavi Zedek Synagogue - ECPv6.15.17.1//NONSGML v1.0//EN
CALSCALE:GREGORIAN
METHOD:PUBLISH
X-WR-CALNAME:Ohavi Zedek Synagogue
X-ORIGINAL-URL:https://ohavizedek.org
X-WR-CALDESC:Events for Ohavi Zedek Synagogue
REFRESH-INTERVAL;VALUE=DURATION:PT1H
X-Robots-Tag:noindex
X-PUBLISHED-TTL:PT1H
BEGIN:VTIMEZONE
TZID:America/New_York
BEGIN:DAYLIGHT
TZOFFSETFROM:-0500
TZOFFSETTO:-0400
TZNAME:EDT
DTSTART:20240310T070000
END:DAYLIGHT
BEGIN:STANDARD
TZOFFSETFROM:-0400
TZOFFSETTO:-0500
TZNAME:EST
DTSTART:20241103T060000
END:STANDARD
BEGIN:DAYLIGHT
TZOFFSETFROM:-0500
TZOFFSETTO:-0400
TZNAME:EDT
DTSTART:20250309T070000
END:DAYLIGHT
BEGIN:STANDARD
TZOFFSETFROM:-0400
TZOFFSETTO:-0500
TZNAME:EST
DTSTART:20251102T060000
END:STANDARD
BEGIN:DAYLIGHT
TZOFFSETFROM:-0500
TZOFFSETTO:-0400
TZNAME:EDT
DTSTART:20260308T070000
END:DAYLIGHT
BEGIN:STANDARD
TZOFFSETFROM:-0400
TZOFFSETTO:-0500
TZNAME:EST
DTSTART:20261101T060000
END:STANDARD
END:VTIMEZONE
BEGIN:VEVENT
DTSTART;TZID=America/New_York:20250123T140000
DTEND;TZID=America/New_York:20250123T160000
DTSTAMP:20260420T141911
CREATED:20241220T145131Z
LAST-MODIFIED:20241220T145131Z
UID:10029420-1737640800-1737648000@ohavizedek.org
SUMMARY:Mah Jongg Beginner Class | 2-4pm
DESCRIPTION:Join our beginner Mah Jongg class\, taught by Lynda Siegel. \nIn this five week class\, students will learn the basics of American Mah Jongg. Upon completion\, students will be able to play on their own or at OZ’s drop-in games. \nThese classes are full\, so fill out this interest form to be notified for upcoming classes.
URL:https://ohavizedek.org/event/mah-jongg-beginner-class-2-4pm-2/
LOCATION:Ohavi Zedek Social Hall\, 188 N. Prospect St\, Burlington\, VT\, 05401
CATEGORIES:Community Events,Mah Jongg
ATTACH;FMTTYPE=image/jpeg:https://ohavizedek.org/wp-content/uploads/2024/09/mah-jongg-monthly.jpg
GEO:44.486379;-73.201175
X-APPLE-STRUCTURED-LOCATION;VALUE=URI;X-ADDRESS=Ohavi Zedek Social Hall 188 N. Prospect St Burlington VT 05401;X-APPLE-RADIUS=500;X-TITLE=188 N. Prospect St:geo:-73.201175,44.486379
END:VEVENT
BEGIN:VEVENT
DTSTART;TZID=America/New_York:20250123T170000
DTEND;TZID=America/New_York:20250123T190000
DTSTAMP:20260420T141911
CREATED:20241220T144619Z
LAST-MODIFIED:20241220T145322Z
UID:10029415-1737651600-1737658800@ohavizedek.org
SUMMARY:Mah Jongg Beginner Class | 5-7pm
DESCRIPTION:Join our beginner Mah Jongg class\, taught by Lynda Siegel. \nIn this five week class\, students will learn the basics of American Mah Jongg. Upon completion\, students will be able to play on their own or at OZ’s drop-in games. \nThese classes are full\, so fill out this interest form to be notified for upcoming classes.
URL:https://ohavizedek.org/event/mah-jongg-beginner-class-jan-feb-2025-3/
LOCATION:Ohavi Zedek Social Hall\, 188 N. Prospect St\, Burlington\, VT\, 05401
CATEGORIES:Community Events,Mah Jongg
ATTACH;FMTTYPE=image/jpeg:https://ohavizedek.org/wp-content/uploads/2024/09/mah-jongg-monthly.jpg
GEO:44.486379;-73.201175
X-APPLE-STRUCTURED-LOCATION;VALUE=URI;X-ADDRESS=Ohavi Zedek Social Hall 188 N. Prospect St Burlington VT 05401;X-APPLE-RADIUS=500;X-TITLE=188 N. Prospect St:geo:-73.201175,44.486379
END:VEVENT
BEGIN:VEVENT
DTSTART;TZID=America/New_York:20250123T190000
DTEND;TZID=America/New_York:20250123T200000
DTSTAMP:20260420T141911
CREATED:20241204T141511Z
LAST-MODIFIED:20250114T155604Z
UID:10029309-1737658800-1737662400@ohavizedek.org
SUMMARY:When Critique Becomes Hateful: Defining Antisemitism and Anti-Zionism - Derek Penslar\, Harvard University
DESCRIPTION:What rights do people have to criticize their country? Other countries? When do those criticisms become hateful? And when they become hateful\, how should they be combatted? This talk discusses how these questions relate to contemporary anti-Zionism and antisemitism. His discussion draws upon three relevant documents: The International Holocaust Remembrance Alliance’s “Working Definition of Antisemitism” (2016); The Nexus Document: Understanding Antisemitism and its Nexus with Israel and Zionism (2021); and The Jerusalem Declaration on Antisemitism (2021). \nDerek Penslar is the William Lee Frost Professor of Jewish History at Harvard University and Director of Harvard’s Center for Jewish Studies. He is also a resident faculty member at the Minda de Gunzburg Center for European Studies (CES) and is affiliated with Harvard’s Center for Middle Eastern Studies. \nPenslar takes a comparative and transnational approach to modern Jewish history\, which he studies within the contexts of modern nationalism\, capitalism\, and colonialism. His books have engaged with a variety of approaches and methods\, including the history of science and technology (Zionism and Technocracy: The Engineering of the Jewish Settlement in Palestine 1870-1918\, 1991)\, economic history (Shylock’s Children: Economics and Jewish Identity in Modern Europe\, 2001)\, military history (Jews and the Military: A History\, 2013)\, biography (Theodor Herzl: The Charismatic Leader\, 2020)\, and the history of emotions (Zionism: An Emotional State\, 2023). In two co-edited volumes\, Penslar has brought Jewish studies into conversation with postcolonial studies (Orientalism and the Jews\, 2005) and Unacknowledged Kinships: Postcolonial Theory and the Historiography of Zionism\, 2023). His current interests lie in international history\, and he is writing a book about worldwide reactions to the 1948 Arab-Israeli War. \nSponsored by the Raul Hilberg Distinguished Professorship of Holocaust Studies at the University of Vermont
URL:https://ohavizedek.org/event/when-critique-becomes-hateful-defining-antisemitism-and-anti-zionism-derek-penslar-harvard-university/
LOCATION:Memorial Lounge\, 338 Waterman\, 85 S Prospect St\, Burlington\, VT\, 05401\, United States
CATEGORIES:Community Events
ATTACH;FMTTYPE=image/png:https://ohavizedek.org/wp-content/uploads/2024/12/critique.png
END:VEVENT
END:VCALENDAR