BEGIN:VCALENDAR
VERSION:2.0
PRODID:-//Ohavi Zedek Synagogue - ECPv6.15.17.1//NONSGML v1.0//EN
CALSCALE:GREGORIAN
METHOD:PUBLISH
X-WR-CALNAME:Ohavi Zedek Synagogue
X-ORIGINAL-URL:https://ohavizedek.org
X-WR-CALDESC:Events for Ohavi Zedek Synagogue
REFRESH-INTERVAL;VALUE=DURATION:PT1H
X-Robots-Tag:noindex
X-PUBLISHED-TTL:PT1H
BEGIN:VTIMEZONE
TZID:America/New_York
BEGIN:DAYLIGHT
TZOFFSETFROM:-0500
TZOFFSETTO:-0400
TZNAME:EDT
DTSTART:20240310T070000
END:DAYLIGHT
BEGIN:STANDARD
TZOFFSETFROM:-0400
TZOFFSETTO:-0500
TZNAME:EST
DTSTART:20241103T060000
END:STANDARD
BEGIN:DAYLIGHT
TZOFFSETFROM:-0500
TZOFFSETTO:-0400
TZNAME:EDT
DTSTART:20250309T070000
END:DAYLIGHT
BEGIN:STANDARD
TZOFFSETFROM:-0400
TZOFFSETTO:-0500
TZNAME:EST
DTSTART:20251102T060000
END:STANDARD
BEGIN:DAYLIGHT
TZOFFSETFROM:-0500
TZOFFSETTO:-0400
TZNAME:EDT
DTSTART:20260308T070000
END:DAYLIGHT
BEGIN:STANDARD
TZOFFSETFROM:-0400
TZOFFSETTO:-0500
TZNAME:EST
DTSTART:20261101T060000
END:STANDARD
END:VTIMEZONE
BEGIN:VEVENT
DTSTART;TZID=America/New_York:20250427T120000
DTEND;TZID=America/New_York:20250427T180000
DTSTAMP:20260422T102543
CREATED:20250312T200117Z
LAST-MODIFIED:20250312T200839Z
UID:10030982-1745755200-1745776800@ohavizedek.org
SUMMARY:Bread For Peace - April 2025
DESCRIPTION:A fundraiser for humanitarian aid in Israel and Palestine. A partnership between communities\, volunteers bake and sell bread in the community kitchens to benefit these medical relief organizations: \nUnited Hatzalah: first responders in Israel\nPalestine Children’s Relief Fund: medical care for children in Gaza and West Bank \nOur goal is to partner with a diverse groups of interfaith congregations on this project. This date will include Ohavi Zedek and Burlington Friends Meeting\, as well as other invited local congregations. If your house of worship church\, synagogue or mosque is interested in participating\, please contact us. \nBread (challah\, pita\, gluten-free oat) will be baked in the OZ kitchen on April 27th from 12pm – 6pm and available for pick-up in the evening or the following day in Burlington or Richmond. Volunteers are also needed on April 27th during the following time slots: Noon – 1:30pm\, 1:30pm – 3pm\, and 3pm – 5pm. \n  \nPurchase Bread / Sign Up to Volunteer Here
URL:https://ohavizedek.org/event/bread-for-peace-4/
LOCATION:Ohavi Zedek Kitchen\, 188 N. Prospect St\, Burlington\, VT\, 05401
CATEGORIES:Community Events,Social Justice
ATTACH;FMTTYPE=image/png:https://ohavizedek.org/wp-content/uploads/2024/12/bread.png
GEO:44.486379;-73.201175
X-APPLE-STRUCTURED-LOCATION;VALUE=URI;X-ADDRESS=Ohavi Zedek Kitchen 188 N. Prospect St Burlington VT 05401;X-APPLE-RADIUS=500;X-TITLE=188 N. Prospect St:geo:-73.201175,44.486379
END:VEVENT
BEGIN:VEVENT
DTSTART;TZID=America/New_York:20250427T130000
DTEND;TZID=America/New_York:20250427T141500
DTSTAMP:20260422T102543
CREATED:20250408T151536Z
LAST-MODIFIED:20250408T151614Z
UID:10031062-1745758800-1745763300@ohavizedek.org
SUMMARY:OZ Singing Circle
DESCRIPTION:Come Sing with Us! We’re a group of people who want to join together in a circle and connect by singing Niggunim (wordless melodies)\, chants and prayers. No concerts\, no auditions\, no judgement. We will smile and sing together. \nContact Gigi / Judy if you’d like to chat. \n  \n  \n 
URL:https://ohavizedek.org/event/oz-singing-circle-2/
LOCATION:Ohavi Zedek Main Sanctuary
END:VEVENT
BEGIN:VEVENT
DTSTART;TZID=America/New_York:20250427T190000
DTEND;TZID=America/New_York:20250427T193000
DTSTAMP:20260422T102543
CREATED:20241231T143600Z
LAST-MODIFIED:20260304T203030Z
UID:10029535-1745780400-1745782200@ohavizedek.org
SUMMARY:Minyan (Online Evening)
DESCRIPTION:Ohavi Zedek offers regular minyan services to meet the worship needs of our community and especially to aid those members of our community who are reciting Kaddish in memory of a recently deceased loved one or on a Yahrzeit. Services are held Sunday-Thursday evenings at 7:00 on Zoom. Ohavi Zedek’s minyan is traditional and egalitarian. Mincha and Maariv are recited at evening services when the services begin before dark\, only Ma’ariv is recited once we reach the point in the year when services start after dark. We also hold Sunday Shacharit at 8:45 AM in person and on Zoom. \nIf you are planning to attend a service to recite Kaddish please fill out this form to let us know so we can make sure there is a minyan present. \nClick here to access the Weekday Siddur Lev Shalem used during our evening Minyan services. \nZoom link is below under the heading ‘Website’. \nPlease make your full first and last name viewable on Zoom\, so we know who you are and can admit you. \nResources: \nWhen Should I Say Kaddish for Yahrzeit? \nThe Mourner’s Kaddish: A Memorial Prayer in Praise of God by My Jewish Learning \n  \n 
URL:https://ohavizedek.org/event/minyan-online-evening-2/2025-04-27/
LOCATION:Ohavi Zedek Synagogue\, 188 North Prospect Street\, Burlington\, VT\, 05401\, United States
CATEGORIES:Minyan,Worship Services
ATTACH;FMTTYPE=image/png:https://ohavizedek.org/wp-content/uploads/2026/01/minyan-new-sunday.png
GEO:44.486379;-73.201175
X-APPLE-STRUCTURED-LOCATION;VALUE=URI;X-ADDRESS=Ohavi Zedek Synagogue 188 North Prospect Street Burlington VT 05401 United States;X-APPLE-RADIUS=500;X-TITLE=188 North Prospect Street:geo:-73.201175,44.486379
END:VEVENT
BEGIN:VEVENT
DTSTART;TZID=America/New_York:20250427T193000
DTEND;TZID=America/New_York:20250427T213000
DTSTAMP:20260422T102543
CREATED:20250318T182809Z
LAST-MODIFIED:20250320T123114Z
UID:10030987-1745782200-1745789400@ohavizedek.org
SUMMARY:Israeli Dancing - Drop In
DESCRIPTION:Israeli folkdance is a joyous folk art form that is easy to start and difficult to stop. It draws from many cultures and expresses itself in dances that range in complexity and speed. See this article for more information. \nJoin hosts Adele\, Lani and Mitch and a friendly friendly group of people that gathers periodically on Zoom or in person to enjoy the folkdances of Israel! \nWe mostly dance around a circle so no partner is required. We have a large repertoire of beginner-friendly dances. New dancers are encouraged to come at the beginning of the session to benefit from instruction. Please wear shoes with clean soles. \nThis program is free with an optional donation. \nRegister Here \nBecause of ongoing concerns about covid and other circulating viruses\, the group would greatly appreciate attendees wearing a high quality mask such as N95 or KN95. \n 
URL:https://ohavizedek.org/event/israeli-dancing-drop-in-4/
LOCATION:Ohavi Zedek Synagogue\, 188 North Prospect Street\, Burlington\, VT\, 05401\, United States
CATEGORIES:Adult Learning,Community Events,Israeli Dance
ATTACH;FMTTYPE=image/png:https://ohavizedek.org/wp-content/uploads/2024/09/dancing.png
GEO:44.486379;-73.201175
X-APPLE-STRUCTURED-LOCATION;VALUE=URI;X-ADDRESS=Ohavi Zedek Synagogue 188 North Prospect Street Burlington VT 05401 United States;X-APPLE-RADIUS=500;X-TITLE=188 North Prospect Street:geo:-73.201175,44.486379
END:VEVENT
END:VCALENDAR