BEGIN:VCALENDAR
VERSION:2.0
PRODID:-//Ohavi Zedek Synagogue - ECPv6.15.17.1//NONSGML v1.0//EN
CALSCALE:GREGORIAN
METHOD:PUBLISH
X-WR-CALNAME:Ohavi Zedek Synagogue
X-ORIGINAL-URL:https://ohavizedek.org
X-WR-CALDESC:Events for Ohavi Zedek Synagogue
REFRESH-INTERVAL;VALUE=DURATION:PT1H
X-Robots-Tag:noindex
X-PUBLISHED-TTL:PT1H
BEGIN:VTIMEZONE
TZID:America/New_York
BEGIN:DAYLIGHT
TZOFFSETFROM:-0500
TZOFFSETTO:-0400
TZNAME:EDT
DTSTART:20240310T070000
END:DAYLIGHT
BEGIN:STANDARD
TZOFFSETFROM:-0400
TZOFFSETTO:-0500
TZNAME:EST
DTSTART:20241103T060000
END:STANDARD
BEGIN:DAYLIGHT
TZOFFSETFROM:-0500
TZOFFSETTO:-0400
TZNAME:EDT
DTSTART:20250309T070000
END:DAYLIGHT
BEGIN:STANDARD
TZOFFSETFROM:-0400
TZOFFSETTO:-0500
TZNAME:EST
DTSTART:20251102T060000
END:STANDARD
BEGIN:DAYLIGHT
TZOFFSETFROM:-0500
TZOFFSETTO:-0400
TZNAME:EDT
DTSTART:20260308T070000
END:DAYLIGHT
BEGIN:STANDARD
TZOFFSETFROM:-0400
TZOFFSETTO:-0500
TZNAME:EST
DTSTART:20261101T060000
END:STANDARD
END:VTIMEZONE
BEGIN:VEVENT
DTSTART;TZID=America/New_York:20250518T091500
DTEND;TZID=America/New_York:20250518T114500
DTSTAMP:20260424T133913
CREATED:20240528T195333Z
LAST-MODIFIED:20250514T175112Z
UID:10027397-1747559700-1747568700@ohavizedek.org
SUMMARY:Jewish Journeys Commencement 2025
DESCRIPTION:We’ve come to a stop on our Jewish Journey for the year! \n9:15 am – class wrap ups \n10:30 am – Commencement ceremony followed by a visit from the Lake Champlain Chocolates Ice Cream truck!
URL:https://ohavizedek.org/event/hebrew-school-commencement-2025/
LOCATION:Ohavi Zedek Synagogue\, 188 North Prospect Street\, Burlington\, VT\, 05401\, United States
CATEGORIES:Hebrew School
GEO:44.486379;-73.201175
X-APPLE-STRUCTURED-LOCATION;VALUE=URI;X-ADDRESS=Ohavi Zedek Synagogue 188 North Prospect Street Burlington VT 05401 United States;X-APPLE-RADIUS=500;X-TITLE=188 North Prospect Street:geo:-73.201175,44.486379
END:VEVENT
BEGIN:VEVENT
DTSTART;TZID=America/New_York:20250518T130000
DTEND;TZID=America/New_York:20250518T141500
DTSTAMP:20260424T133913
CREATED:20250423T181726Z
LAST-MODIFIED:20250520T144933Z
UID:10031071-1747573200-1747577700@ohavizedek.org
SUMMARY:OZ Singing Circle in the Yurt
DESCRIPTION:Come Sing with Us in the Yurt (weather permitting)! We’re a group of people who want to join together in a circle and connect by singing Niggunim (wordless melodies)\, chants and prayers. No concerts\, no auditions\, no judgement. We will smile and sing together. \nContact Gigi / Judy if you’d like to chat.
URL:https://ohavizedek.org/event/oz-singing-circle-3/2025-05-18/
LOCATION:OZ Yurt\, 188 North Prospect St\, Burlington\, VT\, 05401
CATEGORIES:Community Events,Music Events
ATTACH;FMTTYPE=image/png:https://ohavizedek.org/wp-content/uploads/2025/04/singingcircle.png
GEO:44.4864221;-73.201179
X-APPLE-STRUCTURED-LOCATION;VALUE=URI;X-ADDRESS=OZ Yurt 188 North Prospect St Burlington VT 05401;X-APPLE-RADIUS=500;X-TITLE=188 North Prospect St:geo:-73.201179,44.4864221
END:VEVENT
BEGIN:VEVENT
DTSTART;TZID=America/New_York:20250518T130000
DTEND;TZID=America/New_York:20250518T141500
DTSTAMP:20260424T133913
CREATED:20250818T144244Z
LAST-MODIFIED:20250909T135013Z
UID:10035623-1747573200-1747577700@ohavizedek.org
SUMMARY:OZ Singing Circle in the Yurt
DESCRIPTION:Come Sing with Us in the Yurt (weather permitting)! We’re a group of people who want to join together in a circle and connect by singing Niggunim (wordless melodies)\, chants and prayers. No concerts\, no auditions\, no judgement. We will smile and sing together. \nContact Gigi / Judy if you’d like to chat.
URL:https://ohavizedek.org/event/oz-singing-circle-in-the-yurt/2025-05-18/
LOCATION:OZ Yurt\, 188 North Prospect St\, Burlington\, VT\, 05401
CATEGORIES:Community Events,Music Events
ATTACH;FMTTYPE=image/png:https://ohavizedek.org/wp-content/uploads/2025/04/singingcircle.png
GEO:44.4864221;-73.201179
X-APPLE-STRUCTURED-LOCATION;VALUE=URI;X-ADDRESS=OZ Yurt 188 North Prospect St Burlington VT 05401;X-APPLE-RADIUS=500;X-TITLE=188 North Prospect St:geo:-73.201179,44.4864221
END:VEVENT
BEGIN:VEVENT
DTSTART;TZID=America/New_York:20250518T143000
DTEND;TZID=America/New_York:20250518T171500
DTSTAMP:20260424T133913
CREATED:20250217T155403Z
LAST-MODIFIED:20250418T133705Z
UID:10030976-1747578600-1747588500@ohavizedek.org
SUMMARY:Burlington's Little Jerusalem Film Viewing and Burlington Jewish History Panel
DESCRIPTION:Ohavi Zedek’s Membership Committee and the Lost Mural Project are hosting an showing of the short film “Burlington’s Little Jerusalem\,” that tells the story of Burlington’s Jewish History from the 1880s to today. Following the screening\, a panel of life-long community members will share stories of Ohavi Zedek’s history. \nLearn about Burlington’s original Jewish community\, its synagogues\, businesses\, schools\, art and historic spaces\, that have shaped what our community is today. \nAll are welcome at this event; new OZ members are especially invited to learn about our community’s past. \nThis FREE event\, celebrating Burlington’s Jewish History\, is part of the Jewish American Heritage Month\, (JAHM) held in May of each year\, recognizing the achievements and contributions of American Jews to the culture\, history and society of the United States of America. \n2:30pm – 3:00pm / Social time and hors d’oeuvres\n3:00pm – 4:00pm / “Burlington’s Little Jerusalem” viewing\n4:00pm – 4:15pm / Social time and hors d’oeuvres\n4:15pm – 5:15pm / Burlington Jewish History Panel Discussion \n \nWhat question(s) would you like to ask our  long-time members of Burlington’s Jewish Community? \nPanelists can address any topics\, such as: \na. Burlington’s Orthodox Synagogues\nb. Hebrew School\nc. The role of women\nd. Changes in Holiday Observances\ne. Antisemitism over the years\nf. The impact of the Depression upon their household\ng. The impact of WWII upon their households\nh. The Jewish business districts over the years\ni. Favorite childhood memories of Jewish celebrations\nj. Changes in Synagogue celebrations\nk. Any other topics you would like the panelists to address \n  \nPlease Register / Submit Question(s) to Panelists \n  \n 
URL:https://ohavizedek.org/event/burlingtonslittlejerusalem/
LOCATION:Ohavi Zedek Social Hall\, 188 N. Prospect St\, Burlington\, VT\, 05401
CATEGORIES:Community Events,Lost Mural / Little Jerusalem / History
ATTACH;FMTTYPE=image/png:https://ohavizedek.org/wp-content/uploads/2025/02/bljfilmviewing.png
ORGANIZER;CN="The Lost Mural Project":MAILTO:agoldbergvt@gmail.com
GEO:44.486379;-73.201175
X-APPLE-STRUCTURED-LOCATION;VALUE=URI;X-ADDRESS=Ohavi Zedek Social Hall 188 N. Prospect St Burlington VT 05401;X-APPLE-RADIUS=500;X-TITLE=188 N. Prospect St:geo:-73.201175,44.486379
END:VEVENT
BEGIN:VEVENT
DTSTART;TZID=America/New_York:20250518T190000
DTEND;TZID=America/New_York:20250518T193000
DTSTAMP:20260424T133913
CREATED:20241231T143600Z
LAST-MODIFIED:20260304T203030Z
UID:10029550-1747594800-1747596600@ohavizedek.org
SUMMARY:Minyan (Online Evening)
DESCRIPTION:Ohavi Zedek offers regular minyan services to meet the worship needs of our community and especially to aid those members of our community who are reciting Kaddish in memory of a recently deceased loved one or on a Yahrzeit. Services are held Sunday-Thursday evenings at 7:00 on Zoom. Ohavi Zedek’s minyan is traditional and egalitarian. Mincha and Maariv are recited at evening services when the services begin before dark\, only Ma’ariv is recited once we reach the point in the year when services start after dark. We also hold Sunday Shacharit at 8:45 AM in person and on Zoom. \nIf you are planning to attend a service to recite Kaddish please fill out this form to let us know so we can make sure there is a minyan present. \nClick here to access the Weekday Siddur Lev Shalem used during our evening Minyan services. \nZoom link is below under the heading ‘Website’. \nPlease make your full first and last name viewable on Zoom\, so we know who you are and can admit you. \nResources: \nWhen Should I Say Kaddish for Yahrzeit? \nThe Mourner’s Kaddish: A Memorial Prayer in Praise of God by My Jewish Learning \n  \n 
URL:https://ohavizedek.org/event/minyan-online-evening-2/2025-05-18/
LOCATION:Ohavi Zedek Synagogue\, 188 North Prospect Street\, Burlington\, VT\, 05401\, United States
CATEGORIES:Minyan,Worship Services
ATTACH;FMTTYPE=image/png:https://ohavizedek.org/wp-content/uploads/2026/01/minyan-new-sunday.png
GEO:44.486379;-73.201175
X-APPLE-STRUCTURED-LOCATION;VALUE=URI;X-ADDRESS=Ohavi Zedek Synagogue 188 North Prospect Street Burlington VT 05401 United States;X-APPLE-RADIUS=500;X-TITLE=188 North Prospect Street:geo:-73.201175,44.486379
END:VEVENT
BEGIN:VEVENT
DTSTART;TZID=America/New_York:20250518T193000
DTEND;TZID=America/New_York:20250518T213000
DTSTAMP:20260424T133913
CREATED:20250318T182858Z
LAST-MODIFIED:20250318T182858Z
UID:10030989-1747596600-1747603800@ohavizedek.org
SUMMARY:Israeli Dancing - Drop In
DESCRIPTION:Israeli folkdance is a joyous folk art form that is easy to start and difficult to stop. It draws from many cultures and expresses itself in dances that range in complexity and speed. See this article for more information. \nJoin hosts Adele\, Lani and Mitch and a friendly friendly group of people that gathers periodically on Zoom or in person to enjoy the folkdances of Israel! \nWe mostly dance around a circle so no partner is required. We have a large repertoire of beginner-friendly dances. New dancers are encouraged to come at the beginning of the session to benefit from instruction. Please wear shoes with clean soles. \nThis program is free with an optional donation. \nRegister Here \nBecause of ongoing concerns about covid and other circulating viruses\, the group would greatly appreciate attendees wearing a high quality mask such as N95 or KN95. \n 
URL:https://ohavizedek.org/event/israeli-dancing-drop-in-6/
LOCATION:Ohavi Zedek Synagogue\, 188 North Prospect Street\, Burlington\, VT\, 05401\, United States
CATEGORIES:Adult Learning,Community Events,Israeli Dance
ATTACH;FMTTYPE=image/png:https://ohavizedek.org/wp-content/uploads/2024/09/dancing.png
GEO:44.486379;-73.201175
X-APPLE-STRUCTURED-LOCATION;VALUE=URI;X-ADDRESS=Ohavi Zedek Synagogue 188 North Prospect Street Burlington VT 05401 United States;X-APPLE-RADIUS=500;X-TITLE=188 North Prospect Street:geo:-73.201175,44.486379
END:VEVENT
END:VCALENDAR