BEGIN:VCALENDAR
VERSION:2.0
PRODID:-//Ohavi Zedek Synagogue - ECPv6.15.17.1//NONSGML v1.0//EN
CALSCALE:GREGORIAN
METHOD:PUBLISH
X-WR-CALNAME:Ohavi Zedek Synagogue
X-ORIGINAL-URL:https://ohavizedek.org
X-WR-CALDESC:Events for Ohavi Zedek Synagogue
REFRESH-INTERVAL;VALUE=DURATION:PT1H
X-Robots-Tag:noindex
X-PUBLISHED-TTL:PT1H
BEGIN:VTIMEZONE
TZID:America/New_York
BEGIN:DAYLIGHT
TZOFFSETFROM:-0500
TZOFFSETTO:-0400
TZNAME:EDT
DTSTART:20250309T070000
END:DAYLIGHT
BEGIN:STANDARD
TZOFFSETFROM:-0400
TZOFFSETTO:-0500
TZNAME:EST
DTSTART:20251102T060000
END:STANDARD
BEGIN:DAYLIGHT
TZOFFSETFROM:-0500
TZOFFSETTO:-0400
TZNAME:EDT
DTSTART:20260308T070000
END:DAYLIGHT
BEGIN:STANDARD
TZOFFSETFROM:-0400
TZOFFSETTO:-0500
TZNAME:EST
DTSTART:20261101T060000
END:STANDARD
BEGIN:DAYLIGHT
TZOFFSETFROM:-0500
TZOFFSETTO:-0400
TZNAME:EDT
DTSTART:20270314T070000
END:DAYLIGHT
BEGIN:STANDARD
TZOFFSETFROM:-0400
TZOFFSETTO:-0500
TZNAME:EST
DTSTART:20271107T060000
END:STANDARD
END:VTIMEZONE
BEGIN:VEVENT
DTSTART;TZID=America/New_York:20260108T170000
DTEND;TZID=America/New_York:20260108T190000
DTSTAMP:20260423T230757
CREATED:20251201T195321Z
LAST-MODIFIED:20251201T195321Z
UID:10036666-1767891600-1767898800@ohavizedek.org
SUMMARY:Mah Jongg Beginner Class
DESCRIPTION:Join our beginner Mah Jongg class\, taught by Lynda Siegel. \nThursdays: 1/8\, 1/15\, 1/22\, 1/29\, 2/5 from 5 pm – 7 pm \nIn this five week class\, students will learn the basics of American Mah Jongg. Upon completion\, students will be able to play on their own or at OZ’s drop-in games. \nRegister Here!
URL:https://ohavizedek.org/event/mah-jongg-beginner-class-4/2026-01-08/
LOCATION:Ohavi Zedek Social Hall\, 188 N. Prospect St\, Burlington\, VT\, 05401
CATEGORIES:Community Events,Mah Jongg
ATTACH;FMTTYPE=image/png:https://ohavizedek.org/wp-content/uploads/2025/12/mjjanfeb2026.png
GEO:44.486379;-73.201175
X-APPLE-STRUCTURED-LOCATION;VALUE=URI;X-ADDRESS=Ohavi Zedek Social Hall 188 N. Prospect St Burlington VT 05401;X-APPLE-RADIUS=500;X-TITLE=188 N. Prospect St:geo:-73.201175,44.486379
END:VEVENT
BEGIN:VEVENT
DTSTART;TZID=America/New_York:20260108T190000
DTEND;TZID=America/New_York:20260108T193000
DTSTAMP:20260423T230757
CREATED:20241231T143600Z
LAST-MODIFIED:20260304T203030Z
UID:10029719-1767898800-1767900600@ohavizedek.org
SUMMARY:Minyan (Online Evening)
DESCRIPTION:Ohavi Zedek offers regular minyan services to meet the worship needs of our community and especially to aid those members of our community who are reciting Kaddish in memory of a recently deceased loved one or on a Yahrzeit. Services are held Sunday-Thursday evenings at 7:00 on Zoom. Ohavi Zedek’s minyan is traditional and egalitarian. Mincha and Maariv are recited at evening services when the services begin before dark\, only Ma’ariv is recited once we reach the point in the year when services start after dark. We also hold Sunday Shacharit at 8:45 AM in person and on Zoom. \nIf you are planning to attend a service to recite Kaddish please fill out this form to let us know so we can make sure there is a minyan present. \nClick here to access the Weekday Siddur Lev Shalem used during our evening Minyan services. \nZoom link is below under the heading ‘Website’. \nPlease make your full first and last name viewable on Zoom\, so we know who you are and can admit you. \nResources: \nWhen Should I Say Kaddish for Yahrzeit? \nThe Mourner’s Kaddish: A Memorial Prayer in Praise of God by My Jewish Learning \n  \n 
URL:https://ohavizedek.org/event/minyan-online-evening-2/2026-01-08/
LOCATION:Ohavi Zedek Synagogue\, 188 North Prospect Street\, Burlington\, VT\, 05401\, United States
CATEGORIES:Minyan,Worship Services
ATTACH;FMTTYPE=image/png:https://ohavizedek.org/wp-content/uploads/2026/01/minyan-new-sunday.png
GEO:44.486379;-73.201175
X-APPLE-STRUCTURED-LOCATION;VALUE=URI;X-ADDRESS=Ohavi Zedek Synagogue 188 North Prospect Street Burlington VT 05401 United States;X-APPLE-RADIUS=500;X-TITLE=188 North Prospect Street:geo:-73.201175,44.486379
END:VEVENT
BEGIN:VEVENT
DTSTART;TZID=America/New_York:20260108T193000
DTEND;TZID=America/New_York:20260108T210000
DTSTAMP:20260423T230757
CREATED:20251126T165737Z
LAST-MODIFIED:20251209T145318Z
UID:10037231-1767900600-1767906000@ohavizedek.org
SUMMARY:The Climate Crisis: What You Should Know and What You Can (and Should) Do
DESCRIPTION:What is Climate Change\, how does it affect our health and life\, and what we can do about it. Join climate change experts – and OZ members- Fred Kosnitsky and Susan Kaplan to learn and discuss this critical issue. Drop in these 5 monthly sessions on Thursday evenings. Attend as many as you can! \nVia Zoom: Monthly on Thursdays\, 7:30-9 PM \nREGISTER HERE \n\n· Session 1 – Jan. 8 – The Science of Climate Change: Weather\, Climate\, the Greenhouse Effect\, Greenhouse Gases and Where They Come From \n· Session 2 – Jan. 22 – Climate Change Impacts Part I – How nature is affected – from catastrophic floods\, droughts\, and storms to biodiversity loss and more. \n· Session 3 – Feb. 19 – Climate Change Impacts Part II – How people are affected\, with an emphasis on Health; how those impacts to the environment in Part I (plus other climate change impacts) affect human health. \n· Session 4 – Mar. 19 – Climate Change Solutions Part I – What Can I Do? – Focus on personal behavior changes and magnifying your power to make change \n· Session 5 – Apr. 16 – Climate Change Solutions Part II – What Can We Do? – Focus on System Change from communities to states to global actions. Susan covers state public health policies and actions.
URL:https://ohavizedek.org/event/the-climate-crisis-what-you-should-know-and-what-you-can-and-should-do/2026-01-08/
LOCATION:VT
CATEGORIES:Adult Learning
ATTACH;FMTTYPE=image/png:https://ohavizedek.org/wp-content/uploads/2025/11/climatecriss.png
END:VEVENT
BEGIN:VEVENT
DTSTART;TZID=America/New_York:20260108T200000
DTEND;TZID=America/New_York:20260108T210000
DTSTAMP:20260423T230757
CREATED:20260106T151403Z
LAST-MODIFIED:20260106T151621Z
UID:10037276-1767902400-1767906000@ohavizedek.org
SUMMARY:OZ Book Club - Inheritance: A Memoir of Genealogy\, Paternity\, and Love by Dani Shapiro
DESCRIPTION:The OZ Monthly Book Club meets monthly and welcomes adult readers. Book selections are determined by the group\, with topics that are related to Jewish themes and concepts. Join these casual discussions about the book. \n \nInheritance: A Memoir of Genealogy\, Paternity\, and Love by Dani Shapiro \nThe author of Hourglass now gives us a new memoir about identity\, paternity\, and family secrets—a real-time In the spring of 2016\, through a genealogy website to which she had whimsically submitted her DNA for analysis\, Dani Shapiro received the stunning news that her father was not her biological father. She woke up one morning and her entire history—the life she had lived—crumbled beneath her.
URL:https://ohavizedek.org/event/oz-book-club-inheritance-a-memoir-of-genealogy-paternity-and-love-by-dani-shapiro/
LOCATION:Zoom
CATEGORIES:Book Club
ATTACH;FMTTYPE=image/png:https://ohavizedek.org/wp-content/uploads/2026/01/book-club-2026.png
END:VEVENT
END:VCALENDAR