BEGIN:VCALENDAR
VERSION:2.0
PRODID:-//Ohavi Zedek Synagogue - ECPv6.15.17.1//NONSGML v1.0//EN
CALSCALE:GREGORIAN
METHOD:PUBLISH
X-WR-CALNAME:Ohavi Zedek Synagogue
X-ORIGINAL-URL:https://ohavizedek.org
X-WR-CALDESC:Events for Ohavi Zedek Synagogue
REFRESH-INTERVAL;VALUE=DURATION:PT1H
X-Robots-Tag:noindex
X-PUBLISHED-TTL:PT1H
BEGIN:VTIMEZONE
TZID:America/New_York
BEGIN:DAYLIGHT
TZOFFSETFROM:-0500
TZOFFSETTO:-0400
TZNAME:EDT
DTSTART:20230312T070000
END:DAYLIGHT
BEGIN:STANDARD
TZOFFSETFROM:-0400
TZOFFSETTO:-0500
TZNAME:EST
DTSTART:20231105T060000
END:STANDARD
BEGIN:DAYLIGHT
TZOFFSETFROM:-0500
TZOFFSETTO:-0400
TZNAME:EDT
DTSTART:20240310T070000
END:DAYLIGHT
BEGIN:STANDARD
TZOFFSETFROM:-0400
TZOFFSETTO:-0500
TZNAME:EST
DTSTART:20241103T060000
END:STANDARD
BEGIN:DAYLIGHT
TZOFFSETFROM:-0500
TZOFFSETTO:-0400
TZNAME:EDT
DTSTART:20250309T070000
END:DAYLIGHT
BEGIN:STANDARD
TZOFFSETFROM:-0400
TZOFFSETTO:-0500
TZNAME:EST
DTSTART:20251102T060000
END:STANDARD
END:VTIMEZONE
BEGIN:VEVENT
DTSTART;TZID=America/New_York:20241120T133000
DTEND;TZID=America/New_York:20241120T143000
DTSTAMP:20260421T050602
CREATED:20241114T234307Z
LAST-MODIFIED:20241114T234316Z
UID:10029193-1732109400-1732113000@ohavizedek.org
SUMMARY:Elders Heart to Heart Conversation Group
DESCRIPTION:This one hour conversation continues monthly on Zoom. We are a gathering of elders. We share and reflect on what is most important to us about aging\, grandparenting\, parenting and whatever stands out at the time. We are comforted by each other’s listening. If you would like to join\, please fill out this form. \n\n1:30-2:30\, the 3rd Wednesday each month by Zoom.
URL:https://ohavizedek.org/event/elders-heart-to-heart-conversation-group-2/
LOCATION:Zoom
CATEGORIES:Adult Learning
ATTACH;FMTTYPE=image/jpeg:https://ohavizedek.org/wp-content/uploads/2024/08/elders-1.jpg
END:VEVENT
END:VCALENDAR