BEGIN:VCALENDAR
VERSION:2.0
PRODID:-//Ohavi Zedek Synagogue - ECPv6.15.17.1//NONSGML v1.0//EN
CALSCALE:GREGORIAN
METHOD:PUBLISH
X-WR-CALNAME:Ohavi Zedek Synagogue
X-ORIGINAL-URL:https://ohavizedek.org
X-WR-CALDESC:Events for Ohavi Zedek Synagogue
REFRESH-INTERVAL;VALUE=DURATION:PT1H
X-Robots-Tag:noindex
X-PUBLISHED-TTL:PT1H
BEGIN:VTIMEZONE
TZID:America/New_York
BEGIN:DAYLIGHT
TZOFFSETFROM:-0500
TZOFFSETTO:-0400
TZNAME:EDT
DTSTART:20250309T070000
END:DAYLIGHT
BEGIN:STANDARD
TZOFFSETFROM:-0400
TZOFFSETTO:-0500
TZNAME:EST
DTSTART:20251102T060000
END:STANDARD
BEGIN:DAYLIGHT
TZOFFSETFROM:-0500
TZOFFSETTO:-0400
TZNAME:EDT
DTSTART:20260308T070000
END:DAYLIGHT
BEGIN:STANDARD
TZOFFSETFROM:-0400
TZOFFSETTO:-0500
TZNAME:EST
DTSTART:20261101T060000
END:STANDARD
BEGIN:DAYLIGHT
TZOFFSETFROM:-0500
TZOFFSETTO:-0400
TZNAME:EDT
DTSTART:20270314T070000
END:DAYLIGHT
BEGIN:STANDARD
TZOFFSETFROM:-0400
TZOFFSETTO:-0500
TZNAME:EST
DTSTART:20271107T060000
END:STANDARD
END:VTIMEZONE
BEGIN:VEVENT
DTSTART;TZID=America/New_York:20260319T193000
DTEND;TZID=America/New_York:20260319T210000
DTSTAMP:20260422T120041
CREATED:20251126T165737Z
LAST-MODIFIED:20251209T145318Z
UID:10036644-1773948600-1773954000@ohavizedek.org
SUMMARY:The Climate Crisis: What You Should Know and What You Can (and Should) Do
DESCRIPTION:What is Climate Change\, how does it affect our health and life\, and what we can do about it. Join climate change experts – and OZ members- Fred Kosnitsky and Susan Kaplan to learn and discuss this critical issue. Drop in these 5 monthly sessions on Thursday evenings. Attend as many as you can! \nVia Zoom: Monthly on Thursdays\, 7:30-9 PM \nREGISTER HERE \n\n· Session 1 – Jan. 8 – The Science of Climate Change: Weather\, Climate\, the Greenhouse Effect\, Greenhouse Gases and Where They Come From \n· Session 2 – Jan. 22 – Climate Change Impacts Part I – How nature is affected – from catastrophic floods\, droughts\, and storms to biodiversity loss and more. \n· Session 3 – Feb. 19 – Climate Change Impacts Part II – How people are affected\, with an emphasis on Health; how those impacts to the environment in Part I (plus other climate change impacts) affect human health. \n· Session 4 – Mar. 19 – Climate Change Solutions Part I – What Can I Do? – Focus on personal behavior changes and magnifying your power to make change \n· Session 5 – Apr. 16 – Climate Change Solutions Part II – What Can We Do? – Focus on System Change from communities to states to global actions. Susan covers state public health policies and actions.
URL:https://ohavizedek.org/event/the-climate-crisis-what-you-should-know-and-what-you-can-and-should-do/2026-03-19/
LOCATION:VT
CATEGORIES:Adult Learning
ATTACH;FMTTYPE=image/png:https://ohavizedek.org/wp-content/uploads/2025/11/climatecriss.png
END:VEVENT
END:VCALENDAR