BEGIN:VCALENDAR
VERSION:2.0
PRODID:-//Ohavi Zedek Synagogue - ECPv6.15.17.1//NONSGML v1.0//EN
CALSCALE:GREGORIAN
METHOD:PUBLISH
X-ORIGINAL-URL:https://ohavizedek.org
X-WR-CALDESC:Events for Ohavi Zedek Synagogue
REFRESH-INTERVAL;VALUE=DURATION:PT1H
X-Robots-Tag:noindex
X-PUBLISHED-TTL:PT1H
BEGIN:VTIMEZONE
TZID:America/New_York
BEGIN:DAYLIGHT
TZOFFSETFROM:-0500
TZOFFSETTO:-0400
TZNAME:EDT
DTSTART:20250309T070000
END:DAYLIGHT
BEGIN:STANDARD
TZOFFSETFROM:-0400
TZOFFSETTO:-0500
TZNAME:EST
DTSTART:20251102T060000
END:STANDARD
BEGIN:DAYLIGHT
TZOFFSETFROM:-0500
TZOFFSETTO:-0400
TZNAME:EDT
DTSTART:20260308T070000
END:DAYLIGHT
BEGIN:STANDARD
TZOFFSETFROM:-0400
TZOFFSETTO:-0500
TZNAME:EST
DTSTART:20261101T060000
END:STANDARD
BEGIN:DAYLIGHT
TZOFFSETFROM:-0500
TZOFFSETTO:-0400
TZNAME:EDT
DTSTART:20270314T070000
END:DAYLIGHT
BEGIN:STANDARD
TZOFFSETFROM:-0400
TZOFFSETTO:-0500
TZNAME:EST
DTSTART:20271107T060000
END:STANDARD
END:VTIMEZONE
BEGIN:VEVENT
DTSTART;TZID=America/New_York:20260322T091500
DTEND;TZID=America/New_York:20260322T103000
DTSTAMP:20260422T121228
CREATED:20260112T164817Z
LAST-MODIFIED:20260128T201558Z
UID:10037564-1774170900-1774175400@ohavizedek.org
SUMMARY:ChaiLights - End of Life Traditions Discussion
DESCRIPTION:As parents\, we spend so much of our lives nurturing and protecting our children. In Jewish tradition\, there is a parallel\, sacred duty of protection and care that takes place at the very end of life. \nThis presentation\, by OZ Board President Lynda Siegel\, offers a gentle and informative introduction to the Chevra Kadisha (Sacred Society) and the ritual of Tahara—the traditional process of washing and purifying a body for burial. Often called Chesed Shel Emet (True Kindness)\, this is considered the highest form of mitzvah because it is a favor that can never be returned. \nWe will discuss how this ancient practice honors the soul and ensures that no member of our community ever takes their final journey alone. Key topics include: \n\nThe Essence of Kavod HaMet: Understanding the core Jewish value of “honoring the deceased” with dignity and modesty.\nA Journey of Purity: A respectful overview of the prayers\, the ritual washing\, and the dressing of the body in Tachrichim (simple white linen shrouds).\nCommunity and Continuity: How this quiet\, volunteer-led tradition strengthens the bonds of our synagogue and provides comfort to grieving families.\nJoin us to learn more about the beautiful\, hidden rituals that reflect our deepest Jewish values of equality\, respect\, and eternal care.\n\nREGISTER HERE \n\nChaiLights gatherings will give you a chance to learn\, taste and connect. \nEach gathering will start off with food and open conversation\, followed by a unique experience that will engage and inspire\, let us create and improve the world. \nThis project’s vibe is fun\, social and low-pressure\, with activities lead by community volunteers. It’s a great fit for Jews\, Jewish-adjacent and those who are just curious. \nBagels and coffee service at 9:15 am \n\n  \n\n    Date / Time ChaiLights Experience Community Member Hosts Sunday January 25 9:15 am - 12:00 pm Participate in Bread for Peace bread baking Scott Silverstein Sunday February 1 9:15 am - 11:00 am Tu b'Shevat / Pruning Your Fruit Trees Jacob Holzberg-Pill Sunday February 8 9:15 am - 11:00 am Opening Courageous Conversations on Israel/Palestine Nancy Sugarman Marjorie Corbman Sunday February 15 9:15 am - 10:30 am  'Ask the Rabbi' conversation Rabbi Ariel Sunday March 22 9:15 am - 10:30 am  End of Life Traditions Discussion Lynda Siegel Sunday March 29 9:15 am - 10:30 am  How to Talk to Your Children and Grandchildren  About Antisemitism Resource Therapists / Educators Sunday April 12 9:15 am - 10:30 am Opening Courageous Conversations on Israel/Palestine Nancy Sugarman Marjorie Corbman Sunday May 3 9:15 am - 10:30 am Making Pickles with a little Jewish Food History on the Side Alexa Weitzman Sunday May 10 9:15 am - 11:00 am Opening Courageous Conversations on Israel/Palestine Nancy Sugarman\n Marjorie Corbman
URL:https://ohavizedek.org/event/chailights-end-of-life/
LOCATION:Ohavi Zedek Synagogue\, 188 North Prospect Street\, Burlington\, VT\, 05401\, United States
CATEGORIES:ChaiLights,Community Events
ATTACH;FMTTYPE=image/png:https://ohavizedek.org/wp-content/uploads/2026/01/chailisghts-1.png
GEO:44.486379;-73.201175
X-APPLE-STRUCTURED-LOCATION;VALUE=URI;X-ADDRESS=Ohavi Zedek Synagogue 188 North Prospect Street Burlington VT 05401 United States;X-APPLE-RADIUS=500;X-TITLE=188 North Prospect Street:geo:-73.201175,44.486379
END:VEVENT
END:VCALENDAR