BEGIN:VCALENDAR
VERSION:2.0
PRODID:-//Ohavi Zedek Synagogue - ECPv6.15.17.1//NONSGML v1.0//EN
CALSCALE:GREGORIAN
METHOD:PUBLISH
X-ORIGINAL-URL:https://ohavizedek.org
X-WR-CALDESC:Events for Ohavi Zedek Synagogue
REFRESH-INTERVAL;VALUE=DURATION:PT1H
X-Robots-Tag:noindex
X-PUBLISHED-TTL:PT1H
BEGIN:VTIMEZONE
TZID:America/New_York
BEGIN:DAYLIGHT
TZOFFSETFROM:-0500
TZOFFSETTO:-0400
TZNAME:EDT
DTSTART:20250309T070000
END:DAYLIGHT
BEGIN:STANDARD
TZOFFSETFROM:-0400
TZOFFSETTO:-0500
TZNAME:EST
DTSTART:20251102T060000
END:STANDARD
BEGIN:DAYLIGHT
TZOFFSETFROM:-0500
TZOFFSETTO:-0400
TZNAME:EDT
DTSTART:20260308T070000
END:DAYLIGHT
BEGIN:STANDARD
TZOFFSETFROM:-0400
TZOFFSETTO:-0500
TZNAME:EST
DTSTART:20261101T060000
END:STANDARD
BEGIN:DAYLIGHT
TZOFFSETFROM:-0500
TZOFFSETTO:-0400
TZNAME:EDT
DTSTART:20270314T070000
END:DAYLIGHT
BEGIN:STANDARD
TZOFFSETFROM:-0400
TZOFFSETTO:-0500
TZNAME:EST
DTSTART:20271107T060000
END:STANDARD
END:VTIMEZONE
BEGIN:VEVENT
DTSTART;TZID=America/New_York:20260324T130000
DTEND;TZID=America/New_York:20260324T140000
DTSTAMP:20260422T060859
CREATED:20260225T173937Z
LAST-MODIFIED:20260225T213059Z
UID:10040316-1774357200-1774360800@ohavizedek.org
SUMMARY:YIVO Presents: Holocaust Distortion in Poland\, A Comparative European Perspective
DESCRIPTION:Holocaust distortion in Poland involves reshaping or minimizing facts about the Holocaust\, often emphasizing Polish victimhood while obscuring instances of local collaboration\, participation\, or indifference. It appears in political rhetoric\, memory laws\, public commemorations\, and attacks on critical scholarship. YIVO’s Poland vs. Holocaust History series examines these dynamics and situates the Polish case within a broader European context. \nThis lecture by Jan Grabowski will examine the phenomenon of Holocaust distortion in Poland within a broader comparative European framework. It explores how historical narratives about the Holocaust are reshaped\, minimized\, or selectively reinterpreted in public discourse\, politics\, education\, and law. Particular attention will be paid to the interaction between state-sponsored memory policies\, nationalist narratives\, and scholarly research\, as well as to the pressures faced by historians and educators. By comparing developments in Poland with those in other European countries—including Hungary\, Lithuania\, Germany\, and Russia—the lecture highlights both shared patterns and national specificities in confronting difficult pasts. The discussion addresses legal instruments\, public controversies\, commemorative practices\, and the role of civil society in shaping Holocaust memory. Ultimately\, the lecture asks how and why Holocaust distortion emerges\, what distinguishes distortion from legitimate historical debate\, and what the consequences are for democratic culture\, academic freedom\, and Europe’s collective understanding of the Holocaust. \nThis online event will take place via Zoom at 1:00pm ET. \nClick here for More Info / Registration
URL:https://ohavizedek.org/event/yivo-presents-holocaust-distortion-in-poland-a-comparative-european-perspective/
LOCATION:VT
CATEGORIES:Adult Learning,Community Events
ATTACH;FMTTYPE=image/png:https://ohavizedek.org/wp-content/uploads/2026/02/yivo-poland.png
END:VEVENT
BEGIN:VEVENT
DTSTART;TZID=America/New_York:20260324T173000
DTEND;TZID=America/New_York:20260324T173000
DTSTAMP:20260422T060859
CREATED:20260203T162240Z
LAST-MODIFIED:20260206T140737Z
UID:10037933-1774373400-1774373400@ohavizedek.org
SUMMARY:Reading For Resistance\, Nonviolence: The History of a Dangerous Idea by Mark Kurlansky
DESCRIPTION:Burlington Clergy are working together to offer an interfaith book group to build community and reflect on ways to respond to crisis with moral and faith-full clarity.  \nThe Book: Nonviolence: The History of a Dangerous Idea by Mark Kurlansky \nWhen: Tuesdays at 5:30PM \nFeb. 24 – Beginning\, Part I\nFirst Congregational BTV – 38 S. Winooski Ave. \nMar. 3 – Part II\, III\, IV\nFirst Baptist Church – 81 St. Paul St. \nMar. 10 – Part V\, VI\, VII\nOhavi Zedek – 188 North Prospect Street \nMar. 17 – Part VIII\, IX\, X\nCollege St. Congregational Church – 265 College Street \nMar. 24 – Part XI + The 25 Lessons\nCathedral Church of St. Paul – 2 Cherry St \nWhere: Rotating between various congregations. \nWho: Open to any who wish to participate in good faith. \nFacilitated by: The host site will provide the facilitator for the session. \nWhy: As folks begin to discuss protest and other resistance actions\, this program is meant to extend an invitation to ground our work in strategies and tactics of nonviolence (satyagraha)\, build relationships in order to collaborate in community support and mutual aid networks\, and to inspire the development of nonviolent actions moving forward. \nMore Info: https://thetablebtv.my.canva.site/reading-for-resistance
URL:https://ohavizedek.org/event/reading-for-resistance-nonviolence-the-history-of-a-dangerous-idea-by-mark-kurlansky/2026-03-24/
LOCATION:VT
CATEGORIES:Adult Learning,Community Events,Social Justice
ATTACH;FMTTYPE=image/png:https://ohavizedek.org/wp-content/uploads/2026/02/bfc-reading.png
END:VEVENT
BEGIN:VEVENT
DTSTART;TZID=America/New_York:20260324T173000
DTEND;TZID=America/New_York:20260324T190000
DTSTAMP:20260422T060859
CREATED:20260129T155530Z
LAST-MODIFIED:20260225T154444Z
UID:10037923-1774373400-1774378800@ohavizedek.org
SUMMARY:Special 2-part Book Discussion on 'Being Jewish After the Destruction of Gaza' by Peter Beinart
DESCRIPTION:Please join us for a facilitated discussion on this important book. All are welcome\, regardless of belief and experience with the topic. We’ll reflect on Jewish identity\, grief\, and moral complexity after years of war in Gaza\, using curiosity rather than debate. We hope you attend both sessions so we can dive deep. (A copy of the book is on the table in the social hall). \nIn person only: 5:30-7:00 PM on Tuesday March 24 and 31 at Ohavi Zedek \nPlease Register
URL:https://ohavizedek.org/event/special-2-part-book-discussion-on-being-jewish-after-the-destruction-of-gaza-by-peter-beinart/2026-03-24/
LOCATION:Ohavi Zedek Synagogue\, 188 North Prospect Street\, Burlington\, VT\, 05401\, United States
CATEGORIES:Adult Learning
ATTACH;FMTTYPE=image/jpeg:https://ohavizedek.org/wp-content/uploads/2026/01/beingjewishgaza.jpg
GEO:44.486379;-73.201175
X-APPLE-STRUCTURED-LOCATION;VALUE=URI;X-ADDRESS=Ohavi Zedek Synagogue 188 North Prospect Street Burlington VT 05401 United States;X-APPLE-RADIUS=500;X-TITLE=188 North Prospect Street:geo:-73.201175,44.486379
END:VEVENT
END:VCALENDAR