BEGIN:VCALENDAR
VERSION:2.0
PRODID:-//Ohavi Zedek Synagogue - ECPv6.15.17.1//NONSGML v1.0//EN
CALSCALE:GREGORIAN
METHOD:PUBLISH
X-ORIGINAL-URL:https://ohavizedek.org
X-WR-CALDESC:Events for Ohavi Zedek Synagogue
REFRESH-INTERVAL;VALUE=DURATION:PT1H
X-Robots-Tag:noindex
X-PUBLISHED-TTL:PT1H
BEGIN:VTIMEZONE
TZID:America/New_York
BEGIN:DAYLIGHT
TZOFFSETFROM:-0500
TZOFFSETTO:-0400
TZNAME:EDT
DTSTART:20250309T070000
END:DAYLIGHT
BEGIN:STANDARD
TZOFFSETFROM:-0400
TZOFFSETTO:-0500
TZNAME:EST
DTSTART:20251102T060000
END:STANDARD
BEGIN:DAYLIGHT
TZOFFSETFROM:-0500
TZOFFSETTO:-0400
TZNAME:EDT
DTSTART:20260308T070000
END:DAYLIGHT
BEGIN:STANDARD
TZOFFSETFROM:-0400
TZOFFSETTO:-0500
TZNAME:EST
DTSTART:20261101T060000
END:STANDARD
BEGIN:DAYLIGHT
TZOFFSETFROM:-0500
TZOFFSETTO:-0400
TZNAME:EDT
DTSTART:20270314T070000
END:DAYLIGHT
BEGIN:STANDARD
TZOFFSETFROM:-0400
TZOFFSETTO:-0500
TZNAME:EST
DTSTART:20271107T060000
END:STANDARD
END:VTIMEZONE
BEGIN:VEVENT
DTSTART;TZID=America/New_York:20260426T193000
DTEND;TZID=America/New_York:20260426T213000
DTSTAMP:20260421T135848
CREATED:20250827T172847Z
LAST-MODIFIED:20260318T182858Z
UID:10040389-1777231800-1777239000@ohavizedek.org
SUMMARY:Israeli Dancing - Drop In
DESCRIPTION:Israeli folkdance is a joyous folk art form that is easy to start and difficult to stop. It draws from many cultures and expresses itself in dances that range in complexity and speed. See this article for more information. \nJoin hosts Adele\, Lani and Mitch and a friendly friendly group of people that gathers periodically on Zoom or in person to enjoy the folkdances of Israel! \nWe mostly dance around a circle so no partner is required. We have a large repertoire of beginner-friendly dances. New dancers are encouraged to come at the beginning of the session to benefit from instruction. Please wear shoes with clean soles. \nThis program is free with an optional donation. \nRegister Here \nBecause of ongoing concerns about covid and other circulating viruses\, the group would greatly appreciate attendees wearing a high quality mask such as N95 or KN95. \n 
URL:https://ohavizedek.org/event/israeli-dancing-drop-in-20/2026-04-26/
LOCATION:Ohavi Zedek Synagogue\, 188 North Prospect Street\, Burlington\, VT\, 05401\, United States
CATEGORIES:Adult Learning,Community Events,Israeli Dance
ATTACH;FMTTYPE=image/png:https://ohavizedek.org/wp-content/uploads/2024/09/dancing.png
GEO:44.486379;-73.201175
X-APPLE-STRUCTURED-LOCATION;VALUE=URI;X-ADDRESS=Ohavi Zedek Synagogue 188 North Prospect Street Burlington VT 05401 United States;X-APPLE-RADIUS=500;X-TITLE=188 North Prospect Street:geo:-73.201175,44.486379
END:VEVENT
BEGIN:VEVENT
DTSTART;TZID=America/New_York:20260427T193000
DTEND;TZID=America/New_York:20260427T210000
DTSTAMP:20260421T135848
CREATED:20251210T191024Z
LAST-MODIFIED:20251217T152443Z
UID:10037235-1777318200-1777323600@ohavizedek.org
SUMMARY:Vermont Jewish Poets 2026 Winter Reading Series - Terry Hauptman\, Beth Kanell\, Heather Wishik
DESCRIPTION:VJP readings are designed to deepen our connections as a community. Each poet will read for 15 minutes\, followed by a brief period of audience comments. \nA list of the readers and bios is below. Zoom link is here \nAccessibility Services for our readings include:\nAutomated closed captioning available\nVerbal Description of self and surroundings by facilitators and readers\nEmail here with further accessibility questions \n\nTerry Hauptman\nTerry Hauptman’s eighth full-length volume of poetry just come out this past September. She holds a Master’s degree in poetry from The University of New Mexico\, and a Ph.D in interdisciplinary studies from Ohio University.  She reads her poetry rhapsodically and exhibits her 5’x 49’ figurative scrolls nationally.  She has taught World Art\, Poetry and Ethnopoetics at several universities and workshops\, most recently at Green Mountain College. \n\nBeth Kanell\nBeth Kanell\, https://bethkanell.blogspot.com\, lives in northeastern Vermont among rivers\, rocks\, and a lot of writers. Her poems seek comfortable seats in small well-lit places\, including Lilith Magazine\, The Comstock Review\, Indianapolis Review\, Gyroscope Review\, The Jewish Writing Project\, The Post-Grad Journal\, Does It Have Pockets?\, Anti-Heroin Chic\, Ritualwell\, Persimmon Tree\, Northwind Treasury\, RockPaperPoem\, and Rise Up Review.  Her collection Thresholds is due in 2026 from Kelsay Books. She also writes feature articles\, short stories\, reviews\, and novels\, most recently The Bitter and the Sweet. \nPhoto description Beth Kannell: Seen from the shoulders up\, a light skinned woman with long\, curly\, gray hair\, wearing a black top with a light brown scarf\, stands outside with a gray sky behind her\, a thoughtful look on her face. \n\nHeather Wishik\nHeather Wishik is a poet and visual artist living in Woodstock\, Vermont. She studied poetry with Ellen Bryant Voigt and Heather McHue at Goddard College\, and has taken workshops with Marie Howe\, Susanna Sonnenberg\, Jessica Greenbaum and others since. Her poems have been published most recently in Dreamers Creative Writing\, and Sprout: An Eco Urban Poetry Journal\, and anthologized in New Lesbian Writing (M. Cruikshank\, Ed.) and Gay and Lesbian Poetry in Our Time (Larkin and Morse\, Eds). Her memoir in poetry and was on display as a one woman show at the Norman Williams Public Library in 2024 and at the Kellogg Hubbard Library in 2025. \nPhoto description: Seen from the shoulders up\, a pale-skinned woman with thick\, wavy\, brown hair wearing hoop earrings and a light purple jacket smiles in a close-up portrait.
URL:https://ohavizedek.org/event/vermont-jewish-poets-2026-terry-hauptman-beth-kanell/
LOCATION:VT
CATEGORIES:Adult Learning
ATTACH;FMTTYPE=image/jpeg:https://ohavizedek.org/wp-content/uploads/2025/12/vtpoets.jpg
END:VEVENT
END:VCALENDAR