BEGIN:VCALENDAR
VERSION:2.0
PRODID:-//Ohavi Zedek Synagogue - ECPv6.15.17.1//NONSGML v1.0//EN
CALSCALE:GREGORIAN
METHOD:PUBLISH
X-WR-CALNAME:Ohavi Zedek Synagogue
X-ORIGINAL-URL:https://ohavizedek.org
X-WR-CALDESC:Events for Ohavi Zedek Synagogue
REFRESH-INTERVAL;VALUE=DURATION:PT1H
X-Robots-Tag:noindex
X-PUBLISHED-TTL:PT1H
BEGIN:VTIMEZONE
TZID:America/New_York
BEGIN:DAYLIGHT
TZOFFSETFROM:-0500
TZOFFSETTO:-0400
TZNAME:EDT
DTSTART:20230312T070000
END:DAYLIGHT
BEGIN:STANDARD
TZOFFSETFROM:-0400
TZOFFSETTO:-0500
TZNAME:EST
DTSTART:20231105T060000
END:STANDARD
BEGIN:DAYLIGHT
TZOFFSETFROM:-0500
TZOFFSETTO:-0400
TZNAME:EDT
DTSTART:20240310T070000
END:DAYLIGHT
BEGIN:STANDARD
TZOFFSETFROM:-0400
TZOFFSETTO:-0500
TZNAME:EST
DTSTART:20241103T060000
END:STANDARD
BEGIN:DAYLIGHT
TZOFFSETFROM:-0500
TZOFFSETTO:-0400
TZNAME:EDT
DTSTART:20250309T070000
END:DAYLIGHT
BEGIN:STANDARD
TZOFFSETFROM:-0400
TZOFFSETTO:-0500
TZNAME:EST
DTSTART:20251102T060000
END:STANDARD
END:VTIMEZONE
BEGIN:VEVENT
DTSTART;TZID=America/New_York:20241215T093000
DTEND;TZID=America/New_York:20241215T110000
DTSTAMP:20260423T105823
CREATED:20241120T143505Z
LAST-MODIFIED:20241120T143506Z
UID:10029258-1734255000-1734260400@ohavizedek.org
SUMMARY:Can We Talk & Listen About Israel?
DESCRIPTION:Are you nervous about sharing your views and beliefs about Israel?\nDo you want to be able to safely say to others at Ohavi Zedek how you feel? \n…So do we! \nYOU ARE INVITED TO PARTICIPATE IN AN ONGOING SERIES\nOF FACILITATED CONVERSATIONS ABOUT ISRAEL. \n  \nREGISTER HERE \n  \nThe goal is to engage and learn from each other honestly\, respectfully\, and with curiosity in order to better understand each other. This is not about changing anyone’s mind or coming to agreement. \nWe know members of Ohavi Zedek hold diverse views – and we welcome them! Sharing will help us enhance our trust\, learning and community here at OZ. \n \nIn person at Ohavi Zedek\, open to all OZ adult members – you don’t have to be Jewish. \nHosted by Adult Education at Ohavi Zedek
URL:https://ohavizedek.org/event/can-we-talk-listen-about-israel-3-3/
LOCATION:Ohavi Zedek Synagogue\, 188 North Prospect Street\, Burlington\, VT\, 05401\, United States
CATEGORIES:Adult Learning
ATTACH;FMTTYPE=image/jpeg:https://ohavizedek.org/wp-content/uploads/2024/11/talklistenisrael.jpg
GEO:44.486379;-73.201175
X-APPLE-STRUCTURED-LOCATION;VALUE=URI;X-ADDRESS=Ohavi Zedek Synagogue 188 North Prospect Street Burlington VT 05401 United States;X-APPLE-RADIUS=500;X-TITLE=188 North Prospect Street:geo:-73.201175,44.486379
END:VEVENT
BEGIN:VEVENT
DTSTART;TZID=America/New_York:20241218T133000
DTEND;TZID=America/New_York:20241218T143000
DTSTAMP:20260423T105823
CREATED:20241114T234324Z
LAST-MODIFIED:20241217T141834Z
UID:10029194-1734528600-1734532200@ohavizedek.org
SUMMARY:Elders Heart to Heart Conversation Group
DESCRIPTION:This one hour conversation continues monthly on Zoom. We are a gathering of elders. We share and reflect on what is most important to us about aging\, grandparenting\, parenting and whatever stands out at the time. We are comforted by each other’s listening. If you would like to join\, please fill out this form. \n\n1:30-2:30\, the 3rd Wednesday each month by Zoom.
URL:https://ohavizedek.org/event/elders-heart-to-heart-conversation-group-3/
LOCATION:Zoom
CATEGORIES:Adult Learning
ATTACH;FMTTYPE=image/jpeg:https://ohavizedek.org/wp-content/uploads/2024/08/elders-1.jpg
END:VEVENT
BEGIN:VEVENT
DTSTART;TZID=America/New_York:20241218T193000
DTEND;TZID=America/New_York:20241218T210000
DTSTAMP:20260423T105823
CREATED:20241114T164205Z
LAST-MODIFIED:20241217T150106Z
UID:10029322-1734550200-1734555600@ohavizedek.org
SUMMARY:Soul Travel: Jewish Ways into Dream Interpretation with Rabbi Aaron
DESCRIPTION:Every night our souls go on a journey through the spirit world. We learn from the Talmud that dreams are 1/60th of prophecy and that a dream that has not been interpreted is like a letter that has not been read. Together we will discover the wealth of Jewish teachings on dreams\, dream interpretation\, and dream rituals.  \nAs part of the class each person will keep a personal dream journal (Sefer Chalomot). We are meeting in the month of Kislev\, which according to kabbalah is a time to turn within and pay attention to the deeper messages of our dreams. Kislev is also when we read from the Torah about Jacob’s Ladder and Josef the dreamer and dream interpreter. \nNo prior knowledge of Judaism is required nor do you need to be Jewish. All you need is an interest in dreams and their spiritual messages. \nSessions will be via Zoom only. \nClick to Register \nLinks to Soul Travel source sheets: Jewish Wisdom and Practices for Dreamers / Bedtime and Waking up Prayers
URL:https://ohavizedek.org/event/soul-travel-jewish-ways-into-dream-interpretation/2024-12-18/
LOCATION:Ohavi Zedek Synagogue\, 188 North Prospect Street\, Burlington\, VT\, 05401\, United States
CATEGORIES:Adult Learning
ATTACH;FMTTYPE=image/jpeg:https://ohavizedek.org/wp-content/uploads/2024/11/dream.jpg
GEO:44.486379;-73.201175
X-APPLE-STRUCTURED-LOCATION;VALUE=URI;X-ADDRESS=Ohavi Zedek Synagogue 188 North Prospect Street Burlington VT 05401 United States;X-APPLE-RADIUS=500;X-TITLE=188 North Prospect Street:geo:-73.201175,44.486379
END:VEVENT
BEGIN:VEVENT
DTSTART;TZID=America/New_York:20241219T120000
DTEND;TZID=America/New_York:20241219T131500
DTSTAMP:20260423T105823
CREATED:20240902T015957Z
LAST-MODIFIED:20241204T160414Z
UID:10028213-1734609600-1734614100@ohavizedek.org
SUMMARY:Lunch and Learn // Bridges of Hope: Learning about Mental Health // Dec. 19\, 2024
DESCRIPTION:One in 5 U.S. adults experiences a mental illness each year\, but many of us know little about mental health conditions. Without meaning to\, we may contribute to misconceptions. Some common myths are that mental illnesses are a result of personal weakness or poor upbringing – they aren’t! Learn about how NAMI Vermont is combatting these myths and promoting positive change for mental health. \nA presentation by speakers from NAMI Vermont. \nAbout OZ’s Lunch and Learns: \nSpeakers cover a wide range of topics. A delicious lunch will be offered\, which is served promptly at NOON. The talks begin at about 12:15pm and end no later than 1:15pm (including some time for Q&A). \nSuggested cash contribution of $10 for food can be paid on the registration form or collected at the event — but feel free to give more or less. Please also consider being a sponsor of one or more Lunch & Learn talks. Information on this is on Lunch & Learn talk registration pages\, or contact OZ Program & Engagement Manager Evan Rose at: 802-864-0218 (and select option 1 to reach Evan). \nPlease Register Here to Help Us Plan \n2024-2025 Series of Lunch and Learn Talks: \n\nThursday\, September 26\, 2024: A Storytelling Lunch Hour. Readings by Lenny Levine & David Schein\nThursday\, November 21\, 2024: The Challenges Facing Caregivers. A talk by caregiver and author Alan Rubel.\nThursday\, December 19\, 2024: Bridges of Hope: Learning about Mental Health. A presentation by speakers from NAMI Vermont\nThursday\, January 16\, 2025: Volunteering to Stop Human Trafficking in Vietnam. A talk by OZ member Sue Schein\n Thursday\, February 20\, 2025: Jewish Life & Antisemitism in Today’s Germany. A talk by UVM Professor of History & Holocaust Studies Alan Steinweis\n Thursday\, March 20\, 2025: Artists & the Holocaust: Documentation\, Memory\, Elegy. A visual presentation by former UVM Fleming Museum Director Janie Cohen\n Thursday\, April 24\, 2025: The Music of Terezin. A talk\, with music\, by composer Michael Schachter\n Thursday\, May 15\, 2025: Last Messages from the Dying. An exploration with End of Life Doula Sarah Villanueva\n\nDownload Our Lunch & Learn Brochure with Details on Each Talk \n\n	\n		\n	\n		0 events found.	\n	\n		\n	\n\n		\n	\n\n		\n	\n\n	\n\n\n		\n		\n\n		\n		\n\n	\n	Events\n\n	\n			\n			\n	\n		\n		\n		\n		\n	\n\n\n	Notice\n							\n					There were no results found.				\n					\n	\n\n	\n			\n			\n	\n		\n		\n		\n		\n	\n\n\n	Notice\n							\n					There were no results found.				\n					\n	\n\n	\n\n	\n		Events Search and Views Navigation	\n\n			\n	\n	\n\n	\n		Search	\n\n\n		\n			\n	\n		\n\n		\n			\n	\n		Enter Keyword. Search for Events by Keyword.	\n	\n	\n	\n\n\n		\n\n		\n	Find Events\n	\n\n		\n	\n	\n	\n		Event Views Navigation	\n	\n		\n			\n				\n	\n	\n		\n		\n	\n	\n			\n		\n	\n	\n		\n			\n		\n		\n			\n		\n	\n\n			\n			\n				List			\n			\n	\n\n		\n		\n	\n					\n	\n		\n			\n	\n	\n		\n		\n	\n	\n			\n		\n	\n	\n		\n			\n		\n		\n			\n		\n	\n\n		\n		\n			List		\n	\n\n					\n	\n		\n			\n	\n\n		\n		\n			Month		\n	\n\n					\n	\n		\n			\n	\n\n		\n		\n			Day		\n	\n\n					\n	\n		\n			\n	\n\n		\n		\n			Week		\n	\n\n			\n\n	\n\n\n\n\n	\n\n	\n	\n		\n	\n		\n	\n\n	\n\n\n		\n	\n		\n	\n\n	\n\n	\n\n\n	\n	Today\n\n	\n	\n		\n							\n					Upcoming				\n				\n					Upcoming				\n					\n				\n	\n\n	\n	\n		Select date.	\n	\n	\n	\n		\n	\n\n	\n	\n		\n	\n\n	\n\n\n	\n	\n	\n\n\n\n\n		\n		\n\n			\n		\n\n		\n	\n		\n	\n		\n	\n\n		\n			Previous Events		\n	\n\n\n		\n	\n		Today	\n\n\n		\n	\n		\n			Next Events		\n		\n	\n\n	\n\n	\n\n\n		\n	\n		\n			\n				Subscribe to calendar			\n			\n	\n\n		\n		\n			\n									\n\n	\n		Google Calendar	\n\n									\n\n	\n		iCalendar	\n\n									\n\n	\n		Outlook 365	\n\n									\n\n	\n		Outlook Live	\n\n									\n\n	\n		Export .ics file	\n\n									\n\n	\n		Export Outlook .ics file
URL:https://ohavizedek.org/event/lunch-and-learn-bridges/
LOCATION:Ohavi Zedek Synagogue\, 188 North Prospect Street\, Burlington\, VT\, 05401\, United States
CATEGORIES:Adult Learning,Lunch & Learn
ATTACH;FMTTYPE=image/png:https://ohavizedek.org/wp-content/uploads/2024/09/2024-LL-logo.png
GEO:44.486379;-73.201175
X-APPLE-STRUCTURED-LOCATION;VALUE=URI;X-ADDRESS=Ohavi Zedek Synagogue 188 North Prospect Street Burlington VT 05401 United States;X-APPLE-RADIUS=500;X-TITLE=188 North Prospect Street:geo:-73.201175,44.486379
END:VEVENT
BEGIN:VEVENT
DTSTART;TZID=America/New_York:20241221T083000
DTEND;TZID=America/New_York:20241221T090000
DTSTAMP:20260423T105823
CREATED:20241211T212839Z
LAST-MODIFIED:20241211T213227Z
UID:10029320-1734769800-1734771600@ohavizedek.org
SUMMARY:Lay Led Torah Study
DESCRIPTION:
URL:https://ohavizedek.org/event/lay-led-torah-study/
LOCATION:Ohavi Zedek Samuelson Saiger Sanctuary\, 188 North Prospect Street\, Burlington\, VT\, 05401\, United States
CATEGORIES:Adult Learning
ATTACH;FMTTYPE=image/jpeg:https://ohavizedek.org/wp-content/uploads/2023/12/kshabbat.jpg
END:VEVENT
END:VCALENDAR