BEGIN:VCALENDAR
VERSION:2.0
PRODID:-//Ohavi Zedek Synagogue - ECPv6.15.17.1//NONSGML v1.0//EN
CALSCALE:GREGORIAN
METHOD:PUBLISH
X-ORIGINAL-URL:https://ohavizedek.org
X-WR-CALDESC:Events for Ohavi Zedek Synagogue
REFRESH-INTERVAL;VALUE=DURATION:PT1H
X-Robots-Tag:noindex
X-PUBLISHED-TTL:PT1H
BEGIN:VTIMEZONE
TZID:America/New_York
BEGIN:DAYLIGHT
TZOFFSETFROM:-0500
TZOFFSETTO:-0400
TZNAME:EDT
DTSTART:20240310T070000
END:DAYLIGHT
BEGIN:STANDARD
TZOFFSETFROM:-0400
TZOFFSETTO:-0500
TZNAME:EST
DTSTART:20241103T060000
END:STANDARD
BEGIN:DAYLIGHT
TZOFFSETFROM:-0500
TZOFFSETTO:-0400
TZNAME:EDT
DTSTART:20250309T070000
END:DAYLIGHT
BEGIN:STANDARD
TZOFFSETFROM:-0400
TZOFFSETTO:-0500
TZNAME:EST
DTSTART:20251102T060000
END:STANDARD
BEGIN:DAYLIGHT
TZOFFSETFROM:-0500
TZOFFSETTO:-0400
TZNAME:EDT
DTSTART:20260308T070000
END:DAYLIGHT
BEGIN:STANDARD
TZOFFSETFROM:-0400
TZOFFSETTO:-0500
TZNAME:EST
DTSTART:20261101T060000
END:STANDARD
END:VTIMEZONE
BEGIN:VEVENT
DTSTART;TZID=America/New_York:20250105T193000
DTEND;TZID=America/New_York:20250105T213000
DTSTAMP:20260421T131237
CREATED:20241224T151951Z
LAST-MODIFIED:20241224T155857Z
UID:10029433-1736105400-1736112600@ohavizedek.org
SUMMARY:Israeli Dancing - Drop In
DESCRIPTION:Israeli folkdance is a joyous folk art form that is easy to start and difficult to stop. It draws from many cultures and expresses itself in dances that range in complexity and speed. See this article for more information. \nJoin hosts Adele\, Lani and Mitch and a friendly friendly group of people that gathers periodically on Zoom or in person to enjoy the folkdances of Israel! \nWe mostly dance around a circle so no partner is required. We have a large repertoire of beginner-friendly dances. New dancers are encouraged to come at the beginning of the session to benefit from instruction. Please wear shoes with clean soles. \nThis program is free with an optional donation. \nRegister Here \nBecause of ongoing concerns about covid and other circulating viruses\, the group would greatly appreciate attendees wearing a high quality mask such as N95 or KN95. \n 
URL:https://ohavizedek.org/event/israeli-dancing-fall-and-winter-2024-drop-in-4/
LOCATION:Ohavi Zedek Synagogue\, 188 North Prospect Street\, Burlington\, VT\, 05401\, United States
CATEGORIES:Adult Learning,Community Events,Israeli Dance
ATTACH;FMTTYPE=image/png:https://ohavizedek.org/wp-content/uploads/2024/09/dancing.png
GEO:44.486379;-73.201175
X-APPLE-STRUCTURED-LOCATION;VALUE=URI;X-ADDRESS=Ohavi Zedek Synagogue 188 North Prospect Street Burlington VT 05401 United States;X-APPLE-RADIUS=500;X-TITLE=188 North Prospect Street:geo:-73.201175,44.486379
END:VEVENT
BEGIN:VEVENT
DTSTART;TZID=America/New_York:20250108T193000
DTEND;TZID=America/New_York:20250108T210000
DTSTAMP:20260421T131237
CREATED:20241114T164205Z
LAST-MODIFIED:20241217T150106Z
UID:10029181-1736364600-1736370000@ohavizedek.org
SUMMARY:Soul Travel: Jewish Ways into Dream Interpretation with Rabbi Aaron
DESCRIPTION:Every night our souls go on a journey through the spirit world. We learn from the Talmud that dreams are 1/60th of prophecy and that a dream that has not been interpreted is like a letter that has not been read. Together we will discover the wealth of Jewish teachings on dreams\, dream interpretation\, and dream rituals.  \nAs part of the class each person will keep a personal dream journal (Sefer Chalomot). We are meeting in the month of Kislev\, which according to kabbalah is a time to turn within and pay attention to the deeper messages of our dreams. Kislev is also when we read from the Torah about Jacob’s Ladder and Josef the dreamer and dream interpreter. \nNo prior knowledge of Judaism is required nor do you need to be Jewish. All you need is an interest in dreams and their spiritual messages. \nSessions will be via Zoom only. \nClick to Register \nLinks to Soul Travel source sheets: Jewish Wisdom and Practices for Dreamers / Bedtime and Waking up Prayers
URL:https://ohavizedek.org/event/soul-travel-jewish-ways-into-dream-interpretation/2025-01-08/
LOCATION:Ohavi Zedek Synagogue\, 188 North Prospect Street\, Burlington\, VT\, 05401\, United States
CATEGORIES:Adult Learning
ATTACH;FMTTYPE=image/jpeg:https://ohavizedek.org/wp-content/uploads/2024/11/dream.jpg
GEO:44.486379;-73.201175
X-APPLE-STRUCTURED-LOCATION;VALUE=URI;X-ADDRESS=Ohavi Zedek Synagogue 188 North Prospect Street Burlington VT 05401 United States;X-APPLE-RADIUS=500;X-TITLE=188 North Prospect Street:geo:-73.201175,44.486379
END:VEVENT
BEGIN:VEVENT
DTSTART;TZID=America/New_York:20250109T200000
DTEND;TZID=America/New_York:20250109T210000
DTSTAMP:20260421T131237
CREATED:20241217T162546Z
LAST-MODIFIED:20250102T222045Z
UID:10029323-1736452800-1736456400@ohavizedek.org
SUMMARY:OZ Book Club - The Whisper Sister
DESCRIPTION:The OZ Monthly Book Club meets monthly and welcomes adult readers. Book selections are determined by the group\, with topics that are related to Jewish themes and concepts. Join these casual discussions about the book. \nThe Whisper Sister by Jennifer S. Brown \nThe author of Modern Girls delivers an atmospheric coming-of-age story set in Prohibition-era New York\, tracing one immigrant family’s fortunes and a young girl’s journey from the schoolyard to the speakeasy.
URL:https://ohavizedek.org/event/oz-book-club-2025/
LOCATION:Zoom
CATEGORIES:Book Club
ATTACH;FMTTYPE=image/png:https://ohavizedek.org/wp-content/uploads/2025/01/book-club.png
END:VEVENT
END:VCALENDAR