BEGIN:VCALENDAR
VERSION:2.0
PRODID:-//Ohavi Zedek Synagogue - ECPv6.15.17.1//NONSGML v1.0//EN
CALSCALE:GREGORIAN
METHOD:PUBLISH
X-WR-CALNAME:Ohavi Zedek Synagogue
X-ORIGINAL-URL:https://ohavizedek.org
X-WR-CALDESC:Events for Ohavi Zedek Synagogue
REFRESH-INTERVAL;VALUE=DURATION:PT1H
X-Robots-Tag:noindex
X-PUBLISHED-TTL:PT1H
BEGIN:VTIMEZONE
TZID:America/New_York
BEGIN:DAYLIGHT
TZOFFSETFROM:-0500
TZOFFSETTO:-0400
TZNAME:EDT
DTSTART:20240310T070000
END:DAYLIGHT
BEGIN:STANDARD
TZOFFSETFROM:-0400
TZOFFSETTO:-0500
TZNAME:EST
DTSTART:20241103T060000
END:STANDARD
BEGIN:DAYLIGHT
TZOFFSETFROM:-0500
TZOFFSETTO:-0400
TZNAME:EDT
DTSTART:20250309T070000
END:DAYLIGHT
BEGIN:STANDARD
TZOFFSETFROM:-0400
TZOFFSETTO:-0500
TZNAME:EST
DTSTART:20251102T060000
END:STANDARD
BEGIN:DAYLIGHT
TZOFFSETFROM:-0500
TZOFFSETTO:-0400
TZNAME:EDT
DTSTART:20260308T070000
END:DAYLIGHT
BEGIN:STANDARD
TZOFFSETFROM:-0400
TZOFFSETTO:-0500
TZNAME:EST
DTSTART:20261101T060000
END:STANDARD
END:VTIMEZONE
BEGIN:VEVENT
DTSTART;TZID=America/New_York:20250216T093000
DTEND;TZID=America/New_York:20250216T110000
DTSTAMP:20260422T073211
CREATED:20241118T202623Z
LAST-MODIFIED:20250326T192741Z
UID:10030927-1739698200-1739703600@ohavizedek.org
SUMMARY:Can We Talk & Listen About Israel?
DESCRIPTION:Are you nervous about sharing your views and beliefs about Israel?\nDo you want to be able to safely say to others at Ohavi Zedek how you feel? \n…So do we! \nYOU ARE INVITED TO PARTICIPATE IN AN ONGOING SERIES\nOF FACILITATED CONVERSATIONS ABOUT ISRAEL. \n  \nREGISTER HERE \n  \nThe goal is to engage and learn from each other honestly\, respectfully\, and with curiosity in order to better understand each other. This is not about changing anyone’s mind or coming to agreement. \nWe know members of Ohavi Zedek hold diverse views – and we welcome them! Sharing will help us enhance our trust\, learning and community here at OZ. \nIn person at Ohavi Zedek\, open to all OZ adult members – you don’t have to be Jewish. \nHosted by Adult Education at Ohavi Zedek
URL:https://ohavizedek.org/event/can-we-talk-listen-about-israel-3/2025-02-16/
LOCATION:Ohavi Zedek Synagogue\, 188 North Prospect Street\, Burlington\, VT\, 05401\, United States
CATEGORIES:Adult Learning
ATTACH;FMTTYPE=image/jpeg:https://ohavizedek.org/wp-content/uploads/2024/11/talklistenisrael.jpg
GEO:44.486379;-73.201175
X-APPLE-STRUCTURED-LOCATION;VALUE=URI;X-ADDRESS=Ohavi Zedek Synagogue 188 North Prospect Street Burlington VT 05401 United States;X-APPLE-RADIUS=500;X-TITLE=188 North Prospect Street:geo:-73.201175,44.486379
END:VEVENT
BEGIN:VEVENT
DTSTART;TZID=America/New_York:20250218T193000
DTEND;TZID=America/New_York:20250218T203000
DTSTAMP:20260422T073211
CREATED:20250106T203112Z
LAST-MODIFIED:20250212T192735Z
UID:10030822-1739907000-1739910600@ohavizedek.org
SUMMARY:Intro to Hebrew Reading for Adults
DESCRIPTION:Want to begin to read Hebrew? Want to brush up on your skills? Join with Rabbi Aaron\, Cantor Silverberg and Lani Ravin to learn how to read Hebrew and in particular key words and prayers. This series will also deepen your understanding of the prayers and the Israeli cultural context. \nThis series takes place via Zoom on Tuesday from 7:30pm-8:30pm on the following nine dates. \nFebruary 11\, 18\, 25\nMarch 4\, 11\, 18\, 25\nApril 1\, 8 \nBefore registering\, please be sure you can attend all of these times. If you miss a class we will have recordings available. \nAt the end of the class series\, students will be invited to participate in a Shabbat or holiday service \nCurriculum developed by NJOP\, the National Jewish Outreach Program. \nSign-Up Now!
URL:https://ohavizedek.org/event/intro-to-hebrew-reading-for-adults/2025-02-18/
LOCATION:VT
CATEGORIES:Adult Learning
ATTACH;FMTTYPE=image/png:https://ohavizedek.org/wp-content/uploads/2025/01/hebrew3.png
END:VEVENT
BEGIN:VEVENT
DTSTART;TZID=America/New_York:20250219T133000
DTEND;TZID=America/New_York:20250219T143000
DTSTAMP:20260422T073211
CREATED:20241114T234355Z
LAST-MODIFIED:20241217T141757Z
UID:10029196-1739971800-1739975400@ohavizedek.org
SUMMARY:Elders Heart to Heart Conversation Group
DESCRIPTION:This one hour conversation continues monthly on Zoom. We are a gathering of elders. We share and reflect on what is most important to us about aging\, grandparenting\, parenting and whatever stands out at the time. We are comforted by each other’s listening. If you would like to join\, please fill out this form. \n\n1:30-2:30\, the 3rd Wednesday each month by Zoom.
URL:https://ohavizedek.org/event/elders-heart-to-heart-conversation-group-5/
LOCATION:Zoom
CATEGORIES:Adult Learning
ATTACH;FMTTYPE=image/jpeg:https://ohavizedek.org/wp-content/uploads/2024/08/elders-1.jpg
END:VEVENT
END:VCALENDAR