BEGIN:VCALENDAR
VERSION:2.0
PRODID:-//Ohavi Zedek Synagogue - ECPv6.15.17.1//NONSGML v1.0//EN
CALSCALE:GREGORIAN
METHOD:PUBLISH
X-WR-CALNAME:Ohavi Zedek Synagogue
X-ORIGINAL-URL:https://ohavizedek.org
X-WR-CALDESC:Events for Ohavi Zedek Synagogue
REFRESH-INTERVAL;VALUE=DURATION:PT1H
X-Robots-Tag:noindex
X-PUBLISHED-TTL:PT1H
BEGIN:VTIMEZONE
TZID:America/New_York
BEGIN:DAYLIGHT
TZOFFSETFROM:-0500
TZOFFSETTO:-0400
TZNAME:EDT
DTSTART:20250309T070000
END:DAYLIGHT
BEGIN:STANDARD
TZOFFSETFROM:-0400
TZOFFSETTO:-0500
TZNAME:EST
DTSTART:20251102T060000
END:STANDARD
BEGIN:DAYLIGHT
TZOFFSETFROM:-0500
TZOFFSETTO:-0400
TZNAME:EDT
DTSTART:20260308T070000
END:DAYLIGHT
BEGIN:STANDARD
TZOFFSETFROM:-0400
TZOFFSETTO:-0500
TZNAME:EST
DTSTART:20261101T060000
END:STANDARD
BEGIN:DAYLIGHT
TZOFFSETFROM:-0500
TZOFFSETTO:-0400
TZNAME:EDT
DTSTART:20270314T070000
END:DAYLIGHT
BEGIN:STANDARD
TZOFFSETFROM:-0400
TZOFFSETTO:-0500
TZNAME:EST
DTSTART:20271107T060000
END:STANDARD
END:VTIMEZONE
BEGIN:VEVENT
DTSTART;TZID=America/New_York:20260308T140000
DTEND;TZID=America/New_York:20260308T160000
DTSTAMP:20260420T214238
CREATED:20251218T135533Z
LAST-MODIFIED:20251218T140807Z
UID:10037259-1772978400-1772985600@ohavizedek.org
SUMMARY:Jewish Play Reading Series - Elie Weisel: The Trial of God
DESCRIPTION:Are you interested in plays? Come together in person from 2-4:00 on a Sunday afternoon to read and discuss a Jewish play. Each play is from a different period in Jewish history. Drop in to as many sessions as you can. Never read a script before – we’ll help you! \nElie Weisel: The Trial of God takes place in 1649\, in a small village in Ukraine after a pogram; Purim revelers arrive and meet the last Jewish person – the bar tender/owner. Where is God when innocent people suffer? The Purim spiel is the trial of God. (written 1979)
URL:https://ohavizedek.org/event/jewish-play-reading-series-elie-weisel-the-trial-of-god/
LOCATION:Ohavi Zedek Synagogue\, 188 North Prospect Street\, Burlington\, VT\, 05401\, United States
CATEGORIES:Adult Learning
ATTACH;FMTTYPE=image/png:https://ohavizedek.org/wp-content/uploads/2025/12/playreading.png
GEO:44.486379;-73.201175
X-APPLE-STRUCTURED-LOCATION;VALUE=URI;X-ADDRESS=Ohavi Zedek Synagogue 188 North Prospect Street Burlington VT 05401 United States;X-APPLE-RADIUS=500;X-TITLE=188 North Prospect Street:geo:-73.201175,44.486379
END:VEVENT
BEGIN:VEVENT
DTSTART;TZID=America/New_York:20260308T193000
DTEND;TZID=America/New_York:20260308T213000
DTSTAMP:20260420T214238
CREATED:20250827T172847Z
LAST-MODIFIED:20260318T182858Z
UID:10036951-1772998200-1773005400@ohavizedek.org
SUMMARY:Israeli Dancing - Drop In
DESCRIPTION:Israeli folkdance is a joyous folk art form that is easy to start and difficult to stop. It draws from many cultures and expresses itself in dances that range in complexity and speed. See this article for more information. \nJoin hosts Adele\, Lani and Mitch and a friendly friendly group of people that gathers periodically on Zoom or in person to enjoy the folkdances of Israel! \nWe mostly dance around a circle so no partner is required. We have a large repertoire of beginner-friendly dances. New dancers are encouraged to come at the beginning of the session to benefit from instruction. Please wear shoes with clean soles. \nThis program is free with an optional donation. \nRegister Here \nBecause of ongoing concerns about covid and other circulating viruses\, the group would greatly appreciate attendees wearing a high quality mask such as N95 or KN95. \n 
URL:https://ohavizedek.org/event/israeli-dancing-drop-in-20/2026-03-08/
LOCATION:Ohavi Zedek Synagogue\, 188 North Prospect Street\, Burlington\, VT\, 05401\, United States
CATEGORIES:Adult Learning,Community Events,Israeli Dance
ATTACH;FMTTYPE=image/png:https://ohavizedek.org/wp-content/uploads/2024/09/dancing.png
GEO:44.486379;-73.201175
X-APPLE-STRUCTURED-LOCATION;VALUE=URI;X-ADDRESS=Ohavi Zedek Synagogue 188 North Prospect Street Burlington VT 05401 United States;X-APPLE-RADIUS=500;X-TITLE=188 North Prospect Street:geo:-73.201175,44.486379
END:VEVENT
BEGIN:VEVENT
DTSTART;TZID=America/New_York:20260310T173000
DTEND;TZID=America/New_York:20260310T173000
DTSTAMP:20260420T214238
CREATED:20260203T162240Z
LAST-MODIFIED:20260206T140737Z
UID:10037931-1773163800-1773163800@ohavizedek.org
SUMMARY:Reading For Resistance\, Nonviolence: The History of a Dangerous Idea by Mark Kurlansky
DESCRIPTION:Burlington Clergy are working together to offer an interfaith book group to build community and reflect on ways to respond to crisis with moral and faith-full clarity.  \nThe Book: Nonviolence: The History of a Dangerous Idea by Mark Kurlansky \nWhen: Tuesdays at 5:30PM \nFeb. 24 – Beginning\, Part I\nFirst Congregational BTV – 38 S. Winooski Ave. \nMar. 3 – Part II\, III\, IV\nFirst Baptist Church – 81 St. Paul St. \nMar. 10 – Part V\, VI\, VII\nOhavi Zedek – 188 North Prospect Street \nMar. 17 – Part VIII\, IX\, X\nCollege St. Congregational Church – 265 College Street \nMar. 24 – Part XI + The 25 Lessons\nCathedral Church of St. Paul – 2 Cherry St \nWhere: Rotating between various congregations. \nWho: Open to any who wish to participate in good faith. \nFacilitated by: The host site will provide the facilitator for the session. \nWhy: As folks begin to discuss protest and other resistance actions\, this program is meant to extend an invitation to ground our work in strategies and tactics of nonviolence (satyagraha)\, build relationships in order to collaborate in community support and mutual aid networks\, and to inspire the development of nonviolent actions moving forward. \nMore Info: https://thetablebtv.my.canva.site/reading-for-resistance
URL:https://ohavizedek.org/event/reading-for-resistance-nonviolence-the-history-of-a-dangerous-idea-by-mark-kurlansky/2026-03-10/
LOCATION:VT
CATEGORIES:Adult Learning,Community Events,Social Justice
ATTACH;FMTTYPE=image/png:https://ohavizedek.org/wp-content/uploads/2026/02/bfc-reading.png
END:VEVENT
BEGIN:VEVENT
DTSTART;TZID=America/New_York:20260312T200000
DTEND;TZID=America/New_York:20260312T210000
DTSTAMP:20260420T214238
CREATED:20260106T150703Z
LAST-MODIFIED:20260213T145904Z
UID:10037274-1773345600-1773349200@ohavizedek.org
SUMMARY:OZ Book Club - Nonviolence: The History of a Dangerous Idea by Mark Kurlansky
DESCRIPTION:The OZ Monthly Book Club meets monthly and welcomes adult readers. Book selections are determined by the group\, with topics that are related to Jewish themes and concepts. Join these casual discussions about the book. \n \nNonviolence: The History of a Dangerous Idea by Mark Kurlansky \nIn this timely\, highly original\, and controversial narrative\, New York Times bestselling author Mark Kurlansky discusses nonviolence as a distinct entity\, a course of action\, rather than a mere state of mind. Nonviolence can and should be a technique for overcoming social injustice and ending wars\, he asserts\, which is why it is the preferred method of those who speak truth to power. Nonviolence is a sweeping yet concise history that moves from ancient Hindu times to present-day conflicts raging in the Middle East and elsewhere. Kurlansky also brings into focus just why nonviolence is a “dangerous” idea\, and asks such provocative questions as: Is there such a thing as a “just war”? Could nonviolence have worked against even the most evil regimes in history? Kurlansky draws from history twenty-five provocative lessons on the subject that we can use to effect change today. He shows how\, time and again\, violence is used to suppress nonviolence and its practitioners-Gandhi and Martin Luther King\, for example; that the stated deterrence value of standing national armies and huge weapons arsenals is\, at best\, negligible; and\, encouragingly\, that much of the hard work necessary to begin a movement to end war is already complete. It simply needs to be embraced and accelerated. Engaging\, scholarly\, and brilliantly reasoned\, Nonviolence is a work that compels readers to look at history in an entirely new way. This is not just a manifesto for our times but a trailblazing book whose time has come
URL:https://ohavizedek.org/event/historydangerousidea/
LOCATION:Zoom
CATEGORIES:Book Club
ATTACH;FMTTYPE=image/png:https://ohavizedek.org/wp-content/uploads/2026/01/book-club-2026.png
END:VEVENT
BEGIN:VEVENT
DTSTART;TZID=America/New_York:20260314T124500
DTEND;TZID=America/New_York:20260314T133000
DTSTAMP:20260420T214238
CREATED:20260106T163056Z
LAST-MODIFIED:20260304T160128Z
UID:10040320-1773492300-1773495000@ohavizedek.org
SUMMARY:Jewish Belief with Rabbi Ariel
DESCRIPTION:Join with R’ Ariel in a weekly class and discussion on Jewish belief– topics will include G-d\, revelation\, the covenant\, interfaith relations\, social justice\, and living a life of Torah. We welcome all to join and delve into these topics (and more)\, all sources in English and no background needed!
URL:https://ohavizedek.org/event/jewish-belief-with-rabbi-ariel/2026-03-14/
LOCATION:Ohavi Zedek Samuelson Saiger Sanctuary\, 188 North Prospect Street\, Burlington\, VT\, 05401\, United States
CATEGORIES:Adult Learning
ATTACH;FMTTYPE=image/png:https://ohavizedek.org/wp-content/uploads/2026/01/rabbi-1.png
END:VEVENT
END:VCALENDAR