BEGIN:VCALENDAR
VERSION:2.0
PRODID:-//Ohavi Zedek Synagogue - ECPv6.15.17.1//NONSGML v1.0//EN
CALSCALE:GREGORIAN
METHOD:PUBLISH
X-ORIGINAL-URL:https://ohavizedek.org
X-WR-CALDESC:Events for Ohavi Zedek Synagogue
REFRESH-INTERVAL;VALUE=DURATION:PT1H
X-Robots-Tag:noindex
X-PUBLISHED-TTL:PT1H
BEGIN:VTIMEZONE
TZID:America/New_York
BEGIN:DAYLIGHT
TZOFFSETFROM:-0500
TZOFFSETTO:-0400
TZNAME:EDT
DTSTART:20250309T070000
END:DAYLIGHT
BEGIN:STANDARD
TZOFFSETFROM:-0400
TZOFFSETTO:-0500
TZNAME:EST
DTSTART:20251102T060000
END:STANDARD
BEGIN:DAYLIGHT
TZOFFSETFROM:-0500
TZOFFSETTO:-0400
TZNAME:EDT
DTSTART:20260308T070000
END:DAYLIGHT
BEGIN:STANDARD
TZOFFSETFROM:-0400
TZOFFSETTO:-0500
TZNAME:EST
DTSTART:20261101T060000
END:STANDARD
BEGIN:DAYLIGHT
TZOFFSETFROM:-0500
TZOFFSETTO:-0400
TZNAME:EDT
DTSTART:20270314T070000
END:DAYLIGHT
BEGIN:STANDARD
TZOFFSETFROM:-0400
TZOFFSETTO:-0500
TZNAME:EST
DTSTART:20271107T060000
END:STANDARD
END:VTIMEZONE
BEGIN:VEVENT
DTSTART;TZID=America/New_York:20260315T091500
DTEND;TZID=America/New_York:20260315T110000
DTSTAMP:20260422T130909
CREATED:20251223T153440Z
LAST-MODIFIED:20260211T183716Z
UID:10037270-1773566100-1773572400@ohavizedek.org
SUMMARY:Opening Courageous Conversations on Israel/Palestine
DESCRIPTION:Do you feel heard? \nWe welcome all Jewish identified adults to explore our feelings and reactions to the tensions in Israel/ Palestine today. We will use Jewish values\, and Jewish and Palestinian writings as a basis for holding courageous conversations together. Coffee and goodies included. \nThese 5 conversations will build on each other. Come to as many as you can. In person at Ohavi Zedek\, monthly on Sunday mornings. Please register so we can send you materials ahead of each session. \nSundays from 9:15 – 11:00 in the OZ Sanctuary & Social Hall \nClick to Register \nClick to access the short readings for the sessions
URL:https://ohavizedek.org/event/opening-courageous-conversations-on-israel-palestine-3/
LOCATION:Ohavi Zedek Synagogue\, 188 North Prospect Street\, Burlington\, VT\, 05401\, United States
CATEGORIES:Adult Learning
ATTACH;FMTTYPE=image/png:https://ohavizedek.org/wp-content/uploads/2025/12/oconversations.png
GEO:44.486379;-73.201175
X-APPLE-STRUCTURED-LOCATION;VALUE=URI;X-ADDRESS=Ohavi Zedek Synagogue 188 North Prospect Street Burlington VT 05401 United States;X-APPLE-RADIUS=500;X-TITLE=188 North Prospect Street:geo:-73.201175,44.486379
END:VEVENT
BEGIN:VEVENT
DTSTART;TZID=America/New_York:20260315T193000
DTEND;TZID=America/New_York:20260315T213000
DTSTAMP:20260422T130909
CREATED:20250827T172847Z
LAST-MODIFIED:20260318T182858Z
UID:10036952-1773603000-1773610200@ohavizedek.org
SUMMARY:Israeli Dancing - Drop In
DESCRIPTION:Israeli folkdance is a joyous folk art form that is easy to start and difficult to stop. It draws from many cultures and expresses itself in dances that range in complexity and speed. See this article for more information. \nJoin hosts Adele\, Lani and Mitch and a friendly friendly group of people that gathers periodically on Zoom or in person to enjoy the folkdances of Israel! \nWe mostly dance around a circle so no partner is required. We have a large repertoire of beginner-friendly dances. New dancers are encouraged to come at the beginning of the session to benefit from instruction. Please wear shoes with clean soles. \nThis program is free with an optional donation. \nRegister Here \nBecause of ongoing concerns about covid and other circulating viruses\, the group would greatly appreciate attendees wearing a high quality mask such as N95 or KN95. \n 
URL:https://ohavizedek.org/event/israeli-dancing-drop-in-20/2026-03-15/
LOCATION:Ohavi Zedek Synagogue\, 188 North Prospect Street\, Burlington\, VT\, 05401\, United States
CATEGORIES:Adult Learning,Community Events,Israeli Dance
ATTACH;FMTTYPE=image/png:https://ohavizedek.org/wp-content/uploads/2024/09/dancing.png
GEO:44.486379;-73.201175
X-APPLE-STRUCTURED-LOCATION;VALUE=URI;X-ADDRESS=Ohavi Zedek Synagogue 188 North Prospect Street Burlington VT 05401 United States;X-APPLE-RADIUS=500;X-TITLE=188 North Prospect Street:geo:-73.201175,44.486379
END:VEVENT
BEGIN:VEVENT
DTSTART;TZID=America/New_York:20260317T173000
DTEND;TZID=America/New_York:20260317T173000
DTSTAMP:20260422T130909
CREATED:20260203T162240Z
LAST-MODIFIED:20260206T140737Z
UID:10037932-1773768600-1773768600@ohavizedek.org
SUMMARY:Reading For Resistance\, Nonviolence: The History of a Dangerous Idea by Mark Kurlansky
DESCRIPTION:Burlington Clergy are working together to offer an interfaith book group to build community and reflect on ways to respond to crisis with moral and faith-full clarity.  \nThe Book: Nonviolence: The History of a Dangerous Idea by Mark Kurlansky \nWhen: Tuesdays at 5:30PM \nFeb. 24 – Beginning\, Part I\nFirst Congregational BTV – 38 S. Winooski Ave. \nMar. 3 – Part II\, III\, IV\nFirst Baptist Church – 81 St. Paul St. \nMar. 10 – Part V\, VI\, VII\nOhavi Zedek – 188 North Prospect Street \nMar. 17 – Part VIII\, IX\, X\nCollege St. Congregational Church – 265 College Street \nMar. 24 – Part XI + The 25 Lessons\nCathedral Church of St. Paul – 2 Cherry St \nWhere: Rotating between various congregations. \nWho: Open to any who wish to participate in good faith. \nFacilitated by: The host site will provide the facilitator for the session. \nWhy: As folks begin to discuss protest and other resistance actions\, this program is meant to extend an invitation to ground our work in strategies and tactics of nonviolence (satyagraha)\, build relationships in order to collaborate in community support and mutual aid networks\, and to inspire the development of nonviolent actions moving forward. \nMore Info: https://thetablebtv.my.canva.site/reading-for-resistance
URL:https://ohavizedek.org/event/reading-for-resistance-nonviolence-the-history-of-a-dangerous-idea-by-mark-kurlansky/2026-03-17/
LOCATION:VT
CATEGORIES:Adult Learning,Community Events,Social Justice
ATTACH;FMTTYPE=image/png:https://ohavizedek.org/wp-content/uploads/2026/02/bfc-reading.png
END:VEVENT
BEGIN:VEVENT
DTSTART;TZID=America/New_York:20260317T193000
DTEND;TZID=America/New_York:20260317T210000
DTSTAMP:20260422T130909
CREATED:20260227T184155Z
LAST-MODIFIED:20260302T161011Z
UID:10040317-1773775800-1773781200@ohavizedek.org
SUMMARY:Siona Benjamin and her New Haggadah
DESCRIPTION:Welcome into the artistic world of Siona Benjamin. Siona will share her richly illustrated\, 2026 Haggadah\, commissioned by Central Synagogue\, NY. with some of her other work. Come learn about her unique perspective as an Indian-American-Jewish artist. She creates art that represents her transcultural and multicultural narrative\, which has been shown in galleries\, museums & sacred spaces around the world. Learn more about Siona here: https://artsiona.com/ \nThis presentation is offered via Zoom only.
URL:https://ohavizedek.org/event/sionabenjamin/
LOCATION:VT
CATEGORIES:Adult Learning
ATTACH;FMTTYPE=image/png:https://ohavizedek.org/wp-content/uploads/2026/02/nancysugevent.png
END:VEVENT
BEGIN:VEVENT
DTSTART;TZID=America/New_York:20260318T133000
DTEND;TZID=America/New_York:20260318T143000
DTSTAMP:20260422T130909
CREATED:20241114T234455Z
LAST-MODIFIED:20250609T171221Z
UID:10031821-1773840600-1773844200@ohavizedek.org
SUMMARY:Elders Heart to Heart Conversation Group
DESCRIPTION:This one hour conversation continues monthly on Zoom. We are a gathering of elders. We share and reflect on what is most important to us about aging\, grandparenting\, parenting and whatever stands out at the time. We are comforted by each other’s listening. If you would like to join\, please fill out this form. \n\n1:30-2:30\, the 3rd Wednesday each month by Zoom.
URL:https://ohavizedek.org/event/elders-heart-to-heart-conversation-group-7/2026-03-18/
LOCATION:Zoom
CATEGORIES:Adult Learning
ATTACH;FMTTYPE=image/jpeg:https://ohavizedek.org/wp-content/uploads/2024/08/elders-1.jpg
END:VEVENT
BEGIN:VEVENT
DTSTART;TZID=America/New_York:20260318T173000
DTEND;TZID=America/New_York:20260318T190000
DTSTAMP:20260422T130909
CREATED:20260212T162702Z
LAST-MODIFIED:20260218T201258Z
UID:10038500-1773855000-1773860400@ohavizedek.org
SUMMARY:Women's History Month: Liturgy & Inclusion
DESCRIPTION:In honor of Women’s History Month\, please join Rabbi Ariel and Cantor Silverberg for a thoughtful exploration of how inclusive language has shaped our siddur (prayer book) and liturgy. Together\, we’ll examine how feminist insights have influenced the words of our prayers—and how those changes shape our understanding of G-d and our tradition. All are welcome to learn\, reflect\, and join the conversation! \nThis discussion is on Zoom only. \n 
URL:https://ohavizedek.org/event/womens-history-month/
LOCATION:VT
CATEGORIES:Adult Learning
ATTACH;FMTTYPE=image/png:https://ohavizedek.org/wp-content/uploads/2026/02/wmns-history.png
END:VEVENT
BEGIN:VEVENT
DTSTART;TZID=America/New_York:20260318T193000
DTEND;TZID=America/New_York:20260318T210000
DTSTAMP:20260422T130909
CREATED:20251031T134333Z
LAST-MODIFIED:20251031T134333Z
UID:10036489-1773862200-1773867600@ohavizedek.org
SUMMARY:Adult Ed Committee Meeting
DESCRIPTION:Those interested in joining or learning more about Adult Education should contact Nancy at ozadulteducation@gmail.com
URL:https://ohavizedek.org/event/adult-ed-committee-meeting/2026-03-18/
LOCATION:VT
CATEGORIES:Adult Learning,Committee Meetings
END:VEVENT
BEGIN:VEVENT
DTSTART;TZID=America/New_York:20260319T193000
DTEND;TZID=America/New_York:20260319T210000
DTSTAMP:20260422T130909
CREATED:20251126T165737Z
LAST-MODIFIED:20251209T145318Z
UID:10036644-1773948600-1773954000@ohavizedek.org
SUMMARY:The Climate Crisis: What You Should Know and What You Can (and Should) Do
DESCRIPTION:What is Climate Change\, how does it affect our health and life\, and what we can do about it. Join climate change experts – and OZ members- Fred Kosnitsky and Susan Kaplan to learn and discuss this critical issue. Drop in these 5 monthly sessions on Thursday evenings. Attend as many as you can! \nVia Zoom: Monthly on Thursdays\, 7:30-9 PM \nREGISTER HERE \n\n· Session 1 – Jan. 8 – The Science of Climate Change: Weather\, Climate\, the Greenhouse Effect\, Greenhouse Gases and Where They Come From \n· Session 2 – Jan. 22 – Climate Change Impacts Part I – How nature is affected – from catastrophic floods\, droughts\, and storms to biodiversity loss and more. \n· Session 3 – Feb. 19 – Climate Change Impacts Part II – How people are affected\, with an emphasis on Health; how those impacts to the environment in Part I (plus other climate change impacts) affect human health. \n· Session 4 – Mar. 19 – Climate Change Solutions Part I – What Can I Do? – Focus on personal behavior changes and magnifying your power to make change \n· Session 5 – Apr. 16 – Climate Change Solutions Part II – What Can We Do? – Focus on System Change from communities to states to global actions. Susan covers state public health policies and actions.
URL:https://ohavizedek.org/event/the-climate-crisis-what-you-should-know-and-what-you-can-and-should-do/2026-03-19/
LOCATION:VT
CATEGORIES:Adult Learning
ATTACH;FMTTYPE=image/png:https://ohavizedek.org/wp-content/uploads/2025/11/climatecriss.png
END:VEVENT
BEGIN:VEVENT
DTSTART;TZID=America/New_York:20260321T124500
DTEND;TZID=America/New_York:20260321T133000
DTSTAMP:20260422T130909
CREATED:20260106T163056Z
LAST-MODIFIED:20260304T160128Z
UID:10040321-1774097100-1774099800@ohavizedek.org
SUMMARY:Jewish Belief with Rabbi Ariel
DESCRIPTION:Join with R’ Ariel in a weekly class and discussion on Jewish belief– topics will include G-d\, revelation\, the covenant\, interfaith relations\, social justice\, and living a life of Torah. We welcome all to join and delve into these topics (and more)\, all sources in English and no background needed!
URL:https://ohavizedek.org/event/jewish-belief-with-rabbi-ariel/2026-03-21/
LOCATION:Ohavi Zedek Samuelson Saiger Sanctuary\, 188 North Prospect Street\, Burlington\, VT\, 05401\, United States
CATEGORIES:Adult Learning
ATTACH;FMTTYPE=image/png:https://ohavizedek.org/wp-content/uploads/2026/01/rabbi-1.png
END:VEVENT
END:VCALENDAR