BEGIN:VCALENDAR
VERSION:2.0
PRODID:-//Ohavi Zedek Synagogue - ECPv6.15.17.1//NONSGML v1.0//EN
CALSCALE:GREGORIAN
METHOD:PUBLISH
X-WR-CALNAME:Ohavi Zedek Synagogue
X-ORIGINAL-URL:https://ohavizedek.org
X-WR-CALDESC:Events for Ohavi Zedek Synagogue
REFRESH-INTERVAL;VALUE=DURATION:PT1H
X-Robots-Tag:noindex
X-PUBLISHED-TTL:PT1H
BEGIN:VTIMEZONE
TZID:America/New_York
BEGIN:DAYLIGHT
TZOFFSETFROM:-0500
TZOFFSETTO:-0400
TZNAME:EDT
DTSTART:20250309T070000
END:DAYLIGHT
BEGIN:STANDARD
TZOFFSETFROM:-0400
TZOFFSETTO:-0500
TZNAME:EST
DTSTART:20251102T060000
END:STANDARD
BEGIN:DAYLIGHT
TZOFFSETFROM:-0500
TZOFFSETTO:-0400
TZNAME:EDT
DTSTART:20260308T070000
END:DAYLIGHT
BEGIN:STANDARD
TZOFFSETFROM:-0400
TZOFFSETTO:-0500
TZNAME:EST
DTSTART:20261101T060000
END:STANDARD
BEGIN:DAYLIGHT
TZOFFSETFROM:-0500
TZOFFSETTO:-0400
TZNAME:EDT
DTSTART:20270314T070000
END:DAYLIGHT
BEGIN:STANDARD
TZOFFSETFROM:-0400
TZOFFSETTO:-0500
TZNAME:EST
DTSTART:20271107T060000
END:STANDARD
END:VTIMEZONE
BEGIN:VEVENT
DTSTART;TZID=America/New_York:20260826T103000
DTEND;TZID=America/New_York:20260826T123000
DTSTAMP:20260422T130823
CREATED:20241219T175538Z
LAST-MODIFIED:20260311T174422Z
UID:10031936-1787740200-1787747400@ohavizedek.org
SUMMARY:Midweek Mah Jongg
DESCRIPTION:Stop by every Wednesday from 10:30 AM – 12:30 PM for Mah Jongg \nAdditionally\, fill out this interest form to be notified for upcoming classes
URL:https://ohavizedek.org/event/midweek-mah-jongg-22/2026-08-26/
LOCATION:Ohavi Zedek Social Hall\, 188 N. Prospect St\, Burlington\, VT\, 05401
CATEGORIES:Community Events,Mah Jongg
ATTACH;FMTTYPE=image/jpeg:https://ohavizedek.org/wp-content/uploads/2023/02/1.jpg
GEO:44.486379;-73.201175
X-APPLE-STRUCTURED-LOCATION;VALUE=URI;X-ADDRESS=Ohavi Zedek Social Hall 188 N. Prospect St Burlington VT 05401;X-APPLE-RADIUS=500;X-TITLE=188 N. Prospect St:geo:-73.201175,44.486379
END:VEVENT
BEGIN:VEVENT
DTSTART;TZID=America/New_York:20260826T183000
DTEND;TZID=America/New_York:20260826T203000
DTSTAMP:20260422T130823
CREATED:20241219T183520Z
LAST-MODIFIED:20260319T204312Z
UID:10034197-1787769000-1787776200@ohavizedek.org
SUMMARY:Evening Midweek Mah Jongg
DESCRIPTION:Evening midweek Mah Jongg from 6:30 PM – 8:30 PM\nPlease RSVP to lyndasiegel2@gmail.com for availability \nAdditionally\, fill out this interest form to be notified for upcoming classes
URL:https://ohavizedek.org/event/evening-midweek-mah-jongg-21/2026-08-26/
LOCATION:Ohavi Zedek Social Hall\, 188 N. Prospect St\, Burlington\, VT\, 05401
CATEGORIES:Mah Jongg
ATTACH;FMTTYPE=image/jpeg:https://ohavizedek.org/wp-content/uploads/2023/10/Homepage-Calender-image-1.jpg
GEO:44.486379;-73.201175
X-APPLE-STRUCTURED-LOCATION;VALUE=URI;X-ADDRESS=Ohavi Zedek Social Hall 188 N. Prospect St Burlington VT 05401;X-APPLE-RADIUS=500;X-TITLE=188 N. Prospect St:geo:-73.201175,44.486379
END:VEVENT
BEGIN:VEVENT
DTSTART;TZID=America/New_York:20260902T103000
DTEND;TZID=America/New_York:20260902T123000
DTSTAMP:20260422T130823
CREATED:20241219T175538Z
LAST-MODIFIED:20260311T174422Z
UID:10031937-1788345000-1788352200@ohavizedek.org
SUMMARY:Midweek Mah Jongg
DESCRIPTION:Stop by every Wednesday from 10:30 AM – 12:30 PM for Mah Jongg \nAdditionally\, fill out this interest form to be notified for upcoming classes
URL:https://ohavizedek.org/event/midweek-mah-jongg-22/2026-09-02/
LOCATION:Ohavi Zedek Social Hall\, 188 N. Prospect St\, Burlington\, VT\, 05401
CATEGORIES:Community Events,Mah Jongg
ATTACH;FMTTYPE=image/jpeg:https://ohavizedek.org/wp-content/uploads/2023/02/1.jpg
GEO:44.486379;-73.201175
X-APPLE-STRUCTURED-LOCATION;VALUE=URI;X-ADDRESS=Ohavi Zedek Social Hall 188 N. Prospect St Burlington VT 05401;X-APPLE-RADIUS=500;X-TITLE=188 N. Prospect St:geo:-73.201175,44.486379
END:VEVENT
BEGIN:VEVENT
DTSTART;TZID=America/New_York:20260902T183000
DTEND;TZID=America/New_York:20260902T203000
DTSTAMP:20260422T130823
CREATED:20241219T183520Z
LAST-MODIFIED:20260319T204312Z
UID:10034198-1788373800-1788381000@ohavizedek.org
SUMMARY:Evening Midweek Mah Jongg
DESCRIPTION:Evening midweek Mah Jongg from 6:30 PM – 8:30 PM\nPlease RSVP to lyndasiegel2@gmail.com for availability \nAdditionally\, fill out this interest form to be notified for upcoming classes
URL:https://ohavizedek.org/event/evening-midweek-mah-jongg-21/2026-09-02/
LOCATION:Ohavi Zedek Social Hall\, 188 N. Prospect St\, Burlington\, VT\, 05401
CATEGORIES:Mah Jongg
ATTACH;FMTTYPE=image/jpeg:https://ohavizedek.org/wp-content/uploads/2023/10/Homepage-Calender-image-1.jpg
GEO:44.486379;-73.201175
X-APPLE-STRUCTURED-LOCATION;VALUE=URI;X-ADDRESS=Ohavi Zedek Social Hall 188 N. Prospect St Burlington VT 05401;X-APPLE-RADIUS=500;X-TITLE=188 N. Prospect St:geo:-73.201175,44.486379
END:VEVENT
BEGIN:VEVENT
DTSTART;TZID=America/New_York:20260909T103000
DTEND;TZID=America/New_York:20260909T123000
DTSTAMP:20260422T130823
CREATED:20241219T175538Z
LAST-MODIFIED:20260311T174422Z
UID:10031938-1788949800-1788957000@ohavizedek.org
SUMMARY:Midweek Mah Jongg
DESCRIPTION:Stop by every Wednesday from 10:30 AM – 12:30 PM for Mah Jongg \nAdditionally\, fill out this interest form to be notified for upcoming classes
URL:https://ohavizedek.org/event/midweek-mah-jongg-22/2026-09-09/
LOCATION:Ohavi Zedek Social Hall\, 188 N. Prospect St\, Burlington\, VT\, 05401
CATEGORIES:Community Events,Mah Jongg
ATTACH;FMTTYPE=image/jpeg:https://ohavizedek.org/wp-content/uploads/2023/02/1.jpg
GEO:44.486379;-73.201175
X-APPLE-STRUCTURED-LOCATION;VALUE=URI;X-ADDRESS=Ohavi Zedek Social Hall 188 N. Prospect St Burlington VT 05401;X-APPLE-RADIUS=500;X-TITLE=188 N. Prospect St:geo:-73.201175,44.486379
END:VEVENT
BEGIN:VEVENT
DTSTART;TZID=America/New_York:20260909T183000
DTEND;TZID=America/New_York:20260909T203000
DTSTAMP:20260422T130823
CREATED:20241219T183520Z
LAST-MODIFIED:20260319T204312Z
UID:10034199-1788978600-1788985800@ohavizedek.org
SUMMARY:Evening Midweek Mah Jongg
DESCRIPTION:Evening midweek Mah Jongg from 6:30 PM – 8:30 PM\nPlease RSVP to lyndasiegel2@gmail.com for availability \nAdditionally\, fill out this interest form to be notified for upcoming classes
URL:https://ohavizedek.org/event/evening-midweek-mah-jongg-21/2026-09-09/
LOCATION:Ohavi Zedek Social Hall\, 188 N. Prospect St\, Burlington\, VT\, 05401
CATEGORIES:Mah Jongg
ATTACH;FMTTYPE=image/jpeg:https://ohavizedek.org/wp-content/uploads/2023/10/Homepage-Calender-image-1.jpg
GEO:44.486379;-73.201175
X-APPLE-STRUCTURED-LOCATION;VALUE=URI;X-ADDRESS=Ohavi Zedek Social Hall 188 N. Prospect St Burlington VT 05401;X-APPLE-RADIUS=500;X-TITLE=188 N. Prospect St:geo:-73.201175,44.486379
END:VEVENT
BEGIN:VEVENT
DTSTART;TZID=America/New_York:20260916T103000
DTEND;TZID=America/New_York:20260916T123000
DTSTAMP:20260422T130823
CREATED:20241219T175538Z
LAST-MODIFIED:20260311T174422Z
UID:10031939-1789554600-1789561800@ohavizedek.org
SUMMARY:Midweek Mah Jongg
DESCRIPTION:Stop by every Wednesday from 10:30 AM – 12:30 PM for Mah Jongg \nAdditionally\, fill out this interest form to be notified for upcoming classes
URL:https://ohavizedek.org/event/midweek-mah-jongg-22/2026-09-16/
LOCATION:Ohavi Zedek Social Hall\, 188 N. Prospect St\, Burlington\, VT\, 05401
CATEGORIES:Community Events,Mah Jongg
ATTACH;FMTTYPE=image/jpeg:https://ohavizedek.org/wp-content/uploads/2023/02/1.jpg
GEO:44.486379;-73.201175
X-APPLE-STRUCTURED-LOCATION;VALUE=URI;X-ADDRESS=Ohavi Zedek Social Hall 188 N. Prospect St Burlington VT 05401;X-APPLE-RADIUS=500;X-TITLE=188 N. Prospect St:geo:-73.201175,44.486379
END:VEVENT
BEGIN:VEVENT
DTSTART;TZID=America/New_York:20260916T183000
DTEND;TZID=America/New_York:20260916T203000
DTSTAMP:20260422T130823
CREATED:20241219T183520Z
LAST-MODIFIED:20260319T204312Z
UID:10034200-1789583400-1789590600@ohavizedek.org
SUMMARY:Evening Midweek Mah Jongg
DESCRIPTION:Evening midweek Mah Jongg from 6:30 PM – 8:30 PM\nPlease RSVP to lyndasiegel2@gmail.com for availability \nAdditionally\, fill out this interest form to be notified for upcoming classes
URL:https://ohavizedek.org/event/evening-midweek-mah-jongg-21/2026-09-16/
LOCATION:Ohavi Zedek Social Hall\, 188 N. Prospect St\, Burlington\, VT\, 05401
CATEGORIES:Mah Jongg
ATTACH;FMTTYPE=image/jpeg:https://ohavizedek.org/wp-content/uploads/2023/10/Homepage-Calender-image-1.jpg
GEO:44.486379;-73.201175
X-APPLE-STRUCTURED-LOCATION;VALUE=URI;X-ADDRESS=Ohavi Zedek Social Hall 188 N. Prospect St Burlington VT 05401;X-APPLE-RADIUS=500;X-TITLE=188 N. Prospect St:geo:-73.201175,44.486379
END:VEVENT
BEGIN:VEVENT
DTSTART;TZID=America/New_York:20260923T103000
DTEND;TZID=America/New_York:20260923T123000
DTSTAMP:20260422T130823
CREATED:20241219T175538Z
LAST-MODIFIED:20260311T174422Z
UID:10031940-1790159400-1790166600@ohavizedek.org
SUMMARY:Midweek Mah Jongg
DESCRIPTION:Stop by every Wednesday from 10:30 AM – 12:30 PM for Mah Jongg \nAdditionally\, fill out this interest form to be notified for upcoming classes
URL:https://ohavizedek.org/event/midweek-mah-jongg-22/2026-09-23/
LOCATION:Ohavi Zedek Social Hall\, 188 N. Prospect St\, Burlington\, VT\, 05401
CATEGORIES:Community Events,Mah Jongg
ATTACH;FMTTYPE=image/jpeg:https://ohavizedek.org/wp-content/uploads/2023/02/1.jpg
GEO:44.486379;-73.201175
X-APPLE-STRUCTURED-LOCATION;VALUE=URI;X-ADDRESS=Ohavi Zedek Social Hall 188 N. Prospect St Burlington VT 05401;X-APPLE-RADIUS=500;X-TITLE=188 N. Prospect St:geo:-73.201175,44.486379
END:VEVENT
BEGIN:VEVENT
DTSTART;TZID=America/New_York:20260923T183000
DTEND;TZID=America/New_York:20260923T203000
DTSTAMP:20260422T130823
CREATED:20241219T183520Z
LAST-MODIFIED:20260319T204312Z
UID:10034201-1790188200-1790195400@ohavizedek.org
SUMMARY:Evening Midweek Mah Jongg
DESCRIPTION:Evening midweek Mah Jongg from 6:30 PM – 8:30 PM\nPlease RSVP to lyndasiegel2@gmail.com for availability \nAdditionally\, fill out this interest form to be notified for upcoming classes
URL:https://ohavizedek.org/event/evening-midweek-mah-jongg-21/2026-09-23/
LOCATION:Ohavi Zedek Social Hall\, 188 N. Prospect St\, Burlington\, VT\, 05401
CATEGORIES:Mah Jongg
ATTACH;FMTTYPE=image/jpeg:https://ohavizedek.org/wp-content/uploads/2023/10/Homepage-Calender-image-1.jpg
GEO:44.486379;-73.201175
X-APPLE-STRUCTURED-LOCATION;VALUE=URI;X-ADDRESS=Ohavi Zedek Social Hall 188 N. Prospect St Burlington VT 05401;X-APPLE-RADIUS=500;X-TITLE=188 N. Prospect St:geo:-73.201175,44.486379
END:VEVENT
BEGIN:VEVENT
DTSTART;TZID=America/New_York:20260930T103000
DTEND;TZID=America/New_York:20260930T123000
DTSTAMP:20260422T130823
CREATED:20241219T175538Z
LAST-MODIFIED:20260311T174422Z
UID:10031941-1790764200-1790771400@ohavizedek.org
SUMMARY:Midweek Mah Jongg
DESCRIPTION:Stop by every Wednesday from 10:30 AM – 12:30 PM for Mah Jongg \nAdditionally\, fill out this interest form to be notified for upcoming classes
URL:https://ohavizedek.org/event/midweek-mah-jongg-22/2026-09-30/
LOCATION:Ohavi Zedek Social Hall\, 188 N. Prospect St\, Burlington\, VT\, 05401
CATEGORIES:Community Events,Mah Jongg
ATTACH;FMTTYPE=image/jpeg:https://ohavizedek.org/wp-content/uploads/2023/02/1.jpg
GEO:44.486379;-73.201175
X-APPLE-STRUCTURED-LOCATION;VALUE=URI;X-ADDRESS=Ohavi Zedek Social Hall 188 N. Prospect St Burlington VT 05401;X-APPLE-RADIUS=500;X-TITLE=188 N. Prospect St:geo:-73.201175,44.486379
END:VEVENT
BEGIN:VEVENT
DTSTART;TZID=America/New_York:20260930T183000
DTEND;TZID=America/New_York:20260930T203000
DTSTAMP:20260422T130823
CREATED:20241219T183520Z
LAST-MODIFIED:20260319T204312Z
UID:10034202-1790793000-1790800200@ohavizedek.org
SUMMARY:Evening Midweek Mah Jongg
DESCRIPTION:Evening midweek Mah Jongg from 6:30 PM – 8:30 PM\nPlease RSVP to lyndasiegel2@gmail.com for availability \nAdditionally\, fill out this interest form to be notified for upcoming classes
URL:https://ohavizedek.org/event/evening-midweek-mah-jongg-21/2026-09-30/
LOCATION:Ohavi Zedek Social Hall\, 188 N. Prospect St\, Burlington\, VT\, 05401
CATEGORIES:Mah Jongg
ATTACH;FMTTYPE=image/jpeg:https://ohavizedek.org/wp-content/uploads/2023/10/Homepage-Calender-image-1.jpg
GEO:44.486379;-73.201175
X-APPLE-STRUCTURED-LOCATION;VALUE=URI;X-ADDRESS=Ohavi Zedek Social Hall 188 N. Prospect St Burlington VT 05401;X-APPLE-RADIUS=500;X-TITLE=188 N. Prospect St:geo:-73.201175,44.486379
END:VEVENT
BEGIN:VEVENT
DTSTART;TZID=America/New_York:20261007T103000
DTEND;TZID=America/New_York:20261007T123000
DTSTAMP:20260422T130823
CREATED:20241219T175538Z
LAST-MODIFIED:20260311T174422Z
UID:10031942-1791369000-1791376200@ohavizedek.org
SUMMARY:Midweek Mah Jongg
DESCRIPTION:Stop by every Wednesday from 10:30 AM – 12:30 PM for Mah Jongg \nAdditionally\, fill out this interest form to be notified for upcoming classes
URL:https://ohavizedek.org/event/midweek-mah-jongg-22/2026-10-07/
LOCATION:Ohavi Zedek Social Hall\, 188 N. Prospect St\, Burlington\, VT\, 05401
CATEGORIES:Community Events,Mah Jongg
ATTACH;FMTTYPE=image/jpeg:https://ohavizedek.org/wp-content/uploads/2023/02/1.jpg
GEO:44.486379;-73.201175
X-APPLE-STRUCTURED-LOCATION;VALUE=URI;X-ADDRESS=Ohavi Zedek Social Hall 188 N. Prospect St Burlington VT 05401;X-APPLE-RADIUS=500;X-TITLE=188 N. Prospect St:geo:-73.201175,44.486379
END:VEVENT
BEGIN:VEVENT
DTSTART;TZID=America/New_York:20261007T183000
DTEND;TZID=America/New_York:20261007T203000
DTSTAMP:20260422T130823
CREATED:20241219T183520Z
LAST-MODIFIED:20260319T204312Z
UID:10034203-1791397800-1791405000@ohavizedek.org
SUMMARY:Evening Midweek Mah Jongg
DESCRIPTION:Evening midweek Mah Jongg from 6:30 PM – 8:30 PM\nPlease RSVP to lyndasiegel2@gmail.com for availability \nAdditionally\, fill out this interest form to be notified for upcoming classes
URL:https://ohavizedek.org/event/evening-midweek-mah-jongg-21/2026-10-07/
LOCATION:Ohavi Zedek Social Hall\, 188 N. Prospect St\, Burlington\, VT\, 05401
CATEGORIES:Mah Jongg
ATTACH;FMTTYPE=image/jpeg:https://ohavizedek.org/wp-content/uploads/2023/10/Homepage-Calender-image-1.jpg
GEO:44.486379;-73.201175
X-APPLE-STRUCTURED-LOCATION;VALUE=URI;X-ADDRESS=Ohavi Zedek Social Hall 188 N. Prospect St Burlington VT 05401;X-APPLE-RADIUS=500;X-TITLE=188 N. Prospect St:geo:-73.201175,44.486379
END:VEVENT
BEGIN:VEVENT
DTSTART;TZID=America/New_York:20261014T103000
DTEND;TZID=America/New_York:20261014T123000
DTSTAMP:20260422T130823
CREATED:20241219T175538Z
LAST-MODIFIED:20260311T174422Z
UID:10031943-1791973800-1791981000@ohavizedek.org
SUMMARY:Midweek Mah Jongg
DESCRIPTION:Stop by every Wednesday from 10:30 AM – 12:30 PM for Mah Jongg \nAdditionally\, fill out this interest form to be notified for upcoming classes
URL:https://ohavizedek.org/event/midweek-mah-jongg-22/2026-10-14/
LOCATION:Ohavi Zedek Social Hall\, 188 N. Prospect St\, Burlington\, VT\, 05401
CATEGORIES:Community Events,Mah Jongg
ATTACH;FMTTYPE=image/jpeg:https://ohavizedek.org/wp-content/uploads/2023/02/1.jpg
GEO:44.486379;-73.201175
X-APPLE-STRUCTURED-LOCATION;VALUE=URI;X-ADDRESS=Ohavi Zedek Social Hall 188 N. Prospect St Burlington VT 05401;X-APPLE-RADIUS=500;X-TITLE=188 N. Prospect St:geo:-73.201175,44.486379
END:VEVENT
BEGIN:VEVENT
DTSTART;TZID=America/New_York:20261014T183000
DTEND;TZID=America/New_York:20261014T203000
DTSTAMP:20260422T130823
CREATED:20241219T183520Z
LAST-MODIFIED:20260319T204312Z
UID:10034204-1792002600-1792009800@ohavizedek.org
SUMMARY:Evening Midweek Mah Jongg
DESCRIPTION:Evening midweek Mah Jongg from 6:30 PM – 8:30 PM\nPlease RSVP to lyndasiegel2@gmail.com for availability \nAdditionally\, fill out this interest form to be notified for upcoming classes
URL:https://ohavizedek.org/event/evening-midweek-mah-jongg-21/2026-10-14/
LOCATION:Ohavi Zedek Social Hall\, 188 N. Prospect St\, Burlington\, VT\, 05401
CATEGORIES:Mah Jongg
ATTACH;FMTTYPE=image/jpeg:https://ohavizedek.org/wp-content/uploads/2023/10/Homepage-Calender-image-1.jpg
GEO:44.486379;-73.201175
X-APPLE-STRUCTURED-LOCATION;VALUE=URI;X-ADDRESS=Ohavi Zedek Social Hall 188 N. Prospect St Burlington VT 05401;X-APPLE-RADIUS=500;X-TITLE=188 N. Prospect St:geo:-73.201175,44.486379
END:VEVENT
BEGIN:VEVENT
DTSTART;TZID=America/New_York:20261021T103000
DTEND;TZID=America/New_York:20261021T123000
DTSTAMP:20260422T130823
CREATED:20241219T175538Z
LAST-MODIFIED:20260311T174422Z
UID:10031944-1792578600-1792585800@ohavizedek.org
SUMMARY:Midweek Mah Jongg
DESCRIPTION:Stop by every Wednesday from 10:30 AM – 12:30 PM for Mah Jongg \nAdditionally\, fill out this interest form to be notified for upcoming classes
URL:https://ohavizedek.org/event/midweek-mah-jongg-22/2026-10-21/
LOCATION:Ohavi Zedek Social Hall\, 188 N. Prospect St\, Burlington\, VT\, 05401
CATEGORIES:Community Events,Mah Jongg
ATTACH;FMTTYPE=image/jpeg:https://ohavizedek.org/wp-content/uploads/2023/02/1.jpg
GEO:44.486379;-73.201175
X-APPLE-STRUCTURED-LOCATION;VALUE=URI;X-ADDRESS=Ohavi Zedek Social Hall 188 N. Prospect St Burlington VT 05401;X-APPLE-RADIUS=500;X-TITLE=188 N. Prospect St:geo:-73.201175,44.486379
END:VEVENT
BEGIN:VEVENT
DTSTART;TZID=America/New_York:20261021T183000
DTEND;TZID=America/New_York:20261021T203000
DTSTAMP:20260422T130823
CREATED:20241219T183520Z
LAST-MODIFIED:20260319T204312Z
UID:10034205-1792607400-1792614600@ohavizedek.org
SUMMARY:Evening Midweek Mah Jongg
DESCRIPTION:Evening midweek Mah Jongg from 6:30 PM – 8:30 PM\nPlease RSVP to lyndasiegel2@gmail.com for availability \nAdditionally\, fill out this interest form to be notified for upcoming classes
URL:https://ohavizedek.org/event/evening-midweek-mah-jongg-21/2026-10-21/
LOCATION:Ohavi Zedek Social Hall\, 188 N. Prospect St\, Burlington\, VT\, 05401
CATEGORIES:Mah Jongg
ATTACH;FMTTYPE=image/jpeg:https://ohavizedek.org/wp-content/uploads/2023/10/Homepage-Calender-image-1.jpg
GEO:44.486379;-73.201175
X-APPLE-STRUCTURED-LOCATION;VALUE=URI;X-ADDRESS=Ohavi Zedek Social Hall 188 N. Prospect St Burlington VT 05401;X-APPLE-RADIUS=500;X-TITLE=188 N. Prospect St:geo:-73.201175,44.486379
END:VEVENT
BEGIN:VEVENT
DTSTART;TZID=America/New_York:20261028T103000
DTEND;TZID=America/New_York:20261028T123000
DTSTAMP:20260422T130823
CREATED:20241219T175538Z
LAST-MODIFIED:20260311T174422Z
UID:10031945-1793183400-1793190600@ohavizedek.org
SUMMARY:Midweek Mah Jongg
DESCRIPTION:Stop by every Wednesday from 10:30 AM – 12:30 PM for Mah Jongg \nAdditionally\, fill out this interest form to be notified for upcoming classes
URL:https://ohavizedek.org/event/midweek-mah-jongg-22/2026-10-28/
LOCATION:Ohavi Zedek Social Hall\, 188 N. Prospect St\, Burlington\, VT\, 05401
CATEGORIES:Community Events,Mah Jongg
ATTACH;FMTTYPE=image/jpeg:https://ohavizedek.org/wp-content/uploads/2023/02/1.jpg
GEO:44.486379;-73.201175
X-APPLE-STRUCTURED-LOCATION;VALUE=URI;X-ADDRESS=Ohavi Zedek Social Hall 188 N. Prospect St Burlington VT 05401;X-APPLE-RADIUS=500;X-TITLE=188 N. Prospect St:geo:-73.201175,44.486379
END:VEVENT
BEGIN:VEVENT
DTSTART;TZID=America/New_York:20261028T183000
DTEND;TZID=America/New_York:20261028T203000
DTSTAMP:20260422T130823
CREATED:20241219T183520Z
LAST-MODIFIED:20260319T204312Z
UID:10034206-1793212200-1793219400@ohavizedek.org
SUMMARY:Evening Midweek Mah Jongg
DESCRIPTION:Evening midweek Mah Jongg from 6:30 PM – 8:30 PM\nPlease RSVP to lyndasiegel2@gmail.com for availability \nAdditionally\, fill out this interest form to be notified for upcoming classes
URL:https://ohavizedek.org/event/evening-midweek-mah-jongg-21/2026-10-28/
LOCATION:Ohavi Zedek Social Hall\, 188 N. Prospect St\, Burlington\, VT\, 05401
CATEGORIES:Mah Jongg
ATTACH;FMTTYPE=image/jpeg:https://ohavizedek.org/wp-content/uploads/2023/10/Homepage-Calender-image-1.jpg
GEO:44.486379;-73.201175
X-APPLE-STRUCTURED-LOCATION;VALUE=URI;X-ADDRESS=Ohavi Zedek Social Hall 188 N. Prospect St Burlington VT 05401;X-APPLE-RADIUS=500;X-TITLE=188 N. Prospect St:geo:-73.201175,44.486379
END:VEVENT
BEGIN:VEVENT
DTSTART;TZID=America/New_York:20261104T103000
DTEND;TZID=America/New_York:20261104T123000
DTSTAMP:20260422T130823
CREATED:20241219T175538Z
LAST-MODIFIED:20260311T174422Z
UID:10031946-1793788200-1793795400@ohavizedek.org
SUMMARY:Midweek Mah Jongg
DESCRIPTION:Stop by every Wednesday from 10:30 AM – 12:30 PM for Mah Jongg \nAdditionally\, fill out this interest form to be notified for upcoming classes
URL:https://ohavizedek.org/event/midweek-mah-jongg-22/2026-11-04/
LOCATION:Ohavi Zedek Social Hall\, 188 N. Prospect St\, Burlington\, VT\, 05401
CATEGORIES:Community Events,Mah Jongg
ATTACH;FMTTYPE=image/jpeg:https://ohavizedek.org/wp-content/uploads/2023/02/1.jpg
GEO:44.486379;-73.201175
X-APPLE-STRUCTURED-LOCATION;VALUE=URI;X-ADDRESS=Ohavi Zedek Social Hall 188 N. Prospect St Burlington VT 05401;X-APPLE-RADIUS=500;X-TITLE=188 N. Prospect St:geo:-73.201175,44.486379
END:VEVENT
BEGIN:VEVENT
DTSTART;TZID=America/New_York:20261104T183000
DTEND;TZID=America/New_York:20261104T203000
DTSTAMP:20260422T130824
CREATED:20241219T183520Z
LAST-MODIFIED:20260319T204312Z
UID:10034207-1793817000-1793824200@ohavizedek.org
SUMMARY:Evening Midweek Mah Jongg
DESCRIPTION:Evening midweek Mah Jongg from 6:30 PM – 8:30 PM\nPlease RSVP to lyndasiegel2@gmail.com for availability \nAdditionally\, fill out this interest form to be notified for upcoming classes
URL:https://ohavizedek.org/event/evening-midweek-mah-jongg-21/2026-11-04/
LOCATION:Ohavi Zedek Social Hall\, 188 N. Prospect St\, Burlington\, VT\, 05401
CATEGORIES:Mah Jongg
ATTACH;FMTTYPE=image/jpeg:https://ohavizedek.org/wp-content/uploads/2023/10/Homepage-Calender-image-1.jpg
GEO:44.486379;-73.201175
X-APPLE-STRUCTURED-LOCATION;VALUE=URI;X-ADDRESS=Ohavi Zedek Social Hall 188 N. Prospect St Burlington VT 05401;X-APPLE-RADIUS=500;X-TITLE=188 N. Prospect St:geo:-73.201175,44.486379
END:VEVENT
BEGIN:VEVENT
DTSTART;TZID=America/New_York:20261111T103000
DTEND;TZID=America/New_York:20261111T123000
DTSTAMP:20260422T130824
CREATED:20241219T175538Z
LAST-MODIFIED:20260311T174422Z
UID:10031947-1794393000-1794400200@ohavizedek.org
SUMMARY:Midweek Mah Jongg
DESCRIPTION:Stop by every Wednesday from 10:30 AM – 12:30 PM for Mah Jongg \nAdditionally\, fill out this interest form to be notified for upcoming classes
URL:https://ohavizedek.org/event/midweek-mah-jongg-22/2026-11-11/
LOCATION:Ohavi Zedek Social Hall\, 188 N. Prospect St\, Burlington\, VT\, 05401
CATEGORIES:Community Events,Mah Jongg
ATTACH;FMTTYPE=image/jpeg:https://ohavizedek.org/wp-content/uploads/2023/02/1.jpg
GEO:44.486379;-73.201175
X-APPLE-STRUCTURED-LOCATION;VALUE=URI;X-ADDRESS=Ohavi Zedek Social Hall 188 N. Prospect St Burlington VT 05401;X-APPLE-RADIUS=500;X-TITLE=188 N. Prospect St:geo:-73.201175,44.486379
END:VEVENT
BEGIN:VEVENT
DTSTART;TZID=America/New_York:20261111T183000
DTEND;TZID=America/New_York:20261111T203000
DTSTAMP:20260422T130824
CREATED:20241219T183520Z
LAST-MODIFIED:20260319T204312Z
UID:10034208-1794421800-1794429000@ohavizedek.org
SUMMARY:Evening Midweek Mah Jongg
DESCRIPTION:Evening midweek Mah Jongg from 6:30 PM – 8:30 PM\nPlease RSVP to lyndasiegel2@gmail.com for availability \nAdditionally\, fill out this interest form to be notified for upcoming classes
URL:https://ohavizedek.org/event/evening-midweek-mah-jongg-21/2026-11-11/
LOCATION:Ohavi Zedek Social Hall\, 188 N. Prospect St\, Burlington\, VT\, 05401
CATEGORIES:Mah Jongg
ATTACH;FMTTYPE=image/jpeg:https://ohavizedek.org/wp-content/uploads/2023/10/Homepage-Calender-image-1.jpg
GEO:44.486379;-73.201175
X-APPLE-STRUCTURED-LOCATION;VALUE=URI;X-ADDRESS=Ohavi Zedek Social Hall 188 N. Prospect St Burlington VT 05401;X-APPLE-RADIUS=500;X-TITLE=188 N. Prospect St:geo:-73.201175,44.486379
END:VEVENT
BEGIN:VEVENT
DTSTART;TZID=America/New_York:20261118T103000
DTEND;TZID=America/New_York:20261118T123000
DTSTAMP:20260422T130824
CREATED:20241219T175538Z
LAST-MODIFIED:20260311T174422Z
UID:10031948-1794997800-1795005000@ohavizedek.org
SUMMARY:Midweek Mah Jongg
DESCRIPTION:Stop by every Wednesday from 10:30 AM – 12:30 PM for Mah Jongg \nAdditionally\, fill out this interest form to be notified for upcoming classes
URL:https://ohavizedek.org/event/midweek-mah-jongg-22/2026-11-18/
LOCATION:Ohavi Zedek Social Hall\, 188 N. Prospect St\, Burlington\, VT\, 05401
CATEGORIES:Community Events,Mah Jongg
ATTACH;FMTTYPE=image/jpeg:https://ohavizedek.org/wp-content/uploads/2023/02/1.jpg
GEO:44.486379;-73.201175
X-APPLE-STRUCTURED-LOCATION;VALUE=URI;X-ADDRESS=Ohavi Zedek Social Hall 188 N. Prospect St Burlington VT 05401;X-APPLE-RADIUS=500;X-TITLE=188 N. Prospect St:geo:-73.201175,44.486379
END:VEVENT
BEGIN:VEVENT
DTSTART;TZID=America/New_York:20261118T183000
DTEND;TZID=America/New_York:20261118T203000
DTSTAMP:20260422T130824
CREATED:20241219T183520Z
LAST-MODIFIED:20260319T204312Z
UID:10034209-1795026600-1795033800@ohavizedek.org
SUMMARY:Evening Midweek Mah Jongg
DESCRIPTION:Evening midweek Mah Jongg from 6:30 PM – 8:30 PM\nPlease RSVP to lyndasiegel2@gmail.com for availability \nAdditionally\, fill out this interest form to be notified for upcoming classes
URL:https://ohavizedek.org/event/evening-midweek-mah-jongg-21/2026-11-18/
LOCATION:Ohavi Zedek Social Hall\, 188 N. Prospect St\, Burlington\, VT\, 05401
CATEGORIES:Mah Jongg
ATTACH;FMTTYPE=image/jpeg:https://ohavizedek.org/wp-content/uploads/2023/10/Homepage-Calender-image-1.jpg
GEO:44.486379;-73.201175
X-APPLE-STRUCTURED-LOCATION;VALUE=URI;X-ADDRESS=Ohavi Zedek Social Hall 188 N. Prospect St Burlington VT 05401;X-APPLE-RADIUS=500;X-TITLE=188 N. Prospect St:geo:-73.201175,44.486379
END:VEVENT
BEGIN:VEVENT
DTSTART;TZID=America/New_York:20261125T103000
DTEND;TZID=America/New_York:20261125T123000
DTSTAMP:20260422T130824
CREATED:20241219T175538Z
LAST-MODIFIED:20260311T174422Z
UID:10031949-1795602600-1795609800@ohavizedek.org
SUMMARY:Midweek Mah Jongg
DESCRIPTION:Stop by every Wednesday from 10:30 AM – 12:30 PM for Mah Jongg \nAdditionally\, fill out this interest form to be notified for upcoming classes
URL:https://ohavizedek.org/event/midweek-mah-jongg-22/2026-11-25/
LOCATION:Ohavi Zedek Social Hall\, 188 N. Prospect St\, Burlington\, VT\, 05401
CATEGORIES:Community Events,Mah Jongg
ATTACH;FMTTYPE=image/jpeg:https://ohavizedek.org/wp-content/uploads/2023/02/1.jpg
GEO:44.486379;-73.201175
X-APPLE-STRUCTURED-LOCATION;VALUE=URI;X-ADDRESS=Ohavi Zedek Social Hall 188 N. Prospect St Burlington VT 05401;X-APPLE-RADIUS=500;X-TITLE=188 N. Prospect St:geo:-73.201175,44.486379
END:VEVENT
BEGIN:VEVENT
DTSTART;TZID=America/New_York:20261125T183000
DTEND;TZID=America/New_York:20261125T203000
DTSTAMP:20260422T130824
CREATED:20241219T183520Z
LAST-MODIFIED:20260319T204312Z
UID:10034210-1795631400-1795638600@ohavizedek.org
SUMMARY:Evening Midweek Mah Jongg
DESCRIPTION:Evening midweek Mah Jongg from 6:30 PM – 8:30 PM\nPlease RSVP to lyndasiegel2@gmail.com for availability \nAdditionally\, fill out this interest form to be notified for upcoming classes
URL:https://ohavizedek.org/event/evening-midweek-mah-jongg-21/2026-11-25/
LOCATION:Ohavi Zedek Social Hall\, 188 N. Prospect St\, Burlington\, VT\, 05401
CATEGORIES:Mah Jongg
ATTACH;FMTTYPE=image/jpeg:https://ohavizedek.org/wp-content/uploads/2023/10/Homepage-Calender-image-1.jpg
GEO:44.486379;-73.201175
X-APPLE-STRUCTURED-LOCATION;VALUE=URI;X-ADDRESS=Ohavi Zedek Social Hall 188 N. Prospect St Burlington VT 05401;X-APPLE-RADIUS=500;X-TITLE=188 N. Prospect St:geo:-73.201175,44.486379
END:VEVENT
BEGIN:VEVENT
DTSTART;TZID=America/New_York:20261202T103000
DTEND;TZID=America/New_York:20261202T123000
DTSTAMP:20260422T130824
CREATED:20241219T175538Z
LAST-MODIFIED:20260311T174422Z
UID:10031950-1796207400-1796214600@ohavizedek.org
SUMMARY:Midweek Mah Jongg
DESCRIPTION:Stop by every Wednesday from 10:30 AM – 12:30 PM for Mah Jongg \nAdditionally\, fill out this interest form to be notified for upcoming classes
URL:https://ohavizedek.org/event/midweek-mah-jongg-22/2026-12-02/
LOCATION:Ohavi Zedek Social Hall\, 188 N. Prospect St\, Burlington\, VT\, 05401
CATEGORIES:Community Events,Mah Jongg
ATTACH;FMTTYPE=image/jpeg:https://ohavizedek.org/wp-content/uploads/2023/02/1.jpg
GEO:44.486379;-73.201175
X-APPLE-STRUCTURED-LOCATION;VALUE=URI;X-ADDRESS=Ohavi Zedek Social Hall 188 N. Prospect St Burlington VT 05401;X-APPLE-RADIUS=500;X-TITLE=188 N. Prospect St:geo:-73.201175,44.486379
END:VEVENT
BEGIN:VEVENT
DTSTART;TZID=America/New_York:20261202T183000
DTEND;TZID=America/New_York:20261202T203000
DTSTAMP:20260422T130824
CREATED:20241219T183520Z
LAST-MODIFIED:20260319T204312Z
UID:10034211-1796236200-1796243400@ohavizedek.org
SUMMARY:Evening Midweek Mah Jongg
DESCRIPTION:Evening midweek Mah Jongg from 6:30 PM – 8:30 PM\nPlease RSVP to lyndasiegel2@gmail.com for availability \nAdditionally\, fill out this interest form to be notified for upcoming classes
URL:https://ohavizedek.org/event/evening-midweek-mah-jongg-21/2026-12-02/
LOCATION:Ohavi Zedek Social Hall\, 188 N. Prospect St\, Burlington\, VT\, 05401
CATEGORIES:Mah Jongg
ATTACH;FMTTYPE=image/jpeg:https://ohavizedek.org/wp-content/uploads/2023/10/Homepage-Calender-image-1.jpg
GEO:44.486379;-73.201175
X-APPLE-STRUCTURED-LOCATION;VALUE=URI;X-ADDRESS=Ohavi Zedek Social Hall 188 N. Prospect St Burlington VT 05401;X-APPLE-RADIUS=500;X-TITLE=188 N. Prospect St:geo:-73.201175,44.486379
END:VEVENT
END:VCALENDAR