BEGIN:VCALENDAR
VERSION:2.0
PRODID:-//Ohavi Zedek Synagogue - ECPv6.15.17.1//NONSGML v1.0//EN
CALSCALE:GREGORIAN
METHOD:PUBLISH
X-ORIGINAL-URL:https://ohavizedek.org
X-WR-CALDESC:Events for Ohavi Zedek Synagogue
REFRESH-INTERVAL;VALUE=DURATION:PT1H
X-Robots-Tag:noindex
X-PUBLISHED-TTL:PT1H
BEGIN:VTIMEZONE
TZID:America/New_York
BEGIN:DAYLIGHT
TZOFFSETFROM:-0500
TZOFFSETTO:-0400
TZNAME:EDT
DTSTART:20250309T070000
END:DAYLIGHT
BEGIN:STANDARD
TZOFFSETFROM:-0400
TZOFFSETTO:-0500
TZNAME:EST
DTSTART:20251102T060000
END:STANDARD
BEGIN:DAYLIGHT
TZOFFSETFROM:-0500
TZOFFSETTO:-0400
TZNAME:EDT
DTSTART:20260308T070000
END:DAYLIGHT
BEGIN:STANDARD
TZOFFSETFROM:-0400
TZOFFSETTO:-0500
TZNAME:EST
DTSTART:20261101T060000
END:STANDARD
BEGIN:DAYLIGHT
TZOFFSETFROM:-0500
TZOFFSETTO:-0400
TZNAME:EDT
DTSTART:20270314T070000
END:DAYLIGHT
BEGIN:STANDARD
TZOFFSETFROM:-0400
TZOFFSETTO:-0500
TZNAME:EST
DTSTART:20271107T060000
END:STANDARD
END:VTIMEZONE
BEGIN:VEVENT
DTSTART;TZID=America/New_York:20260329T091500
DTEND;TZID=America/New_York:20260329T103000
DTSTAMP:20260421T223400
CREATED:20260112T165344Z
LAST-MODIFIED:20260303T174332Z
UID:10037567-1774775700-1774780200@ohavizedek.org
SUMMARY:ChaiLights - How to Talk to Your Children or Grandchildren About Antisemitism
DESCRIPTION:How do we talk to our kids and grandkids about antisemitism in ways that are honest\, age-appropriate\, and empowering? Join us for an important and supportive conversation designed to help parents navigate these moments with confidence and care. Therapists and educators will attend this conversation as resources. \nREGISTER HERE \n\nChaiLights gatherings will give you a chance to learn\, taste and connect. \nEach gathering will start off with food and open conversation\, followed by a unique experience that will engage and inspire\, let us create and improve the world. \nThis project’s vibe is fun\, social and low-pressure\, with activities lead by community volunteers. It’s a great fit for Jews\, Jewish-adjacent and those who are just curious. \nBagels and coffee service at 9:15 am \n\n  \n\n    Date / Time ChaiLights Experience Community Member Hosts Sunday January 25 9:15 am - 12:00 pm Participate in Bread for Peace bread baking Scott Silverstein Sunday February 1 9:15 am - 11:00 am Tu b'Shevat / Pruning Your Fruit Trees Jacob Holzberg-Pill Sunday February 8 9:15 am - 11:00 am Opening Courageous Conversations on Israel/Palestine Nancy Sugarman Marjorie Corbman Sunday February 15 9:15 am - 10:30 am  'Ask the Rabbi' conversation Rabbi Ariel Sunday March 22 9:15 am - 10:30 am  End of Life Traditions Discussion Lynda Siegel Sunday March 29 9:15 am - 10:30 am  How to Talk to Your Children and Grandchildren  About Antisemitism Resource Therapists / Educators Sunday April 12 9:15 am - 10:30 am Opening Courageous Conversations on Israel/Palestine Nancy Sugarman Marjorie Corbman Sunday May 3 9:15 am - 10:30 am Making Pickles with a little Jewish Food History on the Side Alexa Weitzman Sunday May 10 9:15 am - 11:00 am Opening Courageous Conversations on Israel/Palestine Nancy Sugarman\n Marjorie Corbman
URL:https://ohavizedek.org/event/chailights-talktokidsantisemitism/
LOCATION:Ohavi Zedek Synagogue\, 188 North Prospect Street\, Burlington\, VT\, 05401\, United States
CATEGORIES:ChaiLights,Community Events
ATTACH;FMTTYPE=image/png:https://ohavizedek.org/wp-content/uploads/2026/01/chailisghts-1.png
GEO:44.486379;-73.201175
X-APPLE-STRUCTURED-LOCATION;VALUE=URI;X-ADDRESS=Ohavi Zedek Synagogue 188 North Prospect Street Burlington VT 05401 United States;X-APPLE-RADIUS=500;X-TITLE=188 North Prospect Street:geo:-73.201175,44.486379
END:VEVENT
BEGIN:VEVENT
DTSTART;TZID=America/New_York:20260329T193000
DTEND;TZID=America/New_York:20260329T213000
DTSTAMP:20260421T223400
CREATED:20250827T172847Z
LAST-MODIFIED:20260318T182858Z
UID:10036953-1774812600-1774819800@ohavizedek.org
SUMMARY:Israeli Dancing - Drop In
DESCRIPTION:Israeli folkdance is a joyous folk art form that is easy to start and difficult to stop. It draws from many cultures and expresses itself in dances that range in complexity and speed. See this article for more information. \nJoin hosts Adele\, Lani and Mitch and a friendly friendly group of people that gathers periodically on Zoom or in person to enjoy the folkdances of Israel! \nWe mostly dance around a circle so no partner is required. We have a large repertoire of beginner-friendly dances. New dancers are encouraged to come at the beginning of the session to benefit from instruction. Please wear shoes with clean soles. \nThis program is free with an optional donation. \nRegister Here \nBecause of ongoing concerns about covid and other circulating viruses\, the group would greatly appreciate attendees wearing a high quality mask such as N95 or KN95. \n 
URL:https://ohavizedek.org/event/israeli-dancing-drop-in-20/2026-03-29/
LOCATION:Ohavi Zedek Synagogue\, 188 North Prospect Street\, Burlington\, VT\, 05401\, United States
CATEGORIES:Adult Learning,Community Events,Israeli Dance
ATTACH;FMTTYPE=image/png:https://ohavizedek.org/wp-content/uploads/2024/09/dancing.png
GEO:44.486379;-73.201175
X-APPLE-STRUCTURED-LOCATION;VALUE=URI;X-ADDRESS=Ohavi Zedek Synagogue 188 North Prospect Street Burlington VT 05401 United States;X-APPLE-RADIUS=500;X-TITLE=188 North Prospect Street:geo:-73.201175,44.486379
END:VEVENT
BEGIN:VEVENT
DTSTART;TZID=America/New_York:20260401T103000
DTEND;TZID=America/New_York:20260401T123000
DTSTAMP:20260421T223400
CREATED:20241219T175538Z
LAST-MODIFIED:20260311T174422Z
UID:10031915-1775039400-1775046600@ohavizedek.org
SUMMARY:Midweek Mah Jongg
DESCRIPTION:Stop by every Wednesday from 10:30 AM – 12:30 PM for Mah Jongg \nAdditionally\, fill out this interest form to be notified for upcoming classes
URL:https://ohavizedek.org/event/midweek-mah-jongg-22/2026-04-01/
LOCATION:Ohavi Zedek Social Hall\, 188 N. Prospect St\, Burlington\, VT\, 05401
CATEGORIES:Community Events,Mah Jongg
ATTACH;FMTTYPE=image/jpeg:https://ohavizedek.org/wp-content/uploads/2023/02/1.jpg
GEO:44.486379;-73.201175
X-APPLE-STRUCTURED-LOCATION;VALUE=URI;X-ADDRESS=Ohavi Zedek Social Hall 188 N. Prospect St Burlington VT 05401;X-APPLE-RADIUS=500;X-TITLE=188 N. Prospect St:geo:-73.201175,44.486379
END:VEVENT
BEGIN:VEVENT
DTSTART;TZID=America/New_York:20260402T180000
DTEND;TZID=America/New_York:20260402T210000
DTSTAMP:20260421T223400
CREATED:20260204T190708Z
LAST-MODIFIED:20260316T152413Z
UID:10038205-1775152800-1775163600@ohavizedek.org
SUMMARY:Community Passover Seder: Flavors of the Diaspora
DESCRIPTION:Reserve Your Seat \n\nThe Passover Seder is one of those nights that so many of us carry in our hearts — the familiar melodies that rise around the table each year\, the recipes that taste better than ever this one time a year\, the feeling of a table stretched just a little longer to make room for one more. \nOn the second night of Passover\, we’ll gather for our OZ Community Seder\, led by Rabbi Ariel and Cantor Silverberg. It will be an evening of conversation\, music\, storytelling\, and some much needed joy. Together\, we’ll retell the Exodus story — both because it’s tradition\, and because the themes still matter: resilience\, hope\, and the stubborn\, beautiful human longing for freedom. \nAnd of course\, we’ll gather around a truly special meal. Dinner will be prepared by Chef Richard Witting of Firefly Catering & Isole Events\, with two menu options exploring traditional Passover foods from across the diaspora\, and desserts by his partner\, Anna Mays of Old World Baking. \nMore than anything\, this night is about being together — around the table\, in conversation\, in song\, in the comfort that happens within community. Whether this is your first Seder or your hundredth\, you are welcome. Bring a friend. Bring your ​whole self. Bring your appetite. \nPlease take a look at the menu and register by Friday March 27th. We’d love to have you with us. \n  \n\n  \nFrom North to West: Classic Ohavi Zedek featuring Ashkenazi-inspired\ndishes drawn from recipes shared by members of our own community —\nfood with memory folded into it: w. Brisket or Salmon \nGefüllte Fisch: Litvak & Galitzianer Style w. \nChrain\, Zoyers\, Zeneft\, Maror —\nHouse-made Sweet & Peppery Gefilte Fish Quenelles\nw. Horseradish\, Pickles\, Mustard & Greens \nMatzah Ball Soup:\nThe Classic. As is. No Meshugas. \nBrisket or Faroe Island Salmon:\nRoot Vegetable Tzimmes\, Roasted Apple & Braised Cabbage \nGateau au Chocolat:\nw. Manischewitz Poached Pears & Candied Oranges \n  \nFrom South to East: Pesach Meal Exploring Food highlighting the rich\nand vibrant flavors of Mizrahi and Sephardic Jewish traditions\, reminding\nus just how wide and diverse our Jewish story really is: Vegetarian \nChicory and Bitter Greens w. North Africa\nCharred Eggplant & Squash Dips (Zaaalouk) \nSopa de Prasa:\nSephardic Leek Soup w. Fried Garlic & Almonds \nBorekas de Matza:\nSalonika-style Artichoke Stuffed & Fried Matzah Parcels\, w. Root\nVegetable Apio & Maintanosalata (Herb Sauce) \nBocca di Dama:\nFlourless Olive Oil Almond Cake w. Pistachio Coconut Cream\nand Apricot Compote \n  \nClick Here to RSVP for Diaspora Seder \n\nEach table will also have matzah and a selection of haroset along with the Seder Plate \nSeder is sponsored in part by Yoram Samets and the Zablotsky family \nMenu crafted by Richard Witting \nRichard M. Witting is a Vermont-based chef\, food historian\, and caterer whose work brings research into the kitchen and onto the table. For three years\, he served as Kitchen Manager at Ohavi Zedek Synagogue and has extensive experience cooking in Vermont’s synagogue community. He has also developed Jewish food programming that pairs meals with public-facing education—most notably Chanukah and the History of the Latke (December 2020) and Tu B’Shevat: The New Year of the Trees (January 2021). Alongside his culinary work\, he researches and writes on Vermont history and foodways\, designing menus and educational meals that translate archival and cultural history into thoughtful\, memorable dining experiences.
URL:https://ohavizedek.org/event/seder-2026/
LOCATION:Ohavi Zedek Synagogue\, 188 North Prospect Street\, Burlington\, VT\, 05401\, United States
CATEGORIES:Community Events,Jewish Holidays
ATTACH;FMTTYPE=image/png:https://ohavizedek.org/wp-content/uploads/2026/02/cpsdias.png
GEO:44.486379;-73.201175
X-APPLE-STRUCTURED-LOCATION;VALUE=URI;X-ADDRESS=Ohavi Zedek Synagogue 188 North Prospect Street Burlington VT 05401 United States;X-APPLE-RADIUS=500;X-TITLE=188 North Prospect Street:geo:-73.201175,44.486379
END:VEVENT
END:VCALENDAR