BEGIN:VCALENDAR
VERSION:2.0
PRODID:-//Ohavi Zedek Synagogue - ECPv6.15.17.1//NONSGML v1.0//EN
CALSCALE:GREGORIAN
METHOD:PUBLISH
X-WR-CALNAME:Ohavi Zedek Synagogue
X-ORIGINAL-URL:https://ohavizedek.org
X-WR-CALDESC:Events for Ohavi Zedek Synagogue
REFRESH-INTERVAL;VALUE=DURATION:PT1H
X-Robots-Tag:noindex
X-PUBLISHED-TTL:PT1H
BEGIN:VTIMEZONE
TZID:America/New_York
BEGIN:DAYLIGHT
TZOFFSETFROM:-0500
TZOFFSETTO:-0400
TZNAME:EDT
DTSTART:20240310T070000
END:DAYLIGHT
BEGIN:STANDARD
TZOFFSETFROM:-0400
TZOFFSETTO:-0500
TZNAME:EST
DTSTART:20241103T060000
END:STANDARD
BEGIN:DAYLIGHT
TZOFFSETFROM:-0500
TZOFFSETTO:-0400
TZNAME:EDT
DTSTART:20250309T070000
END:DAYLIGHT
BEGIN:STANDARD
TZOFFSETFROM:-0400
TZOFFSETTO:-0500
TZNAME:EST
DTSTART:20251102T060000
END:STANDARD
BEGIN:DAYLIGHT
TZOFFSETFROM:-0500
TZOFFSETTO:-0400
TZNAME:EDT
DTSTART:20260308T070000
END:DAYLIGHT
BEGIN:STANDARD
TZOFFSETFROM:-0400
TZOFFSETTO:-0500
TZNAME:EST
DTSTART:20261101T060000
END:STANDARD
END:VTIMEZONE
BEGIN:VEVENT
DTSTART;TZID=America/New_York:20250112T091500
DTEND;TZID=America/New_York:20250112T114500
DTSTAMP:20260420T215851
CREATED:20240617T151413Z
LAST-MODIFIED:20241025T180823Z
UID:10027461-1736673300-1736682300@ohavizedek.org
SUMMARY:Jewish Journeys (Hebrew School)
DESCRIPTION:JJ @ OZ classes meet
URL:https://ohavizedek.org/event/hebrew-school-166-2/2025-01-12/
LOCATION:Ohavi Zedek Synagogue\, 188 North Prospect Street\, Burlington\, VT\, 05401\, United States
CATEGORIES:Hebrew School
ORGANIZER;CN="Naomi":MAILTO:naomi@ohavizedek.org
GEO:44.486379;-73.201175
X-APPLE-STRUCTURED-LOCATION;VALUE=URI;X-ADDRESS=Ohavi Zedek Synagogue 188 North Prospect Street Burlington VT 05401 United States;X-APPLE-RADIUS=500;X-TITLE=188 North Prospect Street:geo:-73.201175,44.486379
END:VEVENT
BEGIN:VEVENT
DTSTART;TZID=America/New_York:20250119T091500
DTEND;TZID=America/New_York:20250119T114500
DTSTAMP:20260420T215851
CREATED:20240617T151413Z
LAST-MODIFIED:20241025T180823Z
UID:10027462-1737278100-1737287100@ohavizedek.org
SUMMARY:Jewish Journeys (Hebrew School)
DESCRIPTION:JJ @ OZ classes meet
URL:https://ohavizedek.org/event/hebrew-school-166-2/2025-01-19/
LOCATION:Ohavi Zedek Synagogue\, 188 North Prospect Street\, Burlington\, VT\, 05401\, United States
CATEGORIES:Hebrew School
ORGANIZER;CN="Naomi":MAILTO:naomi@ohavizedek.org
GEO:44.486379;-73.201175
X-APPLE-STRUCTURED-LOCATION;VALUE=URI;X-ADDRESS=Ohavi Zedek Synagogue 188 North Prospect Street Burlington VT 05401 United States;X-APPLE-RADIUS=500;X-TITLE=188 North Prospect Street:geo:-73.201175,44.486379
END:VEVENT
BEGIN:VEVENT
DTSTART;TZID=America/New_York:20250126T091500
DTEND;TZID=America/New_York:20250126T114500
DTSTAMP:20260420T215851
CREATED:20240617T151413Z
LAST-MODIFIED:20241025T180823Z
UID:10027463-1737882900-1737891900@ohavizedek.org
SUMMARY:Jewish Journeys (Hebrew School)
DESCRIPTION:JJ @ OZ classes meet
URL:https://ohavizedek.org/event/hebrew-school-166-2/2025-01-26/
LOCATION:Ohavi Zedek Synagogue\, 188 North Prospect Street\, Burlington\, VT\, 05401\, United States
CATEGORIES:Hebrew School
ORGANIZER;CN="Naomi":MAILTO:naomi@ohavizedek.org
GEO:44.486379;-73.201175
X-APPLE-STRUCTURED-LOCATION;VALUE=URI;X-ADDRESS=Ohavi Zedek Synagogue 188 North Prospect Street Burlington VT 05401 United States;X-APPLE-RADIUS=500;X-TITLE=188 North Prospect Street:geo:-73.201175,44.486379
END:VEVENT
BEGIN:VEVENT
DTSTART;TZID=America/New_York:20250126T101500
DTEND;TZID=America/New_York:20250126T114500
DTSTAMP:20260420T215851
CREATED:20240103T205640Z
LAST-MODIFIED:20250108T183026Z
UID:10026429-1737886500-1737891900@ohavizedek.org
SUMMARY:JHS@OZ Mitzvah Day 2025!
DESCRIPTION:Here it comes! The most important day of the whole school year! This very special day will focus on food insecurity with guest speaker\, Peter Carmolli\, Director of the South Burlington Food Shelf. MOST importantly\, our most senior students share the great work they are doing with their mitzvah projects and then we will ALL get a chance to participate in a hands-on mitzvah project – making food for the OZ G’mach Freezer and learning how to turn food scraps into good eating! I encourage ALL PARENTS to attend and participate. \nSchedule: \n\n9:15-10:15 – regular classes K-7\n10:15 – 11 – Mitzvah Project presentations and Guest Speaker\n11-11:45 – Hands on Mitzvah Project – G’mach Freezer Cooking\n\nIn addition\, we are asking families to support the South Burlington Food Shelf by making a shelf stable food donation. Please plan on having EACH of your students bring in one of the following items by Mitzvah Day. (We’ll be collecting items in the library.) \n\nBaking items like: sugar\, flour\, cake mixes\nCereal\nPasta Sauce\nCooking oil\nKetchup\nPeanut Butter\nRice\nBaked Beans
URL:https://ohavizedek.org/event/mitzvah-day-weekend-2024-01-21/
LOCATION:Ohavi Zedek Synagogue\, 188 North Prospect Street\, Burlington\, VT\, 05401\, United States
CATEGORIES:Hebrew School
GEO:44.486379;-73.201175
X-APPLE-STRUCTURED-LOCATION;VALUE=URI;X-ADDRESS=Ohavi Zedek Synagogue 188 North Prospect Street Burlington VT 05401 United States;X-APPLE-RADIUS=500;X-TITLE=188 North Prospect Street:geo:-73.201175,44.486379
END:VEVENT
BEGIN:VEVENT
DTSTART;TZID=America/New_York:20250202T091500
DTEND;TZID=America/New_York:20250202T114500
DTSTAMP:20260420T215851
CREATED:20240617T151413Z
LAST-MODIFIED:20241025T180823Z
UID:10027464-1738487700-1738496700@ohavizedek.org
SUMMARY:Jewish Journeys (Hebrew School)
DESCRIPTION:JJ @ OZ classes meet
URL:https://ohavizedek.org/event/hebrew-school-166-2/2025-02-02/
LOCATION:Ohavi Zedek Synagogue\, 188 North Prospect Street\, Burlington\, VT\, 05401\, United States
CATEGORIES:Hebrew School
ORGANIZER;CN="Naomi":MAILTO:naomi@ohavizedek.org
GEO:44.486379;-73.201175
X-APPLE-STRUCTURED-LOCATION;VALUE=URI;X-ADDRESS=Ohavi Zedek Synagogue 188 North Prospect Street Burlington VT 05401 United States;X-APPLE-RADIUS=500;X-TITLE=188 North Prospect Street:geo:-73.201175,44.486379
END:VEVENT
BEGIN:VEVENT
DTSTART;TZID=America/New_York:20250209T091500
DTEND;TZID=America/New_York:20250209T114500
DTSTAMP:20260420T215851
CREATED:20240617T151413Z
LAST-MODIFIED:20241025T180823Z
UID:10027465-1739092500-1739101500@ohavizedek.org
SUMMARY:Jewish Journeys (Hebrew School)
DESCRIPTION:JJ @ OZ classes meet
URL:https://ohavizedek.org/event/hebrew-school-166-2/2025-02-09/
LOCATION:Ohavi Zedek Synagogue\, 188 North Prospect Street\, Burlington\, VT\, 05401\, United States
CATEGORIES:Hebrew School
ORGANIZER;CN="Naomi":MAILTO:naomi@ohavizedek.org
GEO:44.486379;-73.201175
X-APPLE-STRUCTURED-LOCATION;VALUE=URI;X-ADDRESS=Ohavi Zedek Synagogue 188 North Prospect Street Burlington VT 05401 United States;X-APPLE-RADIUS=500;X-TITLE=188 North Prospect Street:geo:-73.201175,44.486379
END:VEVENT
BEGIN:VEVENT
DTSTART;TZID=America/New_York:20250216T091500
DTEND;TZID=America/New_York:20250216T114500
DTSTAMP:20260420T215851
CREATED:20240617T151413Z
LAST-MODIFIED:20241025T180823Z
UID:10027466-1739697300-1739706300@ohavizedek.org
SUMMARY:Jewish Journeys (Hebrew School)
DESCRIPTION:JJ @ OZ classes meet
URL:https://ohavizedek.org/event/hebrew-school-166-2/2025-02-16/
LOCATION:Ohavi Zedek Synagogue\, 188 North Prospect Street\, Burlington\, VT\, 05401\, United States
CATEGORIES:Hebrew School
ORGANIZER;CN="Naomi":MAILTO:naomi@ohavizedek.org
GEO:44.486379;-73.201175
X-APPLE-STRUCTURED-LOCATION;VALUE=URI;X-ADDRESS=Ohavi Zedek Synagogue 188 North Prospect Street Burlington VT 05401 United States;X-APPLE-RADIUS=500;X-TITLE=188 North Prospect Street:geo:-73.201175,44.486379
END:VEVENT
BEGIN:VEVENT
DTSTART;TZID=America/New_York:20250216T110000
DTEND;TZID=America/New_York:20250216T114500
DTSTAMP:20260420T215851
CREATED:20240617T161101Z
LAST-MODIFIED:20250121T181010Z
UID:10027480-1739703600-1739706300@ohavizedek.org
SUMMARY:OZHS-Tu b’Shevat
DESCRIPTION:Its the Birthday of the Trees! Think about all that trees give us! Let’s give a little back to them!
URL:https://ohavizedek.org/event/ozhs-tu-bshevat/
LOCATION:Ohavi Zedek Synagogue\, 188 North Prospect Street\, Burlington\, VT\, 05401\, United States
CATEGORIES:Hebrew School,Young Family Programming
GEO:44.486379;-73.201175
X-APPLE-STRUCTURED-LOCATION;VALUE=URI;X-ADDRESS=Ohavi Zedek Synagogue 188 North Prospect Street Burlington VT 05401 United States;X-APPLE-RADIUS=500;X-TITLE=188 North Prospect Street:geo:-73.201175,44.486379
END:VEVENT
BEGIN:VEVENT
DTSTART;TZID=America/New_York:20250309T091500
DTEND;TZID=America/New_York:20250309T114500
DTSTAMP:20260420T215851
CREATED:20240617T151413Z
LAST-MODIFIED:20241025T180823Z
UID:10027467-1741511700-1741520700@ohavizedek.org
SUMMARY:Jewish Journeys (Hebrew School)
DESCRIPTION:JJ @ OZ classes meet
URL:https://ohavizedek.org/event/hebrew-school-166-2/2025-03-09/
LOCATION:Ohavi Zedek Synagogue\, 188 North Prospect Street\, Burlington\, VT\, 05401\, United States
CATEGORIES:Hebrew School
ORGANIZER;CN="Naomi":MAILTO:naomi@ohavizedek.org
GEO:44.486379;-73.201175
X-APPLE-STRUCTURED-LOCATION;VALUE=URI;X-ADDRESS=Ohavi Zedek Synagogue 188 North Prospect Street Burlington VT 05401 United States;X-APPLE-RADIUS=500;X-TITLE=188 North Prospect Street:geo:-73.201175,44.486379
END:VEVENT
BEGIN:VEVENT
DTSTART;TZID=America/New_York:20250316T091500
DTEND;TZID=America/New_York:20250316T114500
DTSTAMP:20260420T215851
CREATED:20240617T151413Z
LAST-MODIFIED:20241025T180823Z
UID:10027468-1742116500-1742125500@ohavizedek.org
SUMMARY:Jewish Journeys (Hebrew School)
DESCRIPTION:JJ @ OZ classes meet
URL:https://ohavizedek.org/event/hebrew-school-166-2/2025-03-16/
LOCATION:Ohavi Zedek Synagogue\, 188 North Prospect Street\, Burlington\, VT\, 05401\, United States
CATEGORIES:Hebrew School
ORGANIZER;CN="Naomi":MAILTO:naomi@ohavizedek.org
GEO:44.486379;-73.201175
X-APPLE-STRUCTURED-LOCATION;VALUE=URI;X-ADDRESS=Ohavi Zedek Synagogue 188 North Prospect Street Burlington VT 05401 United States;X-APPLE-RADIUS=500;X-TITLE=188 North Prospect Street:geo:-73.201175,44.486379
END:VEVENT
BEGIN:VEVENT
DTSTART;TZID=America/New_York:20250323T091500
DTEND;TZID=America/New_York:20250323T114500
DTSTAMP:20260420T215851
CREATED:20240617T151413Z
LAST-MODIFIED:20241025T180823Z
UID:10027469-1742721300-1742730300@ohavizedek.org
SUMMARY:Jewish Journeys (Hebrew School)
DESCRIPTION:JJ @ OZ classes meet
URL:https://ohavizedek.org/event/hebrew-school-166-2/2025-03-23/
LOCATION:Ohavi Zedek Synagogue\, 188 North Prospect Street\, Burlington\, VT\, 05401\, United States
CATEGORIES:Hebrew School
ORGANIZER;CN="Naomi":MAILTO:naomi@ohavizedek.org
GEO:44.486379;-73.201175
X-APPLE-STRUCTURED-LOCATION;VALUE=URI;X-ADDRESS=Ohavi Zedek Synagogue 188 North Prospect Street Burlington VT 05401 United States;X-APPLE-RADIUS=500;X-TITLE=188 North Prospect Street:geo:-73.201175,44.486379
END:VEVENT
BEGIN:VEVENT
DTSTART;TZID=America/New_York:20250330T091500
DTEND;TZID=America/New_York:20250330T114500
DTSTAMP:20260420T215851
CREATED:20240617T151413Z
LAST-MODIFIED:20241025T180823Z
UID:10027470-1743326100-1743335100@ohavizedek.org
SUMMARY:Jewish Journeys (Hebrew School)
DESCRIPTION:JJ @ OZ classes meet
URL:https://ohavizedek.org/event/hebrew-school-166-2/2025-03-30/
LOCATION:Ohavi Zedek Synagogue\, 188 North Prospect Street\, Burlington\, VT\, 05401\, United States
CATEGORIES:Hebrew School
ORGANIZER;CN="Naomi":MAILTO:naomi@ohavizedek.org
GEO:44.486379;-73.201175
X-APPLE-STRUCTURED-LOCATION;VALUE=URI;X-ADDRESS=Ohavi Zedek Synagogue 188 North Prospect Street Burlington VT 05401 United States;X-APPLE-RADIUS=500;X-TITLE=188 North Prospect Street:geo:-73.201175,44.486379
END:VEVENT
BEGIN:VEVENT
DTSTART;TZID=America/New_York:20250406T091500
DTEND;TZID=America/New_York:20250406T114500
DTSTAMP:20260420T215851
CREATED:20240617T151413Z
LAST-MODIFIED:20241025T180823Z
UID:10027471-1743930900-1743939900@ohavizedek.org
SUMMARY:Jewish Journeys (Hebrew School)
DESCRIPTION:JJ @ OZ classes meet
URL:https://ohavizedek.org/event/hebrew-school-166-2/2025-04-06/
LOCATION:Ohavi Zedek Synagogue\, 188 North Prospect Street\, Burlington\, VT\, 05401\, United States
CATEGORIES:Hebrew School
ORGANIZER;CN="Naomi":MAILTO:naomi@ohavizedek.org
GEO:44.486379;-73.201175
X-APPLE-STRUCTURED-LOCATION;VALUE=URI;X-ADDRESS=Ohavi Zedek Synagogue 188 North Prospect Street Burlington VT 05401 United States;X-APPLE-RADIUS=500;X-TITLE=188 North Prospect Street:geo:-73.201175,44.486379
END:VEVENT
BEGIN:VEVENT
DTSTART;TZID=America/New_York:20250406T103000
DTEND;TZID=America/New_York:20250406T114500
DTSTAMP:20260420T215851
CREATED:20250313T184939Z
LAST-MODIFIED:20250319T174529Z
UID:10030984-1743935400-1743939900@ohavizedek.org
SUMMARY:Exodus Moth Storytelling and Outdoor Matzo Bake
DESCRIPTION:Come hear the story of Passover told by those who were there. Afterwards\, we’ll be making\, baking and enjoying our very own matzo cooked on an open fire outside! Rumor has it that there will be ice cream too\, ‘cuz why not?
URL:https://ohavizedek.org/event/exodus-moth-storytelling-and-outdoor-matzo-bake/
LOCATION:Ohavi Zedek Synagogue\, 188 North Prospect Street\, Burlington\, VT\, 05401\, United States
CATEGORIES:Family,Hebrew School,Jewish Holidays,Young Family Programming
ATTACH;FMTTYPE=image/png:https://ohavizedek.org/wp-content/uploads/2025/03/exopass.png
GEO:44.486379;-73.201175
X-APPLE-STRUCTURED-LOCATION;VALUE=URI;X-ADDRESS=Ohavi Zedek Synagogue 188 North Prospect Street Burlington VT 05401 United States;X-APPLE-RADIUS=500;X-TITLE=188 North Prospect Street:geo:-73.201175,44.486379
END:VEVENT
BEGIN:VEVENT
DTSTART;TZID=America/New_York:20250504T091500
DTEND;TZID=America/New_York:20250504T114500
DTSTAMP:20260420T215851
CREATED:20240617T151413Z
LAST-MODIFIED:20241025T180823Z
UID:10027472-1746350100-1746359100@ohavizedek.org
SUMMARY:Jewish Journeys (Hebrew School)
DESCRIPTION:JJ @ OZ classes meet
URL:https://ohavizedek.org/event/hebrew-school-166-2/2025-05-04/
LOCATION:Ohavi Zedek Synagogue\, 188 North Prospect Street\, Burlington\, VT\, 05401\, United States
CATEGORIES:Hebrew School
ORGANIZER;CN="Naomi":MAILTO:naomi@ohavizedek.org
GEO:44.486379;-73.201175
X-APPLE-STRUCTURED-LOCATION;VALUE=URI;X-ADDRESS=Ohavi Zedek Synagogue 188 North Prospect Street Burlington VT 05401 United States;X-APPLE-RADIUS=500;X-TITLE=188 North Prospect Street:geo:-73.201175,44.486379
END:VEVENT
BEGIN:VEVENT
DTSTART;TZID=America/New_York:20250511T091500
DTEND;TZID=America/New_York:20250511T114500
DTSTAMP:20260420T215851
CREATED:20240617T151413Z
LAST-MODIFIED:20241025T180823Z
UID:10027473-1746954900-1746963900@ohavizedek.org
SUMMARY:Jewish Journeys (Hebrew School)
DESCRIPTION:JJ @ OZ classes meet
URL:https://ohavizedek.org/event/hebrew-school-166-2/2025-05-11/
LOCATION:Ohavi Zedek Synagogue\, 188 North Prospect Street\, Burlington\, VT\, 05401\, United States
CATEGORIES:Hebrew School
ORGANIZER;CN="Naomi":MAILTO:naomi@ohavizedek.org
GEO:44.486379;-73.201175
X-APPLE-STRUCTURED-LOCATION;VALUE=URI;X-ADDRESS=Ohavi Zedek Synagogue 188 North Prospect Street Burlington VT 05401 United States;X-APPLE-RADIUS=500;X-TITLE=188 North Prospect Street:geo:-73.201175,44.486379
END:VEVENT
BEGIN:VEVENT
DTSTART;TZID=America/New_York:20250518T091500
DTEND;TZID=America/New_York:20250518T114500
DTSTAMP:20260420T215851
CREATED:20240528T195333Z
LAST-MODIFIED:20250514T175112Z
UID:10027397-1747559700-1747568700@ohavizedek.org
SUMMARY:Jewish Journeys Commencement 2025
DESCRIPTION:We’ve come to a stop on our Jewish Journey for the year! \n9:15 am – class wrap ups \n10:30 am – Commencement ceremony followed by a visit from the Lake Champlain Chocolates Ice Cream truck!
URL:https://ohavizedek.org/event/hebrew-school-commencement-2025/
LOCATION:Ohavi Zedek Synagogue\, 188 North Prospect Street\, Burlington\, VT\, 05401\, United States
CATEGORIES:Hebrew School
GEO:44.486379;-73.201175
X-APPLE-STRUCTURED-LOCATION;VALUE=URI;X-ADDRESS=Ohavi Zedek Synagogue 188 North Prospect Street Burlington VT 05401 United States;X-APPLE-RADIUS=500;X-TITLE=188 North Prospect Street:geo:-73.201175,44.486379
END:VEVENT
BEGIN:VEVENT
DTSTART;TZID=America/New_York:20250804T090000
DTEND;TZID=America/New_York:20250804T160000
DTSTAMP:20260420T215851
CREATED:20250611T192822Z
LAST-MODIFIED:20250611T192848Z
UID:10032163-1754298000-1754323200@ohavizedek.org
SUMMARY:Summer Day Camp @ OZ
DESCRIPTION:Campers\, 5-9 years old\, get to have some good old fashioned summer fun at OZ – arts and crafts\, science and nature\, drama\, sports\, playground time\, guest speakers\, field trips with plenty of time to just be kids! Snacks and lunch provided for everyone.
URL:https://ohavizedek.org/event/summer-day-camp-oz-2/2025-08-04/
LOCATION:Ohavi Zedek Synagogue\, 188 North Prospect Street\, Burlington\, VT\, 05401\, United States
CATEGORIES:Hebrew School
GEO:44.486379;-73.201175
X-APPLE-STRUCTURED-LOCATION;VALUE=URI;X-ADDRESS=Ohavi Zedek Synagogue 188 North Prospect Street Burlington VT 05401 United States;X-APPLE-RADIUS=500;X-TITLE=188 North Prospect Street:geo:-73.201175,44.486379
END:VEVENT
BEGIN:VEVENT
DTSTART;TZID=America/New_York:20250805T090000
DTEND;TZID=America/New_York:20250805T160000
DTSTAMP:20260420T215851
CREATED:20250611T192822Z
LAST-MODIFIED:20250611T192848Z
UID:10032164-1754384400-1754409600@ohavizedek.org
SUMMARY:Summer Day Camp @ OZ
DESCRIPTION:Campers\, 5-9 years old\, get to have some good old fashioned summer fun at OZ – arts and crafts\, science and nature\, drama\, sports\, playground time\, guest speakers\, field trips with plenty of time to just be kids! Snacks and lunch provided for everyone.
URL:https://ohavizedek.org/event/summer-day-camp-oz-2/2025-08-05/
LOCATION:Ohavi Zedek Synagogue\, 188 North Prospect Street\, Burlington\, VT\, 05401\, United States
CATEGORIES:Hebrew School
GEO:44.486379;-73.201175
X-APPLE-STRUCTURED-LOCATION;VALUE=URI;X-ADDRESS=Ohavi Zedek Synagogue 188 North Prospect Street Burlington VT 05401 United States;X-APPLE-RADIUS=500;X-TITLE=188 North Prospect Street:geo:-73.201175,44.486379
END:VEVENT
BEGIN:VEVENT
DTSTART;TZID=America/New_York:20250806T090000
DTEND;TZID=America/New_York:20250806T160000
DTSTAMP:20260420T215851
CREATED:20250611T192822Z
LAST-MODIFIED:20250611T192848Z
UID:10032165-1754470800-1754496000@ohavizedek.org
SUMMARY:Summer Day Camp @ OZ
DESCRIPTION:Campers\, 5-9 years old\, get to have some good old fashioned summer fun at OZ – arts and crafts\, science and nature\, drama\, sports\, playground time\, guest speakers\, field trips with plenty of time to just be kids! Snacks and lunch provided for everyone.
URL:https://ohavizedek.org/event/summer-day-camp-oz-2/2025-08-06/
LOCATION:Ohavi Zedek Synagogue\, 188 North Prospect Street\, Burlington\, VT\, 05401\, United States
CATEGORIES:Hebrew School
GEO:44.486379;-73.201175
X-APPLE-STRUCTURED-LOCATION;VALUE=URI;X-ADDRESS=Ohavi Zedek Synagogue 188 North Prospect Street Burlington VT 05401 United States;X-APPLE-RADIUS=500;X-TITLE=188 North Prospect Street:geo:-73.201175,44.486379
END:VEVENT
BEGIN:VEVENT
DTSTART;TZID=America/New_York:20250807T090000
DTEND;TZID=America/New_York:20250807T160000
DTSTAMP:20260420T215851
CREATED:20250611T192822Z
LAST-MODIFIED:20250611T192848Z
UID:10032166-1754557200-1754582400@ohavizedek.org
SUMMARY:Summer Day Camp @ OZ
DESCRIPTION:Campers\, 5-9 years old\, get to have some good old fashioned summer fun at OZ – arts and crafts\, science and nature\, drama\, sports\, playground time\, guest speakers\, field trips with plenty of time to just be kids! Snacks and lunch provided for everyone.
URL:https://ohavizedek.org/event/summer-day-camp-oz-2/2025-08-07/
LOCATION:Ohavi Zedek Synagogue\, 188 North Prospect Street\, Burlington\, VT\, 05401\, United States
CATEGORIES:Hebrew School
GEO:44.486379;-73.201175
X-APPLE-STRUCTURED-LOCATION;VALUE=URI;X-ADDRESS=Ohavi Zedek Synagogue 188 North Prospect Street Burlington VT 05401 United States;X-APPLE-RADIUS=500;X-TITLE=188 North Prospect Street:geo:-73.201175,44.486379
END:VEVENT
BEGIN:VEVENT
DTSTART;TZID=America/New_York:20250808T090000
DTEND;TZID=America/New_York:20250808T160000
DTSTAMP:20260420T215851
CREATED:20250611T192822Z
LAST-MODIFIED:20250611T192848Z
UID:10032167-1754643600-1754668800@ohavizedek.org
SUMMARY:Summer Day Camp @ OZ
DESCRIPTION:Campers\, 5-9 years old\, get to have some good old fashioned summer fun at OZ – arts and crafts\, science and nature\, drama\, sports\, playground time\, guest speakers\, field trips with plenty of time to just be kids! Snacks and lunch provided for everyone.
URL:https://ohavizedek.org/event/summer-day-camp-oz-2/2025-08-08/
LOCATION:Ohavi Zedek Synagogue\, 188 North Prospect Street\, Burlington\, VT\, 05401\, United States
CATEGORIES:Hebrew School
GEO:44.486379;-73.201175
X-APPLE-STRUCTURED-LOCATION;VALUE=URI;X-ADDRESS=Ohavi Zedek Synagogue 188 North Prospect Street Burlington VT 05401 United States;X-APPLE-RADIUS=500;X-TITLE=188 North Prospect Street:geo:-73.201175,44.486379
END:VEVENT
BEGIN:VEVENT
DTSTART;TZID=America/New_York:20250811T090000
DTEND;TZID=America/New_York:20250811T160000
DTSTAMP:20260420T215851
CREATED:20250611T192822Z
LAST-MODIFIED:20250611T192848Z
UID:10032168-1754902800-1754928000@ohavizedek.org
SUMMARY:Summer Day Camp @ OZ
DESCRIPTION:Campers\, 5-9 years old\, get to have some good old fashioned summer fun at OZ – arts and crafts\, science and nature\, drama\, sports\, playground time\, guest speakers\, field trips with plenty of time to just be kids! Snacks and lunch provided for everyone.
URL:https://ohavizedek.org/event/summer-day-camp-oz-2/2025-08-11/
LOCATION:Ohavi Zedek Synagogue\, 188 North Prospect Street\, Burlington\, VT\, 05401\, United States
CATEGORIES:Hebrew School
GEO:44.486379;-73.201175
X-APPLE-STRUCTURED-LOCATION;VALUE=URI;X-ADDRESS=Ohavi Zedek Synagogue 188 North Prospect Street Burlington VT 05401 United States;X-APPLE-RADIUS=500;X-TITLE=188 North Prospect Street:geo:-73.201175,44.486379
END:VEVENT
BEGIN:VEVENT
DTSTART;TZID=America/New_York:20250812T090000
DTEND;TZID=America/New_York:20250812T160000
DTSTAMP:20260420T215851
CREATED:20250611T192822Z
LAST-MODIFIED:20250611T192848Z
UID:10032169-1754989200-1755014400@ohavizedek.org
SUMMARY:Summer Day Camp @ OZ
DESCRIPTION:Campers\, 5-9 years old\, get to have some good old fashioned summer fun at OZ – arts and crafts\, science and nature\, drama\, sports\, playground time\, guest speakers\, field trips with plenty of time to just be kids! Snacks and lunch provided for everyone.
URL:https://ohavizedek.org/event/summer-day-camp-oz-2/2025-08-12/
LOCATION:Ohavi Zedek Synagogue\, 188 North Prospect Street\, Burlington\, VT\, 05401\, United States
CATEGORIES:Hebrew School
GEO:44.486379;-73.201175
X-APPLE-STRUCTURED-LOCATION;VALUE=URI;X-ADDRESS=Ohavi Zedek Synagogue 188 North Prospect Street Burlington VT 05401 United States;X-APPLE-RADIUS=500;X-TITLE=188 North Prospect Street:geo:-73.201175,44.486379
END:VEVENT
BEGIN:VEVENT
DTSTART;TZID=America/New_York:20250813T090000
DTEND;TZID=America/New_York:20250813T160000
DTSTAMP:20260420T215851
CREATED:20250611T192822Z
LAST-MODIFIED:20250611T192848Z
UID:10032170-1755075600-1755100800@ohavizedek.org
SUMMARY:Summer Day Camp @ OZ
DESCRIPTION:Campers\, 5-9 years old\, get to have some good old fashioned summer fun at OZ – arts and crafts\, science and nature\, drama\, sports\, playground time\, guest speakers\, field trips with plenty of time to just be kids! Snacks and lunch provided for everyone.
URL:https://ohavizedek.org/event/summer-day-camp-oz-2/2025-08-13/
LOCATION:Ohavi Zedek Synagogue\, 188 North Prospect Street\, Burlington\, VT\, 05401\, United States
CATEGORIES:Hebrew School
GEO:44.486379;-73.201175
X-APPLE-STRUCTURED-LOCATION;VALUE=URI;X-ADDRESS=Ohavi Zedek Synagogue 188 North Prospect Street Burlington VT 05401 United States;X-APPLE-RADIUS=500;X-TITLE=188 North Prospect Street:geo:-73.201175,44.486379
END:VEVENT
BEGIN:VEVENT
DTSTART;TZID=America/New_York:20250814T090000
DTEND;TZID=America/New_York:20250814T160000
DTSTAMP:20260420T215851
CREATED:20250611T192822Z
LAST-MODIFIED:20250611T192848Z
UID:10032171-1755162000-1755187200@ohavizedek.org
SUMMARY:Summer Day Camp @ OZ
DESCRIPTION:Campers\, 5-9 years old\, get to have some good old fashioned summer fun at OZ – arts and crafts\, science and nature\, drama\, sports\, playground time\, guest speakers\, field trips with plenty of time to just be kids! Snacks and lunch provided for everyone.
URL:https://ohavizedek.org/event/summer-day-camp-oz-2/2025-08-14/
LOCATION:Ohavi Zedek Synagogue\, 188 North Prospect Street\, Burlington\, VT\, 05401\, United States
CATEGORIES:Hebrew School
GEO:44.486379;-73.201175
X-APPLE-STRUCTURED-LOCATION;VALUE=URI;X-ADDRESS=Ohavi Zedek Synagogue 188 North Prospect Street Burlington VT 05401 United States;X-APPLE-RADIUS=500;X-TITLE=188 North Prospect Street:geo:-73.201175,44.486379
END:VEVENT
BEGIN:VEVENT
DTSTART;TZID=America/New_York:20250815T090000
DTEND;TZID=America/New_York:20250815T160000
DTSTAMP:20260420T215851
CREATED:20250611T192822Z
LAST-MODIFIED:20250611T192848Z
UID:10032172-1755248400-1755273600@ohavizedek.org
SUMMARY:Summer Day Camp @ OZ
DESCRIPTION:Campers\, 5-9 years old\, get to have some good old fashioned summer fun at OZ – arts and crafts\, science and nature\, drama\, sports\, playground time\, guest speakers\, field trips with plenty of time to just be kids! Snacks and lunch provided for everyone.
URL:https://ohavizedek.org/event/summer-day-camp-oz-2/2025-08-15/
LOCATION:Ohavi Zedek Synagogue\, 188 North Prospect Street\, Burlington\, VT\, 05401\, United States
CATEGORIES:Hebrew School
GEO:44.486379;-73.201175
X-APPLE-STRUCTURED-LOCATION;VALUE=URI;X-ADDRESS=Ohavi Zedek Synagogue 188 North Prospect Street Burlington VT 05401 United States;X-APPLE-RADIUS=500;X-TITLE=188 North Prospect Street:geo:-73.201175,44.486379
END:VEVENT
BEGIN:VEVENT
DTSTART;TZID=America/New_York:20250914T091500
DTEND;TZID=America/New_York:20250914T114500
DTSTAMP:20260420T215851
CREATED:20250611T195031Z
LAST-MODIFIED:20250611T200959Z
UID:10034022-1757841300-1757850300@ohavizedek.org
SUMMARY:Jewish Journeys Learning
DESCRIPTION:
URL:https://ohavizedek.org/event/jewish-journeys-learning/2025-09-14/
LOCATION:Ohavi Zedek Synagogue\, 188 North Prospect Street\, Burlington\, VT\, 05401\, United States
CATEGORIES:Jewish Journeys
GEO:44.486379;-73.201175
X-APPLE-STRUCTURED-LOCATION;VALUE=URI;X-ADDRESS=Ohavi Zedek Synagogue 188 North Prospect Street Burlington VT 05401 United States;X-APPLE-RADIUS=500;X-TITLE=188 North Prospect Street:geo:-73.201175,44.486379
END:VEVENT
BEGIN:VEVENT
DTSTART;TZID=America/New_York:20250921T091500
DTEND;TZID=America/New_York:20250921T114500
DTSTAMP:20260420T215851
CREATED:20250611T195031Z
LAST-MODIFIED:20250611T200959Z
UID:10034023-1758446100-1758455100@ohavizedek.org
SUMMARY:Jewish Journeys Learning
DESCRIPTION:
URL:https://ohavizedek.org/event/jewish-journeys-learning/2025-09-21/
LOCATION:Ohavi Zedek Synagogue\, 188 North Prospect Street\, Burlington\, VT\, 05401\, United States
CATEGORIES:Jewish Journeys
GEO:44.486379;-73.201175
X-APPLE-STRUCTURED-LOCATION;VALUE=URI;X-ADDRESS=Ohavi Zedek Synagogue 188 North Prospect Street Burlington VT 05401 United States;X-APPLE-RADIUS=500;X-TITLE=188 North Prospect Street:geo:-73.201175,44.486379
END:VEVENT
BEGIN:VEVENT
DTSTART;TZID=America/New_York:20250928T091500
DTEND;TZID=America/New_York:20250928T114500
DTSTAMP:20260420T215851
CREATED:20250611T195031Z
LAST-MODIFIED:20250611T200959Z
UID:10034024-1759050900-1759059900@ohavizedek.org
SUMMARY:Jewish Journeys Learning
DESCRIPTION:
URL:https://ohavizedek.org/event/jewish-journeys-learning/2025-09-28/
LOCATION:Ohavi Zedek Synagogue\, 188 North Prospect Street\, Burlington\, VT\, 05401\, United States
CATEGORIES:Jewish Journeys
GEO:44.486379;-73.201175
X-APPLE-STRUCTURED-LOCATION;VALUE=URI;X-ADDRESS=Ohavi Zedek Synagogue 188 North Prospect Street Burlington VT 05401 United States;X-APPLE-RADIUS=500;X-TITLE=188 North Prospect Street:geo:-73.201175,44.486379
END:VEVENT
END:VCALENDAR