BEGIN:VCALENDAR
VERSION:2.0
PRODID:-//Ohavi Zedek Synagogue - ECPv6.15.17.1//NONSGML v1.0//EN
CALSCALE:GREGORIAN
METHOD:PUBLISH
X-WR-CALNAME:Ohavi Zedek Synagogue
X-ORIGINAL-URL:https://ohavizedek.org
X-WR-CALDESC:Events for Ohavi Zedek Synagogue
REFRESH-INTERVAL;VALUE=DURATION:PT1H
X-Robots-Tag:noindex
X-PUBLISHED-TTL:PT1H
BEGIN:VTIMEZONE
TZID:America/New_York
BEGIN:DAYLIGHT
TZOFFSETFROM:-0500
TZOFFSETTO:-0400
TZNAME:EDT
DTSTART:20250309T070000
END:DAYLIGHT
BEGIN:STANDARD
TZOFFSETFROM:-0400
TZOFFSETTO:-0500
TZNAME:EST
DTSTART:20251102T060000
END:STANDARD
BEGIN:DAYLIGHT
TZOFFSETFROM:-0500
TZOFFSETTO:-0400
TZNAME:EDT
DTSTART:20260308T070000
END:DAYLIGHT
BEGIN:STANDARD
TZOFFSETFROM:-0400
TZOFFSETTO:-0500
TZNAME:EST
DTSTART:20261101T060000
END:STANDARD
BEGIN:DAYLIGHT
TZOFFSETFROM:-0500
TZOFFSETTO:-0400
TZNAME:EDT
DTSTART:20270314T070000
END:DAYLIGHT
BEGIN:STANDARD
TZOFFSETFROM:-0400
TZOFFSETTO:-0500
TZNAME:EST
DTSTART:20271107T060000
END:STANDARD
END:VTIMEZONE
BEGIN:VEVENT
DTSTART;TZID=America/New_York:20260125T100000
DTEND;TZID=America/New_York:20260125T114500
DTSTAMP:20260421T025051
CREATED:20260116T191918Z
LAST-MODIFIED:20260116T192234Z
UID:10037586-1769335200-1769341500@ohavizedek.org
SUMMARY:Mitzvah Day
DESCRIPTION:10-11 – Student mitzvah project presentations and guest speaker Scott Silverstein sharing about Bread for Peace \n11-11:45 – Hands on mitzvah project for all students and parents – making challah rolls for residents of the Heineberg Senior Center \n11:45 – Bagel Brunch
URL:https://ohavizedek.org/event/mitzvah-day/
LOCATION:Ohavi Zedek Synagogue\, 188 North Prospect Street\, Burlington\, VT\, 05401\, United States
CATEGORIES:Jewish Journeys
GEO:44.486379;-73.201175
X-APPLE-STRUCTURED-LOCATION;VALUE=URI;X-ADDRESS=Ohavi Zedek Synagogue 188 North Prospect Street Burlington VT 05401 United States;X-APPLE-RADIUS=500;X-TITLE=188 North Prospect Street:geo:-73.201175,44.486379
END:VEVENT
BEGIN:VEVENT
DTSTART;TZID=America/New_York:20260201T091500
DTEND;TZID=America/New_York:20260201T114500
DTSTAMP:20260421T025051
CREATED:20250611T195031Z
LAST-MODIFIED:20250611T200959Z
UID:10034042-1769937300-1769946300@ohavizedek.org
SUMMARY:Jewish Journeys Learning
DESCRIPTION:
URL:https://ohavizedek.org/event/jewish-journeys-learning/2026-02-01/
LOCATION:Ohavi Zedek Synagogue\, 188 North Prospect Street\, Burlington\, VT\, 05401\, United States
CATEGORIES:Jewish Journeys
GEO:44.486379;-73.201175
X-APPLE-STRUCTURED-LOCATION;VALUE=URI;X-ADDRESS=Ohavi Zedek Synagogue 188 North Prospect Street Burlington VT 05401 United States;X-APPLE-RADIUS=500;X-TITLE=188 North Prospect Street:geo:-73.201175,44.486379
END:VEVENT
BEGIN:VEVENT
DTSTART;TZID=America/New_York:20260208T091500
DTEND;TZID=America/New_York:20260208T114500
DTSTAMP:20260421T025051
CREATED:20250611T195031Z
LAST-MODIFIED:20250611T200959Z
UID:10034043-1770542100-1770551100@ohavizedek.org
SUMMARY:Jewish Journeys Learning
DESCRIPTION:
URL:https://ohavizedek.org/event/jewish-journeys-learning/2026-02-08/
LOCATION:Ohavi Zedek Synagogue\, 188 North Prospect Street\, Burlington\, VT\, 05401\, United States
CATEGORIES:Jewish Journeys
GEO:44.486379;-73.201175
X-APPLE-STRUCTURED-LOCATION;VALUE=URI;X-ADDRESS=Ohavi Zedek Synagogue 188 North Prospect Street Burlington VT 05401 United States;X-APPLE-RADIUS=500;X-TITLE=188 North Prospect Street:geo:-73.201175,44.486379
END:VEVENT
BEGIN:VEVENT
DTSTART;TZID=America/New_York:20260215T091500
DTEND;TZID=America/New_York:20260215T114500
DTSTAMP:20260421T025051
CREATED:20250611T195031Z
LAST-MODIFIED:20250611T200959Z
UID:10034044-1771146900-1771155900@ohavizedek.org
SUMMARY:Jewish Journeys Learning
DESCRIPTION:
URL:https://ohavizedek.org/event/jewish-journeys-learning/2026-02-15/
LOCATION:Ohavi Zedek Synagogue\, 188 North Prospect Street\, Burlington\, VT\, 05401\, United States
CATEGORIES:Jewish Journeys
GEO:44.486379;-73.201175
X-APPLE-STRUCTURED-LOCATION;VALUE=URI;X-ADDRESS=Ohavi Zedek Synagogue 188 North Prospect Street Burlington VT 05401 United States;X-APPLE-RADIUS=500;X-TITLE=188 North Prospect Street:geo:-73.201175,44.486379
END:VEVENT
BEGIN:VEVENT
DTSTART;TZID=America/New_York:20260308T091500
DTEND;TZID=America/New_York:20260308T114500
DTSTAMP:20260421T025051
CREATED:20250611T195031Z
LAST-MODIFIED:20250611T200959Z
UID:10034047-1772961300-1772970300@ohavizedek.org
SUMMARY:Jewish Journeys Learning
DESCRIPTION:
URL:https://ohavizedek.org/event/jewish-journeys-learning/2026-03-08/
LOCATION:Ohavi Zedek Synagogue\, 188 North Prospect Street\, Burlington\, VT\, 05401\, United States
CATEGORIES:Jewish Journeys
GEO:44.486379;-73.201175
X-APPLE-STRUCTURED-LOCATION;VALUE=URI;X-ADDRESS=Ohavi Zedek Synagogue 188 North Prospect Street Burlington VT 05401 United States;X-APPLE-RADIUS=500;X-TITLE=188 North Prospect Street:geo:-73.201175,44.486379
END:VEVENT
BEGIN:VEVENT
DTSTART;TZID=America/New_York:20260322T091500
DTEND;TZID=America/New_York:20260322T114500
DTSTAMP:20260421T025051
CREATED:20250611T195031Z
LAST-MODIFIED:20250611T200959Z
UID:10034049-1774170900-1774179900@ohavizedek.org
SUMMARY:Jewish Journeys Learning
DESCRIPTION:
URL:https://ohavizedek.org/event/jewish-journeys-learning/2026-03-22/
LOCATION:Ohavi Zedek Synagogue\, 188 North Prospect Street\, Burlington\, VT\, 05401\, United States
CATEGORIES:Jewish Journeys
GEO:44.486379;-73.201175
X-APPLE-STRUCTURED-LOCATION;VALUE=URI;X-ADDRESS=Ohavi Zedek Synagogue 188 North Prospect Street Burlington VT 05401 United States;X-APPLE-RADIUS=500;X-TITLE=188 North Prospect Street:geo:-73.201175,44.486379
END:VEVENT
BEGIN:VEVENT
DTSTART;TZID=America/New_York:20260329T091500
DTEND;TZID=America/New_York:20260329T114500
DTSTAMP:20260421T025051
CREATED:20250611T195031Z
LAST-MODIFIED:20250611T200959Z
UID:10034050-1774775700-1774784700@ohavizedek.org
SUMMARY:Jewish Journeys Learning
DESCRIPTION:
URL:https://ohavizedek.org/event/jewish-journeys-learning/2026-03-29/
LOCATION:Ohavi Zedek Synagogue\, 188 North Prospect Street\, Burlington\, VT\, 05401\, United States
CATEGORIES:Jewish Journeys
GEO:44.486379;-73.201175
X-APPLE-STRUCTURED-LOCATION;VALUE=URI;X-ADDRESS=Ohavi Zedek Synagogue 188 North Prospect Street Burlington VT 05401 United States;X-APPLE-RADIUS=500;X-TITLE=188 North Prospect Street:geo:-73.201175,44.486379
END:VEVENT
BEGIN:VEVENT
DTSTART;TZID=America/New_York:20260405T091500
DTEND;TZID=America/New_York:20260405T114500
DTSTAMP:20260421T025051
CREATED:20250611T195031Z
LAST-MODIFIED:20250611T200959Z
UID:10034051-1775380500-1775389500@ohavizedek.org
SUMMARY:Jewish Journeys Learning
DESCRIPTION:
URL:https://ohavizedek.org/event/jewish-journeys-learning/2026-04-05/
LOCATION:Ohavi Zedek Synagogue\, 188 North Prospect Street\, Burlington\, VT\, 05401\, United States
CATEGORIES:Jewish Journeys
GEO:44.486379;-73.201175
X-APPLE-STRUCTURED-LOCATION;VALUE=URI;X-ADDRESS=Ohavi Zedek Synagogue 188 North Prospect Street Burlington VT 05401 United States;X-APPLE-RADIUS=500;X-TITLE=188 North Prospect Street:geo:-73.201175,44.486379
END:VEVENT
BEGIN:VEVENT
DTSTART;TZID=America/New_York:20260412T091500
DTEND;TZID=America/New_York:20260412T114500
DTSTAMP:20260421T025051
CREATED:20250611T195031Z
LAST-MODIFIED:20250611T200959Z
UID:10034052-1775985300-1775994300@ohavizedek.org
SUMMARY:Jewish Journeys Learning
DESCRIPTION:
URL:https://ohavizedek.org/event/jewish-journeys-learning/2026-04-12/
LOCATION:Ohavi Zedek Synagogue\, 188 North Prospect Street\, Burlington\, VT\, 05401\, United States
CATEGORIES:Jewish Journeys
GEO:44.486379;-73.201175
X-APPLE-STRUCTURED-LOCATION;VALUE=URI;X-ADDRESS=Ohavi Zedek Synagogue 188 North Prospect Street Burlington VT 05401 United States;X-APPLE-RADIUS=500;X-TITLE=188 North Prospect Street:geo:-73.201175,44.486379
END:VEVENT
BEGIN:VEVENT
DTSTART;TZID=America/New_York:20260503T091500
DTEND;TZID=America/New_York:20260503T114500
DTSTAMP:20260421T025051
CREATED:20250611T195031Z
LAST-MODIFIED:20250611T200959Z
UID:10034055-1777799700-1777808700@ohavizedek.org
SUMMARY:Jewish Journeys Learning
DESCRIPTION:
URL:https://ohavizedek.org/event/jewish-journeys-learning/2026-05-03/
LOCATION:Ohavi Zedek Synagogue\, 188 North Prospect Street\, Burlington\, VT\, 05401\, United States
CATEGORIES:Jewish Journeys
GEO:44.486379;-73.201175
X-APPLE-STRUCTURED-LOCATION;VALUE=URI;X-ADDRESS=Ohavi Zedek Synagogue 188 North Prospect Street Burlington VT 05401 United States;X-APPLE-RADIUS=500;X-TITLE=188 North Prospect Street:geo:-73.201175,44.486379
END:VEVENT
BEGIN:VEVENT
DTSTART;TZID=America/New_York:20260510T091500
DTEND;TZID=America/New_York:20260510T114500
DTSTAMP:20260421T025051
CREATED:20250611T195031Z
LAST-MODIFIED:20250611T200959Z
UID:10034056-1778404500-1778413500@ohavizedek.org
SUMMARY:Jewish Journeys Learning
DESCRIPTION:
URL:https://ohavizedek.org/event/jewish-journeys-learning/2026-05-10/
LOCATION:Ohavi Zedek Synagogue\, 188 North Prospect Street\, Burlington\, VT\, 05401\, United States
CATEGORIES:Jewish Journeys
GEO:44.486379;-73.201175
X-APPLE-STRUCTURED-LOCATION;VALUE=URI;X-ADDRESS=Ohavi Zedek Synagogue 188 North Prospect Street Burlington VT 05401 United States;X-APPLE-RADIUS=500;X-TITLE=188 North Prospect Street:geo:-73.201175,44.486379
END:VEVENT
BEGIN:VEVENT
DTSTART;TZID=America/New_York:20260517T091500
DTEND;TZID=America/New_York:20260517T114500
DTSTAMP:20260421T025051
CREATED:20250611T195031Z
LAST-MODIFIED:20250611T200959Z
UID:10034057-1779009300-1779018300@ohavizedek.org
SUMMARY:Jewish Journeys Learning
DESCRIPTION:
URL:https://ohavizedek.org/event/jewish-journeys-learning/2026-05-17/
LOCATION:Ohavi Zedek Synagogue\, 188 North Prospect Street\, Burlington\, VT\, 05401\, United States
CATEGORIES:Jewish Journeys
GEO:44.486379;-73.201175
X-APPLE-STRUCTURED-LOCATION;VALUE=URI;X-ADDRESS=Ohavi Zedek Synagogue 188 North Prospect Street Burlington VT 05401 United States;X-APPLE-RADIUS=500;X-TITLE=188 North Prospect Street:geo:-73.201175,44.486379
END:VEVENT
END:VCALENDAR