BEGIN:VCALENDAR
VERSION:2.0
PRODID:-//Ohavi Zedek Synagogue - ECPv6.15.17.1//NONSGML v1.0//EN
CALSCALE:GREGORIAN
METHOD:PUBLISH
X-ORIGINAL-URL:https://ohavizedek.org
X-WR-CALDESC:Events for Ohavi Zedek Synagogue
REFRESH-INTERVAL;VALUE=DURATION:PT1H
X-Robots-Tag:noindex
X-PUBLISHED-TTL:PT1H
BEGIN:VTIMEZONE
TZID:America/New_York
BEGIN:DAYLIGHT
TZOFFSETFROM:-0500
TZOFFSETTO:-0400
TZNAME:EDT
DTSTART:20230312T070000
END:DAYLIGHT
BEGIN:STANDARD
TZOFFSETFROM:-0400
TZOFFSETTO:-0500
TZNAME:EST
DTSTART:20231105T060000
END:STANDARD
BEGIN:DAYLIGHT
TZOFFSETFROM:-0500
TZOFFSETTO:-0400
TZNAME:EDT
DTSTART:20240310T070000
END:DAYLIGHT
BEGIN:STANDARD
TZOFFSETFROM:-0400
TZOFFSETTO:-0500
TZNAME:EST
DTSTART:20241103T060000
END:STANDARD
BEGIN:DAYLIGHT
TZOFFSETFROM:-0500
TZOFFSETTO:-0400
TZNAME:EDT
DTSTART:20250309T070000
END:DAYLIGHT
BEGIN:STANDARD
TZOFFSETFROM:-0400
TZOFFSETTO:-0500
TZNAME:EST
DTSTART:20251102T060000
END:STANDARD
END:VTIMEZONE
BEGIN:VEVENT
DTSTART;VALUE=DATE:20241002
DTEND;VALUE=DATE:20241013
DTSTAMP:20260422T115832
CREATED:20240916T183550Z
LAST-MODIFIED:20240916T183705Z
UID:10028221-1727827200-1728777599@ohavizedek.org
SUMMARY:High Holiday Food Drive
DESCRIPTION:Each year our community comes together for a food drive to help those in need.\n \n2024 marks our fourth annual drive\, which will take place October 2nd through October 12th. \nThe 2023 drive produced over 1\,000 pounds of food donated to Feeding Chittenden! \nHelp collect food for Feeding Champlain Valley.  Recycled plastic and cloth bags (small and large sizes) will be available for pick up at the synagogue during our fall Open House and during Rosh Hashanah by the north entrance.  \nPick up a bag\, fill the bag as best you can using the list stapled to the bag\, and return it to OZ by Yom Kippur on October 12. If it is more convenient\, please consider contributing a check payable to Feeding Champlain Valley. Last year we collected more than 1\,000 pounds of food!
URL:https://ohavizedek.org/event/high-holiday-food-drive/
LOCATION:Ohavi Zedek Synagogue\, 188 North Prospect Street\, Burlington\, VT\, 05401\, United States
CATEGORIES:Community Events,High Holy Days,Holiday,Social Justice
GEO:44.486379;-73.201175
X-APPLE-STRUCTURED-LOCATION;VALUE=URI;X-ADDRESS=Ohavi Zedek Synagogue 188 North Prospect Street Burlington VT 05401 United States;X-APPLE-RADIUS=500;X-TITLE=188 North Prospect Street:geo:-73.201175,44.486379
END:VEVENT
BEGIN:VEVENT
DTSTART;TZID=America/New_York:20241002T170000
DTEND;TZID=America/New_York:20241002T180000
DTSTAMP:20260422T115832
CREATED:20240708T162002Z
LAST-MODIFIED:20240906T103546Z
UID:10027772-1727888400-1727892000@ohavizedek.org
SUMMARY:20s/30s - Wine and Cheese in the Yurt
DESCRIPTION:Join our 20s & 30s Group for wine\, cheese & Rosh Hashanah classics like apples and honey! \nFeel free to join us for Erev Rosh Hashanah services following the event! \nRegister Here
URL:https://ohavizedek.org/event/20s-30s-wine-and-cheese-in-the-yurt/
LOCATION:OZ Yurt\, 188 North Prospect St\, Burlington\, VT\, 05401
CATEGORIES:20s/30s,High Holy Days
GEO:44.4864221;-73.201179
X-APPLE-STRUCTURED-LOCATION;VALUE=URI;X-ADDRESS=OZ Yurt 188 North Prospect St Burlington VT 05401;X-APPLE-RADIUS=500;X-TITLE=188 North Prospect St:geo:-73.201179,44.4864221
END:VEVENT
BEGIN:VEVENT
DTSTART;TZID=America/New_York:20241002T180000
DTEND;TZID=America/New_York:20241002T200000
DTSTAMP:20260422T115832
CREATED:20240716T163641Z
LAST-MODIFIED:20240930T021252Z
UID:10027797-1727892000-1727899200@ohavizedek.org
SUMMARY:Erev Rosh Hashanah Services
DESCRIPTION:Join us to welcome in the New Year with our Erev Rosh Hashanah service! This service will include Ma’ariv. \nOur digital Mahzor prayer book and zoom link will be emailed to those who register in advance.
URL:https://ohavizedek.org/event/erev-rosh-hashana-services/
LOCATION:Ohavi Zedek Synagogue\, 188 North Prospect Street\, Burlington\, VT\, 05401\, United States
CATEGORIES:High Holy Days,Jewish Holidays
GEO:44.486379;-73.201175
X-APPLE-STRUCTURED-LOCATION;VALUE=URI;X-ADDRESS=Ohavi Zedek Synagogue 188 North Prospect Street Burlington VT 05401 United States;X-APPLE-RADIUS=500;X-TITLE=188 North Prospect Street:geo:-73.201175,44.486379
END:VEVENT
BEGIN:VEVENT
DTSTART;TZID=America/New_York:20241003T084500
DTEND;TZID=America/New_York:20241003T133000
DTSTAMP:20260422T115832
CREATED:20240716T164721Z
LAST-MODIFIED:20240928T221714Z
UID:10027798-1727945100-1727962200@ohavizedek.org
SUMMARY:Rosh Hashanah Day 1: Services
DESCRIPTION:Welcome the New Year and celebrate Shabbat with our Rosh Hashanah morning service. This service will include the Shacharit\, Torah reading and Musaf. \nZoom Links and our digital Mahzor prayer book will be provided to those who register for High Holy Days. \nAlso note these programs that take place on this day: \n\nTot Service – Ages 0-5 & Families\, 10 AM\, OZ’s Front Lawn\, please bring blankets/ chairs\n ​​​​​​​Youth Service – Ages 6-11 & Families\, 10 AM\, Quaker Meeting House Lawn\, please bring blankets/ chairs
URL:https://ohavizedek.org/event/rosh-hashanah-day-1-services/
LOCATION:Ohavi Zedek Synagogue\, 188 North Prospect Street\, Burlington\, VT\, 05401\, United States
CATEGORIES:High Holy Days,Jewish Holidays
ATTACH;FMTTYPE=image/png:https://ohavizedek.org/wp-content/uploads/2024/08/High-Holy-Days-6.png
GEO:44.486379;-73.201175
X-APPLE-STRUCTURED-LOCATION;VALUE=URI;X-ADDRESS=Ohavi Zedek Synagogue 188 North Prospect Street Burlington VT 05401 United States;X-APPLE-RADIUS=500;X-TITLE=188 North Prospect Street:geo:-73.201175,44.486379
END:VEVENT
BEGIN:VEVENT
DTSTART;TZID=America/New_York:20241003T100000
DTEND;TZID=America/New_York:20241003T103000
DTSTAMP:20260422T115832
CREATED:20240730T190831Z
LAST-MODIFIED:20240929T150240Z
UID:10028139-1727949600-1727951400@ohavizedek.org
SUMMARY:Rosh Hashanah Tot Service
DESCRIPTION:This service is for children ages 0-5 and their grown-ups. Please bring a blanket or chair. Service will be held outside.  In the event of rain we will move inside to the Samuelson Saiger Sanctuary. \nAfter the program\, our whole community will come together in the OZ main sanctuary for a short portion of the service. \nPlease see our full High Holy Day program summary here. and our family programs here. \n 
URL:https://ohavizedek.org/event/rosh-hashanah-tot-service-2/
LOCATION:VT
CATEGORIES:High Holy Days
ATTACH;FMTTYPE=image/png:https://ohavizedek.org/wp-content/uploads/2024/08/family-programs.png
END:VEVENT
BEGIN:VEVENT
DTSTART;TZID=America/New_York:20241003T170000
DTEND;TZID=America/New_York:20241003T183000
DTSTAMP:20260422T115832
CREATED:20240716T165357Z
LAST-MODIFIED:20240930T203106Z
UID:10027799-1727974800-1727980200@ohavizedek.org
SUMMARY:OZ's Rosh Hashanah by the Lake 2024 - At Hula Lakeside
DESCRIPTION:Register Here \n\nJoin us for a joyful Rosh Hashanah experience at a new location this year (inside Hula overlooking the beautiful Burlington waterfront)!  \nEnjoy Jewish stories\, skits and songs\, hear the shofar sound\, dip apples in honey\, and more in a warm\, joyful setting! This event is co-led by OZ’s clergy\, including our new Cantor Jessica Silverberg and  Rabbi Aaron Philmus\, as well as a host of talented volunteer community members/story tellers.  (We need your help- interested contact us!) \n\n\nJewish? Adjacent? Curious?  Join us for this day of Awe-some! This friendly event is suitable for those ages 0 to 118.  Everyone is welcome! Questions?  Contact us. \n\n\nAll of OZ’s high holiday programs can be seen here.\n \n\nThis event will be followed by an outdoor lakeside Tashlich at the Surf Club beach. We will provide pebbles for an eco-friendly option! \nRegister Here \n  \nParking at Hula is available behind the building near the surf club or there is a visitor parking lot located at 125 Lakeside Avenue\, with over 750 spaces. Most parking is metered and can be paid for by scanning the QR codes that are shown on signage throughout the lot\, or paid in advance.  Use discount code 5785 for $1/hour parking. \nParking Instructions: How to Park at Hula \n 
URL:https://ohavizedek.org/event/rosh-hashana-by-the-lake-2024/
LOCATION:Hula on Lakeside\, 50 Lakeside Ave\, Burlington\, 05401\, United States
CATEGORIES:High Holy Days,Jewish Holidays
END:VEVENT
BEGIN:VEVENT
DTSTART;TZID=America/New_York:20241003T181500
DTEND;TZID=America/New_York:20241003T183000
DTSTAMP:20260422T115832
CREATED:20240928T194748Z
LAST-MODIFIED:20240928T200158Z
UID:10028238-1727979300-1727980200@ohavizedek.org
SUMMARY:Tashlich 2024
DESCRIPTION:Traditional Tashlich Service of symbolically casting our sins into the water. We will provide pebbles for a more eco-friendly option. \nThis short program will take place at the Surf Club Beach at Hula on Lakeside Ave.  It will take place right at the end for our Rosh Hashanah By The Lake event inside Hula.  Attend one or both! \n  \nParking at Hula is available behind the building near the surf club or there is a visitor parking lot located at 125 Lakeside Avenue\, with over 750 spaces. Most parking is metered and can be paid for by scanning the QR codes that are shown on signage throughout the lot\, or paid in advance (check back for details). \n 
URL:https://ohavizedek.org/event/tashlich-2024/
LOCATION:Hula on Lakeside\, 50 Lakeside Ave\, Burlington\, 05401\, United States
CATEGORIES:High Holy Days
ATTACH;FMTTYPE=image/png:https://ohavizedek.org/wp-content/uploads/2024/08/High-Holy-Days-6.png
END:VEVENT
BEGIN:VEVENT
DTSTART;TZID=America/New_York:20241004T084500
DTEND;TZID=America/New_York:20241004T133000
DTSTAMP:20260422T115832
CREATED:20240716T172413Z
LAST-MODIFIED:20240928T221807Z
UID:10027800-1728031500-1728048600@ohavizedek.org
SUMMARY:Rosh Hashana Day 2 Services
DESCRIPTION:Join us for our Day 2 Rosh Hashanah Shacharit Service.  All are welcome to this relaxed continuation of our Rosh Hashanah prayers and celebration of renewal and a sweet New Year! \nDigital Mahzor Prayer book will be available soon \nZoom Links and our digital Mahzor prayer book will be provided to those who register for High Holy Days. \nNote: \n\nOur Tot Service for people ages 0-5 & their families takes place at 10 AM\, please bring blankets/ chairs.
URL:https://ohavizedek.org/event/rosh-hashana-day-2-services/
LOCATION:Ohavi Zedek Synagogue\, 188 North Prospect Street\, Burlington\, VT\, 05401\, United States
CATEGORIES:High Holy Days,Jewish Holidays
GEO:44.486379;-73.201175
X-APPLE-STRUCTURED-LOCATION;VALUE=URI;X-ADDRESS=Ohavi Zedek Synagogue 188 North Prospect Street Burlington VT 05401 United States;X-APPLE-RADIUS=500;X-TITLE=188 North Prospect Street:geo:-73.201175,44.486379
END:VEVENT
BEGIN:VEVENT
DTSTART;TZID=America/New_York:20241004T100000
DTEND;TZID=America/New_York:20241004T103000
DTSTAMP:20260422T115832
CREATED:20240730T191113Z
LAST-MODIFIED:20240929T180833Z
UID:10028140-1728036000-1728037800@ohavizedek.org
SUMMARY:Rosh Hashanah Day 2 Tot Service
DESCRIPTION:This service is for children ages 0-5 and their grown-ups. Please bring a blanket or chair. Service will be held outside\, weather-dependent and in the Samuelson Saiger Sanctuary in the event of rain.
URL:https://ohavizedek.org/event/rosh-hashanah-day-2-tot-service-2/
LOCATION:VT
CATEGORIES:High Holy Days
ATTACH;FMTTYPE=image/png:https://ohavizedek.org/wp-content/uploads/2024/08/High-Holy-Days-6.png
END:VEVENT
BEGIN:VEVENT
DTSTART;TZID=America/New_York:20241004T180000
DTEND;TZID=America/New_York:20241004T200000
DTSTAMP:20260422T115832
CREATED:20240716T172806Z
LAST-MODIFIED:20240928T221934Z
UID:10027801-1728064800-1728072000@ohavizedek.org
SUMMARY:Erev Shabbat Shavuah
DESCRIPTION:Join us to welcome Shabbat and the New Year with our Erev Shabbat Shavuah service! \nOur Digital Mahzor Prayer Book will be available soon. \nLinks to our Zoom and Livestream will be available soon.
URL:https://ohavizedek.org/event/erev-shabbat-shavuah/
LOCATION:Ohavi Zedek Synagogue\, 188 North Prospect Street\, Burlington\, VT\, 05401\, United States
CATEGORIES:High Holy Days,Jewish Holidays
GEO:44.486379;-73.201175
X-APPLE-STRUCTURED-LOCATION;VALUE=URI;X-ADDRESS=Ohavi Zedek Synagogue 188 North Prospect Street Burlington VT 05401 United States;X-APPLE-RADIUS=500;X-TITLE=188 North Prospect Street:geo:-73.201175,44.486379
END:VEVENT
END:VCALENDAR