BEGIN:VCALENDAR
VERSION:2.0
PRODID:-//Ohavi Zedek Synagogue - ECPv6.15.17.1//NONSGML v1.0//EN
CALSCALE:GREGORIAN
METHOD:PUBLISH
X-ORIGINAL-URL:https://ohavizedek.org
X-WR-CALDESC:Events for Ohavi Zedek Synagogue
REFRESH-INTERVAL;VALUE=DURATION:PT1H
X-Robots-Tag:noindex
X-PUBLISHED-TTL:PT1H
BEGIN:VTIMEZONE
TZID:America/New_York
BEGIN:DAYLIGHT
TZOFFSETFROM:-0500
TZOFFSETTO:-0400
TZNAME:EDT
DTSTART:20230312T070000
END:DAYLIGHT
BEGIN:STANDARD
TZOFFSETFROM:-0400
TZOFFSETTO:-0500
TZNAME:EST
DTSTART:20231105T060000
END:STANDARD
BEGIN:DAYLIGHT
TZOFFSETFROM:-0500
TZOFFSETTO:-0400
TZNAME:EDT
DTSTART:20240310T070000
END:DAYLIGHT
BEGIN:STANDARD
TZOFFSETFROM:-0400
TZOFFSETTO:-0500
TZNAME:EST
DTSTART:20241103T060000
END:STANDARD
BEGIN:DAYLIGHT
TZOFFSETFROM:-0500
TZOFFSETTO:-0400
TZNAME:EDT
DTSTART:20250309T070000
END:DAYLIGHT
BEGIN:STANDARD
TZOFFSETFROM:-0400
TZOFFSETTO:-0500
TZNAME:EST
DTSTART:20251102T060000
END:STANDARD
END:VTIMEZONE
BEGIN:VEVENT
DTSTART;TZID=America/New_York:20240924T190000
DTEND;TZID=America/New_York:20240924T200000
DTSTAMP:20260421T111402
CREATED:20240919T202459Z
LAST-MODIFIED:20240919T202502Z
UID:10028162-1727204400-1727208000@ohavizedek.org
SUMMARY:High Holiday Learning Series: Cultivating Spiritual Contemplative Practices
DESCRIPTION:A two-part High Holy Day preparation learning series taking place on Tuesday evenings September 10 and 24\, at 7:30 to 8:30 PM.  In OZ’s Yurt or Sanctuary depending on weather.  The program will be led by members of our mindfulness team and clergy who are experienced in the disciplines. \nRegister Here \nProgram Details \nJudaism has a rich\, ancient tradition of contemplative practices\, designed to cultivate wisdom\, compassion\, peacefulness\, spiritual connectedness\, and inner freedom. \nThese time-honored practices complement and enrich the more familiar Jewish observances and traditions by teaching us: \n\nTo cultivate the softening and opening of our hearts\nTo nurture our capacity for resilience\, well-being\, and compassion for self and others\nTo learn tools and practices to reconnect with our innate wisdom and authenticity\nTo cultivate insight and wise action in response to the challenges of our world.\n\nJoin us for two 1-hour session at Ohavi Zedek. Elements of this program will include Meditation\, chanting and discussion. \nYou may also like our Introduction to Jewish Contemplative Practice program on September 15\, 2024. \n 
URL:https://ohavizedek.org/event/high-holiday-learning-series-cultivating-spiritual-contemplative-practices-3/
LOCATION:Ohavi Zedek Synagogue\, 188 North Prospect Street\, Burlington\, VT\, 05401\, United States
CATEGORIES:20s/30s,Adult Learning,Community Events,High Holy Days,Meditation and Mindfulness,Young Family Programming
GEO:44.486379;-73.201175
X-APPLE-STRUCTURED-LOCATION;VALUE=URI;X-ADDRESS=Ohavi Zedek Synagogue 188 North Prospect Street Burlington VT 05401 United States;X-APPLE-RADIUS=500;X-TITLE=188 North Prospect Street:geo:-73.201175,44.486379
END:VEVENT
END:VCALENDAR