BEGIN:VCALENDAR
VERSION:2.0
PRODID:-//Ohavi Zedek Synagogue - ECPv6.15.17.1//NONSGML v1.0//EN
CALSCALE:GREGORIAN
METHOD:PUBLISH
X-ORIGINAL-URL:https://ohavizedek.org
X-WR-CALDESC:Events for Ohavi Zedek Synagogue
REFRESH-INTERVAL;VALUE=DURATION:PT1H
X-Robots-Tag:noindex
X-PUBLISHED-TTL:PT1H
BEGIN:VTIMEZONE
TZID:America/New_York
BEGIN:DAYLIGHT
TZOFFSETFROM:-0500
TZOFFSETTO:-0400
TZNAME:EDT
DTSTART:20240310T070000
END:DAYLIGHT
BEGIN:STANDARD
TZOFFSETFROM:-0400
TZOFFSETTO:-0500
TZNAME:EST
DTSTART:20241103T060000
END:STANDARD
BEGIN:DAYLIGHT
TZOFFSETFROM:-0500
TZOFFSETTO:-0400
TZNAME:EDT
DTSTART:20250309T070000
END:DAYLIGHT
BEGIN:STANDARD
TZOFFSETFROM:-0400
TZOFFSETTO:-0500
TZNAME:EST
DTSTART:20251102T060000
END:STANDARD
BEGIN:DAYLIGHT
TZOFFSETFROM:-0500
TZOFFSETTO:-0400
TZNAME:EDT
DTSTART:20260308T070000
END:DAYLIGHT
BEGIN:STANDARD
TZOFFSETFROM:-0400
TZOFFSETTO:-0500
TZNAME:EST
DTSTART:20261101T060000
END:STANDARD
BEGIN:DAYLIGHT
TZOFFSETFROM:-0500
TZOFFSETTO:-0400
TZNAME:EDT
DTSTART:20270314T070000
END:DAYLIGHT
BEGIN:STANDARD
TZOFFSETFROM:-0400
TZOFFSETTO:-0500
TZNAME:EST
DTSTART:20271107T060000
END:STANDARD
END:VTIMEZONE
BEGIN:VEVENT
DTSTART;TZID=America/New_York:20251206T193000
DTEND;TZID=America/New_York:20251206T213000
DTSTAMP:20260420T194101
CREATED:20251027T153446Z
LAST-MODIFIED:20251027T160120Z
UID:10036402-1765049400-1765056600@ohavizedek.org
SUMMARY:Vermont Symphony Orchestra - Holiday Pops
DESCRIPTION:This Vermont Symphony Orchestra program includes two Ohavi Zedek community members. Our board member Michael Schachter is presenting a new musical commission inspired by a Jewish folktale. And Marty Fogel will narrate a portion of the program. \n\nCelebrate December with festive music and join Music Director Andrew Crust\, guest singers\, and your Vermont Symphony Orchestra for a concert that delivers a joyful mood for the season. Enjoy favorites like Sleigh Ride and selections from The Nutcracker\, a new commission by Vermont composer Michael Schachter inspired by a Jewish folktale\, a rousing audience holiday sing-a-long\, a musical reading of selections from Charles Dickens’ A Christmas Carol\, and more! \nClick here for more information and to buy tickets
URL:https://ohavizedek.org/event/vermont-symphony-orchestra-holiday-pops/
LOCATION:Flynn
CATEGORIES:Community Events,Music Events
ATTACH;FMTTYPE=image/png:https://ohavizedek.org/wp-content/uploads/2025/10/vemsymphonyorc.png
END:VEVENT
BEGIN:VEVENT
DTSTART;TZID=America/New_York:20251207T130000
DTEND;TZID=America/New_York:20251207T140000
DTSTAMP:20260420T194101
CREATED:20251029T163612Z
LAST-MODIFIED:20260204T141942Z
UID:10036429-1765112400-1765116000@ohavizedek.org
SUMMARY:OZ Singing Circle
DESCRIPTION:Come Sing with Us! We’re a group of people who want to join together in a circle and connect by singing Niggunim (wordless melodies)\, chants and prayers. No concerts\, no auditions\, no judgement. We will smile and sing together. \nContact Gigi / Judy if you’d like to chat.
URL:https://ohavizedek.org/event/oz-singing-circle-4/2025-12-07/
LOCATION:OZ Mural / Lost Mural
CATEGORIES:Community Events,Music Events
ATTACH;FMTTYPE=image/png:https://ohavizedek.org/wp-content/uploads/2025/10/singing-circles.png
END:VEVENT
BEGIN:VEVENT
DTSTART;TZID=America/New_York:20260111T130000
DTEND;TZID=America/New_York:20260111T140000
DTSTAMP:20260420T194101
CREATED:20251029T163612Z
LAST-MODIFIED:20260204T141942Z
UID:10036430-1768136400-1768140000@ohavizedek.org
SUMMARY:OZ Singing Circle
DESCRIPTION:Come Sing with Us! We’re a group of people who want to join together in a circle and connect by singing Niggunim (wordless melodies)\, chants and prayers. No concerts\, no auditions\, no judgement. We will smile and sing together. \nContact Gigi / Judy if you’d like to chat.
URL:https://ohavizedek.org/event/oz-singing-circle-4/2026-01-11/
LOCATION:OZ Mural / Lost Mural
CATEGORIES:Community Events,Music Events
ATTACH;FMTTYPE=image/png:https://ohavizedek.org/wp-content/uploads/2025/10/singing-circles.png
END:VEVENT
BEGIN:VEVENT
DTSTART;TZID=America/New_York:20260125T130000
DTEND;TZID=America/New_York:20260125T140000
DTSTAMP:20260420T194101
CREATED:20251029T163612Z
LAST-MODIFIED:20260204T141942Z
UID:10036431-1769346000-1769349600@ohavizedek.org
SUMMARY:OZ Singing Circle
DESCRIPTION:Come Sing with Us! We’re a group of people who want to join together in a circle and connect by singing Niggunim (wordless melodies)\, chants and prayers. No concerts\, no auditions\, no judgement. We will smile and sing together. \nContact Gigi / Judy if you’d like to chat.
URL:https://ohavizedek.org/event/oz-singing-circle-4/2026-01-25/
LOCATION:OZ Mural / Lost Mural
CATEGORIES:Community Events,Music Events
ATTACH;FMTTYPE=image/png:https://ohavizedek.org/wp-content/uploads/2025/10/singing-circles.png
END:VEVENT
BEGIN:VEVENT
DTSTART;TZID=America/New_York:20260208T130000
DTEND;TZID=America/New_York:20260208T140000
DTSTAMP:20260420T194101
CREATED:20251029T163612Z
LAST-MODIFIED:20260204T141942Z
UID:10036432-1770555600-1770559200@ohavizedek.org
SUMMARY:OZ Singing Circle
DESCRIPTION:Come Sing with Us! We’re a group of people who want to join together in a circle and connect by singing Niggunim (wordless melodies)\, chants and prayers. No concerts\, no auditions\, no judgement. We will smile and sing together. \nContact Gigi / Judy if you’d like to chat.
URL:https://ohavizedek.org/event/oz-singing-circle-4/2026-02-08/
LOCATION:OZ Mural / Lost Mural
CATEGORIES:Community Events,Music Events
ATTACH;FMTTYPE=image/png:https://ohavizedek.org/wp-content/uploads/2025/10/singing-circles.png
END:VEVENT
BEGIN:VEVENT
DTSTART;TZID=America/New_York:20260308T130000
DTEND;TZID=America/New_York:20260308T140000
DTSTAMP:20260420T194101
CREATED:20251029T163612Z
LAST-MODIFIED:20260204T141942Z
UID:10036433-1772974800-1772978400@ohavizedek.org
SUMMARY:OZ Singing Circle
DESCRIPTION:Come Sing with Us! We’re a group of people who want to join together in a circle and connect by singing Niggunim (wordless melodies)\, chants and prayers. No concerts\, no auditions\, no judgement. We will smile and sing together. \nContact Gigi / Judy if you’d like to chat.
URL:https://ohavizedek.org/event/oz-singing-circle-4/2026-03-08/
LOCATION:OZ Mural / Lost Mural
CATEGORIES:Community Events,Music Events
ATTACH;FMTTYPE=image/png:https://ohavizedek.org/wp-content/uploads/2025/10/singing-circles.png
END:VEVENT
BEGIN:VEVENT
DTSTART;TZID=America/New_York:20260320T180000
DTEND;TZID=America/New_York:20260320T194500
DTSTAMP:20260420T194101
CREATED:20260220T144814Z
LAST-MODIFIED:20260305T140723Z
UID:10040025-1774029600-1774035900@ohavizedek.org
SUMMARY:Zamru: Let Us Sing! A Musical Shabbat Experience
DESCRIPTION:זַמְּרוּ לַה׳ בְּכִנּוֹר וְקוֹל זִמְרָה׃\nZamru l’Adonai b’Khinor v’Kol Zimrah\nSing unto God with the music of strings and voices together\n(Psalm 98:5) \n  \nZamru: Let Us Sing is an invitation to break out in joyful song as a community. Please join us to welcome in Shabbat together at our new Zamru service— a spirited\, instrumental Kabbalat Shabbat experience for the entire community. \nLed by Cantor Jessica Silverberg and Rabbi Ariel Ya’akov Dunat\, featuring gifted guest musicians*\, this service in the round will blend energizing melodies with traditional prayer to create a meaningful experience for individuals and families of all ages. Whether you like to sing\, dance\, or simply listen as the music washes over you— Zamru is for you! \nAfter the service\, all are welcome to share a warm and welcoming potluck dinner with conversation\, laughter\, song\, and community\, complemented by a generous dish prepared by the Rabbi or Cantor and their families. \nAll are welcome. Registration is greatly appreciated. Please feel free to sign up to bring a vegetarian potluck item and help make the table abundant for all. \nEvening Schedule: \n6:00 PM Zamru Service*\n7:00 PM Potluck Dinner\n7:45 PM Quick Ma’ariv (evening) service \n* featuring: Michael Schachter – piano\, Marty Fogel – sax\, Dov Schiller – percussion\, Henry Guckes – bass\, Nat Lew – voice \nRegister for Zamru and Potluck Dinner
URL:https://ohavizedek.org/event/zamru-let-us-sing-a-musical-shabbat-experience/
LOCATION:Ohavi Zedek Synagogue\, 188 North Prospect Street\, Burlington\, VT\, 05401\, United States
CATEGORIES:Kabbalat Shabbat,Music Events
ATTACH;FMTTYPE=image/png:https://ohavizedek.org/wp-content/uploads/2026/02/zamru-header2.png
GEO:44.486379;-73.201175
X-APPLE-STRUCTURED-LOCATION;VALUE=URI;X-ADDRESS=Ohavi Zedek Synagogue 188 North Prospect Street Burlington VT 05401 United States;X-APPLE-RADIUS=500;X-TITLE=188 North Prospect Street:geo:-73.201175,44.486379
END:VEVENT
BEGIN:VEVENT
DTSTART;TZID=America/New_York:20260322T130000
DTEND;TZID=America/New_York:20260322T140000
DTSTAMP:20260420T194101
CREATED:20251029T163612Z
LAST-MODIFIED:20260204T141942Z
UID:10036434-1774184400-1774188000@ohavizedek.org
SUMMARY:OZ Singing Circle
DESCRIPTION:Come Sing with Us! We’re a group of people who want to join together in a circle and connect by singing Niggunim (wordless melodies)\, chants and prayers. No concerts\, no auditions\, no judgement. We will smile and sing together. \nContact Gigi / Judy if you’d like to chat.
URL:https://ohavizedek.org/event/oz-singing-circle-4/2026-03-22/
LOCATION:OZ Mural / Lost Mural
CATEGORIES:Community Events,Music Events
ATTACH;FMTTYPE=image/png:https://ohavizedek.org/wp-content/uploads/2025/10/singing-circles.png
END:VEVENT
BEGIN:VEVENT
DTSTART;TZID=America/New_York:20260412T130000
DTEND;TZID=America/New_York:20260412T140000
DTSTAMP:20260420T194101
CREATED:20251029T163612Z
LAST-MODIFIED:20260204T141942Z
UID:10037573-1775998800-1776002400@ohavizedek.org
SUMMARY:OZ Singing Circle
DESCRIPTION:Come Sing with Us! We’re a group of people who want to join together in a circle and connect by singing Niggunim (wordless melodies)\, chants and prayers. No concerts\, no auditions\, no judgement. We will smile and sing together. \nContact Gigi / Judy if you’d like to chat.
URL:https://ohavizedek.org/event/oz-singing-circle-4/2026-04-12/
LOCATION:OZ Mural / Lost Mural
CATEGORIES:Community Events,Music Events
ATTACH;FMTTYPE=image/png:https://ohavizedek.org/wp-content/uploads/2025/10/singing-circles.png
END:VEVENT
BEGIN:VEVENT
DTSTART;TZID=America/New_York:20260414T170000
DTEND;TZID=America/New_York:20260414T170000
DTSTAMP:20260420T194101
CREATED:20260325T134709Z
LAST-MODIFIED:20260413T175248Z
UID:10041042-1776186000-1776186000@ohavizedek.org
SUMMARY:The Annual Rabbi Max B. Wall Endowment Lecture - Freylekh Musik (Joyous Music); Klezmer and the Tools of Melody
DESCRIPTION:  \n\nThe Annual Rabbi Max B. Wall Endowment Lecture\nFreylekh Musik (Joyous Music); Klezmer and the Tools of Melody \nPresented by OZ member – Michael Schachter\, PH.D. \nTuesday\, April 14th at 5pm\nMcCarthy Recital Hall\nSaint Michael’s College \nFree and open to the public \nA lecture and musical performance featuring Klezmer musicians\nOzzy Irving Gold-Shapiro\, Ariel Shapiro and Rachel Leader \nFor more information\, contact (802) 654-2079
URL:https://ohavizedek.org/event/tools-of-melody/
LOCATION:McCarthy Recital Hall\, St Michael’s College\, 18 Campus Rd.\, Colchester\, VT\, 05439
CATEGORIES:Community Events,Music Events
END:VEVENT
BEGIN:VEVENT
DTSTART;TZID=America/New_York:20260503T130000
DTEND;TZID=America/New_York:20260503T140000
DTSTAMP:20260420T194101
CREATED:20251029T163612Z
LAST-MODIFIED:20260204T141942Z
UID:10037574-1777813200-1777816800@ohavizedek.org
SUMMARY:OZ Singing Circle
DESCRIPTION:Come Sing with Us! We’re a group of people who want to join together in a circle and connect by singing Niggunim (wordless melodies)\, chants and prayers. No concerts\, no auditions\, no judgement. We will smile and sing together. \nContact Gigi / Judy if you’d like to chat.
URL:https://ohavizedek.org/event/oz-singing-circle-4/2026-05-03/
LOCATION:OZ Mural / Lost Mural
CATEGORIES:Community Events,Music Events
ATTACH;FMTTYPE=image/png:https://ohavizedek.org/wp-content/uploads/2025/10/singing-circles.png
END:VEVENT
BEGIN:VEVENT
DTSTART;TZID=America/New_York:20260614T130000
DTEND;TZID=America/New_York:20260614T140000
DTSTAMP:20260420T194101
CREATED:20251029T163612Z
LAST-MODIFIED:20260204T141942Z
UID:10037934-1781442000-1781445600@ohavizedek.org
SUMMARY:OZ Singing Circle
DESCRIPTION:Come Sing with Us! We’re a group of people who want to join together in a circle and connect by singing Niggunim (wordless melodies)\, chants and prayers. No concerts\, no auditions\, no judgement. We will smile and sing together. \nContact Gigi / Judy if you’d like to chat.
URL:https://ohavizedek.org/event/oz-singing-circle-4/2026-06-14/
LOCATION:OZ Mural / Lost Mural
CATEGORIES:Community Events,Music Events
ATTACH;FMTTYPE=image/png:https://ohavizedek.org/wp-content/uploads/2025/10/singing-circles.png
END:VEVENT
END:VCALENDAR