BEGIN:VCALENDAR
VERSION:2.0
PRODID:-//Ohavi Zedek Synagogue - ECPv6.15.17.1//NONSGML v1.0//EN
CALSCALE:GREGORIAN
METHOD:PUBLISH
X-ORIGINAL-URL:https://ohavizedek.org
X-WR-CALDESC:Events for Ohavi Zedek Synagogue
REFRESH-INTERVAL;VALUE=DURATION:PT1H
X-Robots-Tag:noindex
X-PUBLISHED-TTL:PT1H
BEGIN:VTIMEZONE
TZID:America/New_York
BEGIN:DAYLIGHT
TZOFFSETFROM:-0500
TZOFFSETTO:-0400
TZNAME:EDT
DTSTART:20270314T070000
END:DAYLIGHT
BEGIN:STANDARD
TZOFFSETFROM:-0400
TZOFFSETTO:-0500
TZNAME:EST
DTSTART:20271107T060000
END:STANDARD
BEGIN:DAYLIGHT
TZOFFSETFROM:-0500
TZOFFSETTO:-0400
TZNAME:EDT
DTSTART:20280312T070000
END:DAYLIGHT
BEGIN:STANDARD
TZOFFSETFROM:-0400
TZOFFSETTO:-0500
TZNAME:EST
DTSTART:20281105T060000
END:STANDARD
BEGIN:DAYLIGHT
TZOFFSETFROM:-0500
TZOFFSETTO:-0400
TZNAME:EDT
DTSTART:20290311T070000
END:DAYLIGHT
BEGIN:STANDARD
TZOFFSETFROM:-0400
TZOFFSETTO:-0500
TZNAME:EST
DTSTART:20291104T060000
END:STANDARD
BEGIN:DAYLIGHT
TZOFFSETFROM:-0500
TZOFFSETTO:-0400
TZNAME:EDT
DTSTART:20300310T070000
END:DAYLIGHT
BEGIN:STANDARD
TZOFFSETFROM:-0400
TZOFFSETTO:-0500
TZNAME:EST
DTSTART:20301103T060000
END:STANDARD
BEGIN:DAYLIGHT
TZOFFSETFROM:-0500
TZOFFSETTO:-0400
TZNAME:EDT
DTSTART:20310309T070000
END:DAYLIGHT
BEGIN:STANDARD
TZOFFSETFROM:-0400
TZOFFSETTO:-0500
TZNAME:EST
DTSTART:20311102T060000
END:STANDARD
END:VTIMEZONE
BEGIN:VEVENT
DTSTART;TZID=America/New_York:20280501T130000
DTEND;TZID=America/New_York:20280501T140000
DTSTAMP:20260420T220043
CREATED:20250428T144605Z
LAST-MODIFIED:20250826T151450Z
UID:10031111-1840798800-1840802400@ohavizedek.org
SUMMARY:OZ Village Committee Meeting
DESCRIPTION:
URL:https://ohavizedek.org/event/oz-village-committee-meeting/2028-05-01/
LOCATION:VT
CATEGORIES:Committee Meetings,Social Justice
END:VEVENT
BEGIN:VEVENT
DTSTART;TZID=America/New_York:20280605T130000
DTEND;TZID=America/New_York:20280605T140000
DTSTAMP:20260420T220043
CREATED:20250428T144605Z
LAST-MODIFIED:20250826T151450Z
UID:10031112-1843822800-1843826400@ohavizedek.org
SUMMARY:OZ Village Committee Meeting
DESCRIPTION:
URL:https://ohavizedek.org/event/oz-village-committee-meeting/2028-06-05/
LOCATION:VT
CATEGORIES:Committee Meetings,Social Justice
END:VEVENT
BEGIN:VEVENT
DTSTART;TZID=America/New_York:20280703T130000
DTEND;TZID=America/New_York:20280703T140000
DTSTAMP:20260420T220043
CREATED:20250428T144605Z
LAST-MODIFIED:20250826T151450Z
UID:10031113-1846242000-1846245600@ohavizedek.org
SUMMARY:OZ Village Committee Meeting
DESCRIPTION:
URL:https://ohavizedek.org/event/oz-village-committee-meeting/2028-07-03/
LOCATION:VT
CATEGORIES:Committee Meetings,Social Justice
END:VEVENT
BEGIN:VEVENT
DTSTART;TZID=America/New_York:20280807T130000
DTEND;TZID=America/New_York:20280807T140000
DTSTAMP:20260420T220043
CREATED:20250428T144605Z
LAST-MODIFIED:20250826T151450Z
UID:10031114-1849266000-1849269600@ohavizedek.org
SUMMARY:OZ Village Committee Meeting
DESCRIPTION:
URL:https://ohavizedek.org/event/oz-village-committee-meeting/2028-08-07/
LOCATION:VT
CATEGORIES:Committee Meetings,Social Justice
END:VEVENT
BEGIN:VEVENT
DTSTART;TZID=America/New_York:20280904T130000
DTEND;TZID=America/New_York:20280904T140000
DTSTAMP:20260420T220043
CREATED:20250428T144605Z
LAST-MODIFIED:20250826T151450Z
UID:10031115-1851685200-1851688800@ohavizedek.org
SUMMARY:OZ Village Committee Meeting
DESCRIPTION:
URL:https://ohavizedek.org/event/oz-village-committee-meeting/2028-09-04/
LOCATION:VT
CATEGORIES:Committee Meetings,Social Justice
END:VEVENT
BEGIN:VEVENT
DTSTART;TZID=America/New_York:20281002T130000
DTEND;TZID=America/New_York:20281002T140000
DTSTAMP:20260420T220043
CREATED:20250428T144605Z
LAST-MODIFIED:20250826T151450Z
UID:10031116-1854104400-1854108000@ohavizedek.org
SUMMARY:OZ Village Committee Meeting
DESCRIPTION:
URL:https://ohavizedek.org/event/oz-village-committee-meeting/2028-10-02/
LOCATION:VT
CATEGORIES:Committee Meetings,Social Justice
END:VEVENT
BEGIN:VEVENT
DTSTART;TZID=America/New_York:20281106T130000
DTEND;TZID=America/New_York:20281106T140000
DTSTAMP:20260420T220043
CREATED:20250428T144605Z
LAST-MODIFIED:20250826T151450Z
UID:10031117-1857128400-1857132000@ohavizedek.org
SUMMARY:OZ Village Committee Meeting
DESCRIPTION:
URL:https://ohavizedek.org/event/oz-village-committee-meeting/2028-11-06/
LOCATION:VT
CATEGORIES:Committee Meetings,Social Justice
END:VEVENT
BEGIN:VEVENT
DTSTART;TZID=America/New_York:20281204T130000
DTEND;TZID=America/New_York:20281204T140000
DTSTAMP:20260420T220043
CREATED:20250428T144605Z
LAST-MODIFIED:20250826T151450Z
UID:10031118-1859547600-1859551200@ohavizedek.org
SUMMARY:OZ Village Committee Meeting
DESCRIPTION:
URL:https://ohavizedek.org/event/oz-village-committee-meeting/2028-12-04/
LOCATION:VT
CATEGORIES:Committee Meetings,Social Justice
END:VEVENT
BEGIN:VEVENT
DTSTART;TZID=America/New_York:20290101T130000
DTEND;TZID=America/New_York:20290101T140000
DTSTAMP:20260420T220043
CREATED:20250428T144605Z
LAST-MODIFIED:20250826T151450Z
UID:10031119-1861966800-1861970400@ohavizedek.org
SUMMARY:OZ Village Committee Meeting
DESCRIPTION:
URL:https://ohavizedek.org/event/oz-village-committee-meeting/2029-01-01/
LOCATION:VT
CATEGORIES:Committee Meetings,Social Justice
END:VEVENT
BEGIN:VEVENT
DTSTART;TZID=America/New_York:20290205T130000
DTEND;TZID=America/New_York:20290205T140000
DTSTAMP:20260420T220043
CREATED:20250428T144605Z
LAST-MODIFIED:20250826T151450Z
UID:10031120-1864990800-1864994400@ohavizedek.org
SUMMARY:OZ Village Committee Meeting
DESCRIPTION:
URL:https://ohavizedek.org/event/oz-village-committee-meeting/2029-02-05/
LOCATION:VT
CATEGORIES:Committee Meetings,Social Justice
END:VEVENT
BEGIN:VEVENT
DTSTART;TZID=America/New_York:20290305T130000
DTEND;TZID=America/New_York:20290305T140000
DTSTAMP:20260420T220043
CREATED:20250428T144605Z
LAST-MODIFIED:20250826T151450Z
UID:10031121-1867410000-1867413600@ohavizedek.org
SUMMARY:OZ Village Committee Meeting
DESCRIPTION:
URL:https://ohavizedek.org/event/oz-village-committee-meeting/2029-03-05/
LOCATION:VT
CATEGORIES:Committee Meetings,Social Justice
END:VEVENT
BEGIN:VEVENT
DTSTART;TZID=America/New_York:20290402T130000
DTEND;TZID=America/New_York:20290402T140000
DTSTAMP:20260420T220043
CREATED:20250428T144605Z
LAST-MODIFIED:20250826T151450Z
UID:10031122-1869829200-1869832800@ohavizedek.org
SUMMARY:OZ Village Committee Meeting
DESCRIPTION:
URL:https://ohavizedek.org/event/oz-village-committee-meeting/2029-04-02/
LOCATION:VT
CATEGORIES:Committee Meetings,Social Justice
END:VEVENT
BEGIN:VEVENT
DTSTART;TZID=America/New_York:20290507T130000
DTEND;TZID=America/New_York:20290507T140000
DTSTAMP:20260420T220043
CREATED:20250428T144605Z
LAST-MODIFIED:20250826T151450Z
UID:10031123-1872853200-1872856800@ohavizedek.org
SUMMARY:OZ Village Committee Meeting
DESCRIPTION:
URL:https://ohavizedek.org/event/oz-village-committee-meeting/2029-05-07/
LOCATION:VT
CATEGORIES:Committee Meetings,Social Justice
END:VEVENT
BEGIN:VEVENT
DTSTART;TZID=America/New_York:20290604T130000
DTEND;TZID=America/New_York:20290604T140000
DTSTAMP:20260420T220043
CREATED:20250428T144605Z
LAST-MODIFIED:20250826T151450Z
UID:10031124-1875272400-1875276000@ohavizedek.org
SUMMARY:OZ Village Committee Meeting
DESCRIPTION:
URL:https://ohavizedek.org/event/oz-village-committee-meeting/2029-06-04/
LOCATION:VT
CATEGORIES:Committee Meetings,Social Justice
END:VEVENT
BEGIN:VEVENT
DTSTART;TZID=America/New_York:20290702T130000
DTEND;TZID=America/New_York:20290702T140000
DTSTAMP:20260420T220043
CREATED:20250428T144605Z
LAST-MODIFIED:20250826T151450Z
UID:10031125-1877691600-1877695200@ohavizedek.org
SUMMARY:OZ Village Committee Meeting
DESCRIPTION:
URL:https://ohavizedek.org/event/oz-village-committee-meeting/2029-07-02/
LOCATION:VT
CATEGORIES:Committee Meetings,Social Justice
END:VEVENT
BEGIN:VEVENT
DTSTART;TZID=America/New_York:20290806T130000
DTEND;TZID=America/New_York:20290806T140000
DTSTAMP:20260420T220043
CREATED:20250428T144605Z
LAST-MODIFIED:20250826T151450Z
UID:10031126-1880715600-1880719200@ohavizedek.org
SUMMARY:OZ Village Committee Meeting
DESCRIPTION:
URL:https://ohavizedek.org/event/oz-village-committee-meeting/2029-08-06/
LOCATION:VT
CATEGORIES:Committee Meetings,Social Justice
END:VEVENT
BEGIN:VEVENT
DTSTART;TZID=America/New_York:20290903T130000
DTEND;TZID=America/New_York:20290903T140000
DTSTAMP:20260420T220043
CREATED:20250428T144605Z
LAST-MODIFIED:20250826T151450Z
UID:10031127-1883134800-1883138400@ohavizedek.org
SUMMARY:OZ Village Committee Meeting
DESCRIPTION:
URL:https://ohavizedek.org/event/oz-village-committee-meeting/2029-09-03/
LOCATION:VT
CATEGORIES:Committee Meetings,Social Justice
END:VEVENT
BEGIN:VEVENT
DTSTART;TZID=America/New_York:20291001T130000
DTEND;TZID=America/New_York:20291001T140000
DTSTAMP:20260420T220043
CREATED:20250428T144605Z
LAST-MODIFIED:20250826T151450Z
UID:10031128-1885554000-1885557600@ohavizedek.org
SUMMARY:OZ Village Committee Meeting
DESCRIPTION:
URL:https://ohavizedek.org/event/oz-village-committee-meeting/2029-10-01/
LOCATION:VT
CATEGORIES:Committee Meetings,Social Justice
END:VEVENT
BEGIN:VEVENT
DTSTART;TZID=America/New_York:20291105T130000
DTEND;TZID=America/New_York:20291105T140000
DTSTAMP:20260420T220043
CREATED:20250428T144605Z
LAST-MODIFIED:20250826T151450Z
UID:10031129-1888578000-1888581600@ohavizedek.org
SUMMARY:OZ Village Committee Meeting
DESCRIPTION:
URL:https://ohavizedek.org/event/oz-village-committee-meeting/2029-11-05/
LOCATION:VT
CATEGORIES:Committee Meetings,Social Justice
END:VEVENT
BEGIN:VEVENT
DTSTART;TZID=America/New_York:20291203T130000
DTEND;TZID=America/New_York:20291203T140000
DTSTAMP:20260420T220043
CREATED:20250428T144605Z
LAST-MODIFIED:20250826T151450Z
UID:10031130-1890997200-1891000800@ohavizedek.org
SUMMARY:OZ Village Committee Meeting
DESCRIPTION:
URL:https://ohavizedek.org/event/oz-village-committee-meeting/2029-12-03/
LOCATION:VT
CATEGORIES:Committee Meetings,Social Justice
END:VEVENT
BEGIN:VEVENT
DTSTART;TZID=America/New_York:20300107T130000
DTEND;TZID=America/New_York:20300107T140000
DTSTAMP:20260420T220043
CREATED:20250428T144605Z
LAST-MODIFIED:20250826T151450Z
UID:10031131-1894021200-1894024800@ohavizedek.org
SUMMARY:OZ Village Committee Meeting
DESCRIPTION:
URL:https://ohavizedek.org/event/oz-village-committee-meeting/2030-01-07/
LOCATION:VT
CATEGORIES:Committee Meetings,Social Justice
END:VEVENT
BEGIN:VEVENT
DTSTART;TZID=America/New_York:20300204T130000
DTEND;TZID=America/New_York:20300204T140000
DTSTAMP:20260420T220043
CREATED:20250428T144605Z
LAST-MODIFIED:20250826T151450Z
UID:10031132-1896440400-1896444000@ohavizedek.org
SUMMARY:OZ Village Committee Meeting
DESCRIPTION:
URL:https://ohavizedek.org/event/oz-village-committee-meeting/2030-02-04/
LOCATION:VT
CATEGORIES:Committee Meetings,Social Justice
END:VEVENT
BEGIN:VEVENT
DTSTART;TZID=America/New_York:20300304T130000
DTEND;TZID=America/New_York:20300304T140000
DTSTAMP:20260420T220043
CREATED:20250428T144605Z
LAST-MODIFIED:20250826T151450Z
UID:10031133-1898859600-1898863200@ohavizedek.org
SUMMARY:OZ Village Committee Meeting
DESCRIPTION:
URL:https://ohavizedek.org/event/oz-village-committee-meeting/2030-03-04/
LOCATION:VT
CATEGORIES:Committee Meetings,Social Justice
END:VEVENT
BEGIN:VEVENT
DTSTART;TZID=America/New_York:20300401T130000
DTEND;TZID=America/New_York:20300401T140000
DTSTAMP:20260420T220043
CREATED:20250428T144605Z
LAST-MODIFIED:20250826T151450Z
UID:10031134-1901278800-1901282400@ohavizedek.org
SUMMARY:OZ Village Committee Meeting
DESCRIPTION:
URL:https://ohavizedek.org/event/oz-village-committee-meeting/2030-04-01/
LOCATION:VT
CATEGORIES:Committee Meetings,Social Justice
END:VEVENT
BEGIN:VEVENT
DTSTART;TZID=America/New_York:20300506T130000
DTEND;TZID=America/New_York:20300506T140000
DTSTAMP:20260420T220043
CREATED:20250428T144605Z
LAST-MODIFIED:20250826T151450Z
UID:10035189-1904302800-1904306400@ohavizedek.org
SUMMARY:OZ Village Committee Meeting
DESCRIPTION:
URL:https://ohavizedek.org/event/oz-village-committee-meeting/2030-05-06/
LOCATION:VT
CATEGORIES:Committee Meetings,Social Justice
END:VEVENT
BEGIN:VEVENT
DTSTART;TZID=America/New_York:20300603T130000
DTEND;TZID=America/New_York:20300603T140000
DTSTAMP:20260420T220043
CREATED:20250428T144605Z
LAST-MODIFIED:20250826T151450Z
UID:10035190-1906722000-1906725600@ohavizedek.org
SUMMARY:OZ Village Committee Meeting
DESCRIPTION:
URL:https://ohavizedek.org/event/oz-village-committee-meeting/2030-06-03/
LOCATION:VT
CATEGORIES:Committee Meetings,Social Justice
END:VEVENT
BEGIN:VEVENT
DTSTART;TZID=America/New_York:20300701T130000
DTEND;TZID=America/New_York:20300701T140000
DTSTAMP:20260420T220043
CREATED:20250428T144605Z
LAST-MODIFIED:20250826T151450Z
UID:10035191-1909141200-1909144800@ohavizedek.org
SUMMARY:OZ Village Committee Meeting
DESCRIPTION:
URL:https://ohavizedek.org/event/oz-village-committee-meeting/2030-07-01/
LOCATION:VT
CATEGORIES:Committee Meetings,Social Justice
END:VEVENT
BEGIN:VEVENT
DTSTART;TZID=America/New_York:20300805T130000
DTEND;TZID=America/New_York:20300805T140000
DTSTAMP:20260420T220043
CREATED:20250428T144605Z
LAST-MODIFIED:20250826T151450Z
UID:10035749-1912165200-1912168800@ohavizedek.org
SUMMARY:OZ Village Committee Meeting
DESCRIPTION:
URL:https://ohavizedek.org/event/oz-village-committee-meeting/2030-08-05/
LOCATION:VT
CATEGORIES:Committee Meetings,Social Justice
END:VEVENT
END:VCALENDAR