BEGIN:VCALENDAR
VERSION:2.0
PRODID:-//Ohavi Zedek Synagogue - ECPv6.15.17.1//NONSGML v1.0//EN
CALSCALE:GREGORIAN
METHOD:PUBLISH
X-ORIGINAL-URL:https://ohavizedek.org
X-WR-CALDESC:Events for Ohavi Zedek Synagogue
REFRESH-INTERVAL;VALUE=DURATION:PT1H
X-Robots-Tag:noindex
X-PUBLISHED-TTL:PT1H
BEGIN:VTIMEZONE
TZID:America/New_York
BEGIN:DAYLIGHT
TZOFFSETFROM:-0500
TZOFFSETTO:-0400
TZNAME:EDT
DTSTART:20250309T070000
END:DAYLIGHT
BEGIN:STANDARD
TZOFFSETFROM:-0400
TZOFFSETTO:-0500
TZNAME:EST
DTSTART:20251102T060000
END:STANDARD
BEGIN:DAYLIGHT
TZOFFSETFROM:-0500
TZOFFSETTO:-0400
TZNAME:EDT
DTSTART:20260308T070000
END:DAYLIGHT
BEGIN:STANDARD
TZOFFSETFROM:-0400
TZOFFSETTO:-0500
TZNAME:EST
DTSTART:20261101T060000
END:STANDARD
BEGIN:DAYLIGHT
TZOFFSETFROM:-0500
TZOFFSETTO:-0400
TZNAME:EDT
DTSTART:20270314T070000
END:DAYLIGHT
BEGIN:STANDARD
TZOFFSETFROM:-0400
TZOFFSETTO:-0500
TZNAME:EST
DTSTART:20271107T060000
END:STANDARD
END:VTIMEZONE
BEGIN:VEVENT
DTSTART;TZID=America/New_York:20260412T140000
DTEND;TZID=America/New_York:20260412T140000
DTSTAMP:20260420T230348
CREATED:20260316T153416Z
LAST-MODIFIED:20260316T182131Z
UID:10040378-1776002400-1776002400@ohavizedek.org
SUMMARY:Sabbath Queen by Sandi Dubowski: Film Screening and Forum Discussion
DESCRIPTION:Sabbath Queen\, produced and directed by Sandi DuBowski\, a feature documentary filmed over 21 years that follows Rabbi Amichai Lau-Lavie’s epic journey as the dynastic heir of 38 generations of Orthodox rabbis including the Chief Rabbis of Israel. He is torn between rejecting and embracing his destiny and becomes a drag-queen rebel\, a queer bio-dad and the founder of Lab/Shul—an everybody-friendly\, God-optional\, artist-driven\, pop-up experimental congregation. \nSponsored by Ohavi Zedek Synagogue\, Temple Sinai\, University of VT College of Arts and Sciences\, and Hillel at UVM with co sponsors. At the film house at Main Street Landing Performing Arts Center; 3rd floor\, 60 Lake St\, Burlington VT. A forum discussion follows the film. \nFree entry with registration \nREGISTRATION HERE: (one ticket per registration) \n 
URL:https://ohavizedek.org/event/sabbath-queen-a-film-by-sandi-dubowski-viewing-and-forum-discussion/
LOCATION:Main Street Landing Performing Arts Center
CATEGORIES:Community Events,Social Justice
END:VEVENT
END:VCALENDAR