BEGIN:VCALENDAR
VERSION:2.0
PRODID:-//Ohavi Zedek Synagogue - ECPv6.15.17.1//NONSGML v1.0//EN
CALSCALE:GREGORIAN
METHOD:PUBLISH
X-WR-CALNAME:Ohavi Zedek Synagogue
X-ORIGINAL-URL:https://ohavizedek.org
X-WR-CALDESC:Events for Ohavi Zedek Synagogue
REFRESH-INTERVAL;VALUE=DURATION:PT1H
X-Robots-Tag:noindex
X-PUBLISHED-TTL:PT1H
BEGIN:VTIMEZONE
TZID:America/New_York
BEGIN:DAYLIGHT
TZOFFSETFROM:-0500
TZOFFSETTO:-0400
TZNAME:EDT
DTSTART:20240310T070000
END:DAYLIGHT
BEGIN:STANDARD
TZOFFSETFROM:-0400
TZOFFSETTO:-0500
TZNAME:EST
DTSTART:20241103T060000
END:STANDARD
BEGIN:DAYLIGHT
TZOFFSETFROM:-0500
TZOFFSETTO:-0400
TZNAME:EDT
DTSTART:20250309T070000
END:DAYLIGHT
BEGIN:STANDARD
TZOFFSETFROM:-0400
TZOFFSETTO:-0500
TZNAME:EST
DTSTART:20251102T060000
END:STANDARD
BEGIN:DAYLIGHT
TZOFFSETFROM:-0500
TZOFFSETTO:-0400
TZNAME:EDT
DTSTART:20260308T070000
END:DAYLIGHT
BEGIN:STANDARD
TZOFFSETFROM:-0400
TZOFFSETTO:-0500
TZNAME:EST
DTSTART:20261101T060000
END:STANDARD
END:VTIMEZONE
BEGIN:VEVENT
DTSTART;TZID=America/New_York:20250425T180000
DTEND;TZID=America/New_York:20250425T200000
DTSTAMP:20260423T163734
CREATED:20250306T191055Z
LAST-MODIFIED:20250306T191055Z
UID:10030980-1745604000-1745611200@ohavizedek.org
SUMMARY:Shabbat Chai
DESCRIPTION:Join us for Shabbat Chai\, a vibrant and musical celebration of Shabbat that is open to everyone in our community. Led by Rabbi Aaron Philmus\, Cantor Jessica Silverberg\, and talented guest musicians\, this special evening will be filled with festive prayers\, live music\, and a sense of togetherness as we welcome in the holy day. “Chai” means life\, and this service embodies the life and spirit of our community\, with melodies and song that lift the soul and bring us closer to one another. The content\, messaging and overall length is appropriate for individuals and family members of all ages. \nAfter the service\, enjoy a delicious Shabbat dinner. Come be a part of the life of our community—Shabbat Chai is a night you won’t want to miss! \n6:00 – 7:15 pm Services\n7:15 – 8:30 pm Dinner \nAll are welcome. If you will stay for the meal\, please register in advance. \nRSVP for Shabbat Chai \nJoining by Zoom? Please make your full first and last name are viewable so we know who you are and can admit you.
URL:https://ohavizedek.org/event/shabbat-chai-4/
LOCATION:Ohavi Zedek Synagogue\, 188 North Prospect Street\, Burlington\, VT\, 05401\, United States
CATEGORIES:Shabbat Chai,Worship Services
ATTACH;FMTTYPE=image/png:https://ohavizedek.org/wp-content/uploads/2024/11/chai.png
GEO:44.486379;-73.201175
X-APPLE-STRUCTURED-LOCATION;VALUE=URI;X-ADDRESS=Ohavi Zedek Synagogue 188 North Prospect Street Burlington VT 05401 United States;X-APPLE-RADIUS=500;X-TITLE=188 North Prospect Street:geo:-73.201175,44.486379
END:VEVENT
END:VCALENDAR