BEGIN:VCALENDAR
VERSION:2.0
PRODID:-//Ohavi Zedek Synagogue - ECPv6.15.17.1//NONSGML v1.0//EN
CALSCALE:GREGORIAN
METHOD:PUBLISH
X-WR-CALNAME:Ohavi Zedek Synagogue
X-ORIGINAL-URL:https://ohavizedek.org
X-WR-CALDESC:Events for Ohavi Zedek Synagogue
REFRESH-INTERVAL;VALUE=DURATION:PT1H
X-Robots-Tag:noindex
X-PUBLISHED-TTL:PT1H
BEGIN:VTIMEZONE
TZID:America/New_York
BEGIN:DAYLIGHT
TZOFFSETFROM:-0500
TZOFFSETTO:-0400
TZNAME:EDT
DTSTART:20230312T070000
END:DAYLIGHT
BEGIN:STANDARD
TZOFFSETFROM:-0400
TZOFFSETTO:-0500
TZNAME:EST
DTSTART:20231105T060000
END:STANDARD
BEGIN:DAYLIGHT
TZOFFSETFROM:-0500
TZOFFSETTO:-0400
TZNAME:EDT
DTSTART:20240310T070000
END:DAYLIGHT
BEGIN:STANDARD
TZOFFSETFROM:-0400
TZOFFSETTO:-0500
TZNAME:EST
DTSTART:20241103T060000
END:STANDARD
BEGIN:DAYLIGHT
TZOFFSETFROM:-0500
TZOFFSETTO:-0400
TZNAME:EDT
DTSTART:20250309T070000
END:DAYLIGHT
BEGIN:STANDARD
TZOFFSETFROM:-0400
TZOFFSETTO:-0500
TZNAME:EST
DTSTART:20251102T060000
END:STANDARD
END:VTIMEZONE
BEGIN:VEVENT
DTSTART;TZID=America/New_York:20240428T190000
DTEND;TZID=America/New_York:20240428T193000
DTSTAMP:20260421T212329
CREATED:20231212T190239Z
LAST-MODIFIED:20241023T180439Z
UID:10028173-1714330800-1714332600@ohavizedek.org
SUMMARY:Minyan (Online)
DESCRIPTION:Ohavi Zedek offers regular minyan services to meet the worship needs of our community and especially to aid those members of our community who are reciting Kaddish in memory of a recently deceased loved one or on a Yahrzeit. Services are held Sunday-Thursday evenings at 7:00 on Zoom. Ohavi Zedek’s minyan is traditional and egalitarian. Mincha and Maariv are recited at evening services when the services begin before dark\, only Ma’ariv is recited once we reach the point in the year when services start after dark. \nIf you are planning to attend a service to recite Kaddish please fill out this form to let us know so we can make sure there is a minyan present. \nClick here to access the Weekday Siddur Lev Shalem used during our evening Minyan services. \nZoom link is below under the heading ‘Website’. \nPlease make your full first and last name viewable on Zoom\, so we know who you are and can admit you.
URL:https://ohavizedek.org/event/minyan-225/2024-04-28/
LOCATION:Zoom
CATEGORIES:Minyan,Worship Services
ATTACH;FMTTYPE=image/png:https://ohavizedek.org/wp-content/uploads/2023/10/Minyan.png
END:VEVENT
BEGIN:VEVENT
DTSTART;TZID=America/New_York:20240429T190000
DTEND;TZID=America/New_York:20240429T193000
DTSTAMP:20260421T212329
CREATED:20231212T190239Z
LAST-MODIFIED:20241023T180439Z
UID:10028174-1714417200-1714419000@ohavizedek.org
SUMMARY:Minyan (Online)
DESCRIPTION:Ohavi Zedek offers regular minyan services to meet the worship needs of our community and especially to aid those members of our community who are reciting Kaddish in memory of a recently deceased loved one or on a Yahrzeit. Services are held Sunday-Thursday evenings at 7:00 on Zoom. Ohavi Zedek’s minyan is traditional and egalitarian. Mincha and Maariv are recited at evening services when the services begin before dark\, only Ma’ariv is recited once we reach the point in the year when services start after dark. \nIf you are planning to attend a service to recite Kaddish please fill out this form to let us know so we can make sure there is a minyan present. \nClick here to access the Weekday Siddur Lev Shalem used during our evening Minyan services. \nZoom link is below under the heading ‘Website’. \nPlease make your full first and last name viewable on Zoom\, so we know who you are and can admit you.
URL:https://ohavizedek.org/event/minyan-225/2024-04-29/
LOCATION:Zoom
CATEGORIES:Minyan,Worship Services
ATTACH;FMTTYPE=image/png:https://ohavizedek.org/wp-content/uploads/2023/10/Minyan.png
END:VEVENT
BEGIN:VEVENT
DTSTART;TZID=America/New_York:20240430T190000
DTEND;TZID=America/New_York:20240430T193000
DTSTAMP:20260421T212329
CREATED:20231212T190239Z
LAST-MODIFIED:20241023T180439Z
UID:10028175-1714503600-1714505400@ohavizedek.org
SUMMARY:Minyan (Online)
DESCRIPTION:Ohavi Zedek offers regular minyan services to meet the worship needs of our community and especially to aid those members of our community who are reciting Kaddish in memory of a recently deceased loved one or on a Yahrzeit. Services are held Sunday-Thursday evenings at 7:00 on Zoom. Ohavi Zedek’s minyan is traditional and egalitarian. Mincha and Maariv are recited at evening services when the services begin before dark\, only Ma’ariv is recited once we reach the point in the year when services start after dark. \nIf you are planning to attend a service to recite Kaddish please fill out this form to let us know so we can make sure there is a minyan present. \nClick here to access the Weekday Siddur Lev Shalem used during our evening Minyan services. \nZoom link is below under the heading ‘Website’. \nPlease make your full first and last name viewable on Zoom\, so we know who you are and can admit you.
URL:https://ohavizedek.org/event/minyan-225/2024-04-30/
LOCATION:Zoom
CATEGORIES:Minyan,Worship Services
ATTACH;FMTTYPE=image/png:https://ohavizedek.org/wp-content/uploads/2023/10/Minyan.png
END:VEVENT
BEGIN:VEVENT
DTSTART;TZID=America/New_York:20240501T190000
DTEND;TZID=America/New_York:20240501T193000
DTSTAMP:20260421T212329
CREATED:20231212T190239Z
LAST-MODIFIED:20241023T180439Z
UID:10026215-1714590000-1714591800@ohavizedek.org
SUMMARY:Minyan (Online)
DESCRIPTION:Ohavi Zedek offers regular minyan services to meet the worship needs of our community and especially to aid those members of our community who are reciting Kaddish in memory of a recently deceased loved one or on a Yahrzeit. Services are held Sunday-Thursday evenings at 7:00 on Zoom. Ohavi Zedek’s minyan is traditional and egalitarian. Mincha and Maariv are recited at evening services when the services begin before dark\, only Ma’ariv is recited once we reach the point in the year when services start after dark. \nIf you are planning to attend a service to recite Kaddish please fill out this form to let us know so we can make sure there is a minyan present. \nClick here to access the Weekday Siddur Lev Shalem used during our evening Minyan services. \nZoom link is below under the heading ‘Website’. \nPlease make your full first and last name viewable on Zoom\, so we know who you are and can admit you.
URL:https://ohavizedek.org/event/minyan-225/2024-05-01/
LOCATION:Zoom
CATEGORIES:Minyan,Worship Services
ATTACH;FMTTYPE=image/png:https://ohavizedek.org/wp-content/uploads/2023/10/Minyan.png
END:VEVENT
BEGIN:VEVENT
DTSTART;TZID=America/New_York:20240502T190000
DTEND;TZID=America/New_York:20240502T193000
DTSTAMP:20260421T212329
CREATED:20231212T190239Z
LAST-MODIFIED:20241023T180439Z
UID:10026216-1714676400-1714678200@ohavizedek.org
SUMMARY:Minyan (Online)
DESCRIPTION:Ohavi Zedek offers regular minyan services to meet the worship needs of our community and especially to aid those members of our community who are reciting Kaddish in memory of a recently deceased loved one or on a Yahrzeit. Services are held Sunday-Thursday evenings at 7:00 on Zoom. Ohavi Zedek’s minyan is traditional and egalitarian. Mincha and Maariv are recited at evening services when the services begin before dark\, only Ma’ariv is recited once we reach the point in the year when services start after dark. \nIf you are planning to attend a service to recite Kaddish please fill out this form to let us know so we can make sure there is a minyan present. \nClick here to access the Weekday Siddur Lev Shalem used during our evening Minyan services. \nZoom link is below under the heading ‘Website’. \nPlease make your full first and last name viewable on Zoom\, so we know who you are and can admit you.
URL:https://ohavizedek.org/event/minyan-225/2024-05-02/
LOCATION:Zoom
CATEGORIES:Minyan,Worship Services
ATTACH;FMTTYPE=image/png:https://ohavizedek.org/wp-content/uploads/2023/10/Minyan.png
END:VEVENT
BEGIN:VEVENT
DTSTART;TZID=America/New_York:20240503T180000
DTEND;TZID=America/New_York:20240503T193000
DTSTAMP:20260421T212329
CREATED:20231212T184743Z
LAST-MODIFIED:20241029T185513Z
UID:10026043-1714759200-1714764600@ohavizedek.org
SUMMARY:Kabbalat Shabbat
DESCRIPTION:Join Rabbi Aaron for a joyful\, instrumental Friday Night service. \nJoin in-person or on Zoom (link below). \nJoining by Zoom?  Please make your full first and last name viewable on Zoom\, so we know who you are and can admit you.
URL:https://ohavizedek.org/event/kabbalat-shabbat-61-11/2024-05-03/
LOCATION:Ohavi Zedek Synagogue\, 188 North Prospect Street\, Burlington\, VT\, 05401\, United States
CATEGORIES:Worship Services
ATTACH;FMTTYPE=image/jpeg:https://ohavizedek.org/wp-content/uploads/2023/12/kshabbat-2.jpg
GEO:44.486379;-73.201175
X-APPLE-STRUCTURED-LOCATION;VALUE=URI;X-ADDRESS=Ohavi Zedek Synagogue 188 North Prospect Street Burlington VT 05401 United States;X-APPLE-RADIUS=500;X-TITLE=188 North Prospect Street:geo:-73.201175,44.486379
END:VEVENT
BEGIN:VEVENT
DTSTART;TZID=America/New_York:20240504T091500
DTEND;TZID=America/New_York:20240504T113000
DTSTAMP:20260421T212329
CREATED:20240215T182159Z
LAST-MODIFIED:20240418T174912Z
UID:10026090-1714814100-1714822200@ohavizedek.org
SUMMARY:Shabbat Morning Services & Kiddush sponsored by Basha Brody
DESCRIPTION:Our Shabbat morning service is traditional egalitarian with new melodies and kavannot (spiritual intentions) introduced and incorporated. \nFollowing services\, we often host a Kiddush – a lunch donated by synagogue members or b mitzvah families\, where all are welcome. Saturday morning services begin at 9:15 AM. \nPlease RSVP for kiddush to help us plan the meal \nOur morning service will feature our Shabbat Village: \n– An intentional place for families\, children and anyone to schmooze and be together during the time of Shabbat services \n– No pressure to join in the service (though of course all are welcome to attend as much or little as works for you) \n– Families may access the playground\, gardens and trails \n– Everyone is invited to the kiddush (meal) afterward (when applicable) \n– Children’s books and a livestream of services will be provided. Currently\, children will need to be accompanied by their adult(s).  Parents may choose to team up – it takes a village!
URL:https://ohavizedek.org/event/shabbat-morning-services-3-6/
LOCATION:Ohavi Zedek Synagogue\, 188 North Prospect Street\, Burlington\, VT\, 05401\, United States
CATEGORIES:Worship Services
GEO:44.486379;-73.201175
X-APPLE-STRUCTURED-LOCATION;VALUE=URI;X-ADDRESS=Ohavi Zedek Synagogue 188 North Prospect Street Burlington VT 05401 United States;X-APPLE-RADIUS=500;X-TITLE=188 North Prospect Street:geo:-73.201175,44.486379
END:VEVENT
END:VCALENDAR