BEGIN:VCALENDAR
VERSION:2.0
PRODID:-//Ohavi Zedek Synagogue - ECPv6.15.17.1//NONSGML v1.0//EN
CALSCALE:GREGORIAN
METHOD:PUBLISH
X-ORIGINAL-URL:https://ohavizedek.org
X-WR-CALDESC:Events for Ohavi Zedek Synagogue
REFRESH-INTERVAL;VALUE=DURATION:PT1H
X-Robots-Tag:noindex
X-PUBLISHED-TTL:PT1H
BEGIN:VTIMEZONE
TZID:America/New_York
BEGIN:DAYLIGHT
TZOFFSETFROM:-0500
TZOFFSETTO:-0400
TZNAME:EDT
DTSTART:20240310T070000
END:DAYLIGHT
BEGIN:STANDARD
TZOFFSETFROM:-0400
TZOFFSETTO:-0500
TZNAME:EST
DTSTART:20241103T060000
END:STANDARD
BEGIN:DAYLIGHT
TZOFFSETFROM:-0500
TZOFFSETTO:-0400
TZNAME:EDT
DTSTART:20250309T070000
END:DAYLIGHT
BEGIN:STANDARD
TZOFFSETFROM:-0400
TZOFFSETTO:-0500
TZNAME:EST
DTSTART:20251102T060000
END:STANDARD
BEGIN:DAYLIGHT
TZOFFSETFROM:-0500
TZOFFSETTO:-0400
TZNAME:EDT
DTSTART:20260308T070000
END:DAYLIGHT
BEGIN:STANDARD
TZOFFSETFROM:-0400
TZOFFSETTO:-0500
TZNAME:EST
DTSTART:20261101T060000
END:STANDARD
END:VTIMEZONE
BEGIN:VEVENT
DTSTART;TZID=America/New_York:20250228T180000
DTEND;TZID=America/New_York:20250228T193000
DTSTAMP:20260421T194003
CREATED:20241126T161120Z
LAST-MODIFIED:20250228T143739Z
UID:10029291-1740765600-1740771000@ohavizedek.org
SUMMARY:Kabbalat Shabbat
DESCRIPTION:Join us for our weekly Kabbalat Shabbat service led by Cantor Silverberg. Experience the warmth and joy of welcoming Shabbat through soulful prayers\, meaningful reflections\, and beautiful melodies. Cantor Jessica Silverberg’s powerful voice will lift our spirits with timeless chants. This evening promises to be a serene and uplifting way to enter the holy day of rest\, filled with community\, connection\, and spiritual renewal. \nJoining by Zoom? Please make your full first and last name are viewable so we know who you are and can admit you.
URL:https://ohavizedek.org/event/kabb-shabbat/
LOCATION:Ohavi Zedek Synagogue\, 188 North Prospect Street\, Burlington\, VT\, 05401\, United States
CATEGORIES:Kabbalat Shabbat,Worship Services
ATTACH;FMTTYPE=image/png:https://ohavizedek.org/wp-content/uploads/2024/11/kabbalat-1.png
GEO:44.486379;-73.201175
X-APPLE-STRUCTURED-LOCATION;VALUE=URI;X-ADDRESS=Ohavi Zedek Synagogue 188 North Prospect Street Burlington VT 05401 United States;X-APPLE-RADIUS=500;X-TITLE=188 North Prospect Street:geo:-73.201175,44.486379
END:VEVENT
BEGIN:VEVENT
DTSTART;TZID=America/New_York:20250301T083000
DTEND;TZID=America/New_York:20250301T091500
DTSTAMP:20260421T194003
CREATED:20250212T165117Z
LAST-MODIFIED:20250212T165342Z
UID:10029267-1740817800-1740820500@ohavizedek.org
SUMMARY:Torah Study
DESCRIPTION:Join us on Saturday mornings to examine midrash and medieval commentators and Hassidic text to uncover the many layers of meaning in the torah together. Participants are encouraged to bring their own torah commentaries to share. \nTorah Study Source Material
URL:https://ohavizedek.org/event/torah-study-with-rabbi-aaron-march1/
LOCATION:Ohavi Zedek Synagogue\, 188 North Prospect Street\, Burlington\, VT\, 05401\, United States
CATEGORIES:Worship Services
ATTACH;FMTTYPE=image/jpeg:https://ohavizedek.org/wp-content/uploads/2023/12/kshabbat.jpg
GEO:44.486379;-73.201175
X-APPLE-STRUCTURED-LOCATION;VALUE=URI;X-ADDRESS=Ohavi Zedek Synagogue 188 North Prospect Street Burlington VT 05401 United States;X-APPLE-RADIUS=500;X-TITLE=188 North Prospect Street:geo:-73.201175,44.486379
END:VEVENT
BEGIN:VEVENT
DTSTART;TZID=America/New_York:20250301T091500
DTEND;TZID=America/New_York:20250301T113000
DTSTAMP:20260421T194003
CREATED:20250228T143939Z
LAST-MODIFIED:20250228T193252Z
UID:10029279-1740820500-1740828600@ohavizedek.org
SUMMARY:Shabbat Morning Services
DESCRIPTION:Our Shabbat morning service is traditional egalitarian with new melodies and kavannot (spiritual intentions) introduced and incorporated. \nFollowing services\, we often host a Kiddush – a lunch donated by synagogue members or b mitzvah families\, where all are welcome. Saturday morning services begin at 9:15 AM. \nOur morning service will feature our Shabbat Village: \n– An intentional place for families\, children and anyone to schmooze and be together during the time of Shabbat services \n– No pressure to join in the service (though of course all are welcome to attend as much or little as works for you) \n– Families may access the playground\, gardens and trails \n– Everyone is invited to the kiddush (meal) afterward (when applicable) \n– Children’s books will be provided. Currently\, children will need to be accompanied by their adult(s). Parents may choose to team up – it takes a village!
URL:https://ohavizedek.org/event/shabbat-morning-services-3-1/
LOCATION:Ohavi Zedek Synagogue\, 188 North Prospect Street\, Burlington\, VT\, 05401\, United States
CATEGORIES:Worship Services
ATTACH;FMTTYPE=image/jpeg:https://ohavizedek.org/wp-content/uploads/2024/10/shabbat-morning.jpg
GEO:44.486379;-73.201175
X-APPLE-STRUCTURED-LOCATION;VALUE=URI;X-ADDRESS=Ohavi Zedek Synagogue 188 North Prospect Street Burlington VT 05401 United States;X-APPLE-RADIUS=500;X-TITLE=188 North Prospect Street:geo:-73.201175,44.486379
END:VEVENT
END:VCALENDAR