BEGIN:VCALENDAR
VERSION:2.0
PRODID:-//Ohavi Zedek Synagogue - ECPv6.15.17.1//NONSGML v1.0//EN
CALSCALE:GREGORIAN
METHOD:PUBLISH
X-ORIGINAL-URL:https://ohavizedek.org
X-WR-CALDESC:Events for Ohavi Zedek Synagogue
REFRESH-INTERVAL;VALUE=DURATION:PT1H
X-Robots-Tag:noindex
X-PUBLISHED-TTL:PT1H
BEGIN:VTIMEZONE
TZID:America/New_York
BEGIN:DAYLIGHT
TZOFFSETFROM:-0500
TZOFFSETTO:-0400
TZNAME:EDT
DTSTART:20250309T070000
END:DAYLIGHT
BEGIN:STANDARD
TZOFFSETFROM:-0400
TZOFFSETTO:-0500
TZNAME:EST
DTSTART:20251102T060000
END:STANDARD
BEGIN:DAYLIGHT
TZOFFSETFROM:-0500
TZOFFSETTO:-0400
TZNAME:EDT
DTSTART:20260308T070000
END:DAYLIGHT
BEGIN:STANDARD
TZOFFSETFROM:-0400
TZOFFSETTO:-0500
TZNAME:EST
DTSTART:20261101T060000
END:STANDARD
BEGIN:DAYLIGHT
TZOFFSETFROM:-0500
TZOFFSETTO:-0400
TZNAME:EDT
DTSTART:20270314T070000
END:DAYLIGHT
BEGIN:STANDARD
TZOFFSETFROM:-0400
TZOFFSETTO:-0500
TZNAME:EST
DTSTART:20271107T060000
END:STANDARD
END:VTIMEZONE
BEGIN:VEVENT
DTSTART;TZID=America/New_York:20260125T190000
DTEND;TZID=America/New_York:20260125T193000
DTSTAMP:20260423T224344
CREATED:20241231T143600Z
LAST-MODIFIED:20260304T203030Z
UID:10032879-1769367600-1769369400@ohavizedek.org
SUMMARY:Minyan (Online Evening)
DESCRIPTION:Ohavi Zedek offers regular minyan services to meet the worship needs of our community and especially to aid those members of our community who are reciting Kaddish in memory of a recently deceased loved one or on a Yahrzeit. Services are held Sunday-Thursday evenings at 7:00 on Zoom. Ohavi Zedek’s minyan is traditional and egalitarian. Mincha and Maariv are recited at evening services when the services begin before dark\, only Ma’ariv is recited once we reach the point in the year when services start after dark. We also hold Sunday Shacharit at 8:45 AM in person and on Zoom. \nIf you are planning to attend a service to recite Kaddish please fill out this form to let us know so we can make sure there is a minyan present. \nClick here to access the Weekday Siddur Lev Shalem used during our evening Minyan services. \nZoom link is below under the heading ‘Website’. \nPlease make your full first and last name viewable on Zoom\, so we know who you are and can admit you. \nResources: \nWhen Should I Say Kaddish for Yahrzeit? \nThe Mourner’s Kaddish: A Memorial Prayer in Praise of God by My Jewish Learning \n  \n 
URL:https://ohavizedek.org/event/minyan-online-evening-2/2026-01-25/
LOCATION:Ohavi Zedek Synagogue\, 188 North Prospect Street\, Burlington\, VT\, 05401\, United States
CATEGORIES:Minyan,Worship Services
ATTACH;FMTTYPE=image/png:https://ohavizedek.org/wp-content/uploads/2026/01/minyan-new-sunday.png
GEO:44.486379;-73.201175
X-APPLE-STRUCTURED-LOCATION;VALUE=URI;X-ADDRESS=Ohavi Zedek Synagogue 188 North Prospect Street Burlington VT 05401 United States;X-APPLE-RADIUS=500;X-TITLE=188 North Prospect Street:geo:-73.201175,44.486379
END:VEVENT
BEGIN:VEVENT
DTSTART;TZID=America/New_York:20260126T190000
DTEND;TZID=America/New_York:20260126T193000
DTSTAMP:20260423T224344
CREATED:20241231T143600Z
LAST-MODIFIED:20260304T203030Z
UID:10032880-1769454000-1769455800@ohavizedek.org
SUMMARY:Minyan (Online Evening)
DESCRIPTION:Ohavi Zedek offers regular minyan services to meet the worship needs of our community and especially to aid those members of our community who are reciting Kaddish in memory of a recently deceased loved one or on a Yahrzeit. Services are held Sunday-Thursday evenings at 7:00 on Zoom. Ohavi Zedek’s minyan is traditional and egalitarian. Mincha and Maariv are recited at evening services when the services begin before dark\, only Ma’ariv is recited once we reach the point in the year when services start after dark. We also hold Sunday Shacharit at 8:45 AM in person and on Zoom. \nIf you are planning to attend a service to recite Kaddish please fill out this form to let us know so we can make sure there is a minyan present. \nClick here to access the Weekday Siddur Lev Shalem used during our evening Minyan services. \nZoom link is below under the heading ‘Website’. \nPlease make your full first and last name viewable on Zoom\, so we know who you are and can admit you. \nResources: \nWhen Should I Say Kaddish for Yahrzeit? \nThe Mourner’s Kaddish: A Memorial Prayer in Praise of God by My Jewish Learning \n  \n 
URL:https://ohavizedek.org/event/minyan-online-evening-2/2026-01-26/
LOCATION:Ohavi Zedek Synagogue\, 188 North Prospect Street\, Burlington\, VT\, 05401\, United States
CATEGORIES:Minyan,Worship Services
ATTACH;FMTTYPE=image/png:https://ohavizedek.org/wp-content/uploads/2026/01/minyan-new-sunday.png
GEO:44.486379;-73.201175
X-APPLE-STRUCTURED-LOCATION;VALUE=URI;X-ADDRESS=Ohavi Zedek Synagogue 188 North Prospect Street Burlington VT 05401 United States;X-APPLE-RADIUS=500;X-TITLE=188 North Prospect Street:geo:-73.201175,44.486379
END:VEVENT
BEGIN:VEVENT
DTSTART;TZID=America/New_York:20260127T190000
DTEND;TZID=America/New_York:20260127T193000
DTSTAMP:20260423T224344
CREATED:20241231T143600Z
LAST-MODIFIED:20260304T203030Z
UID:10032881-1769540400-1769542200@ohavizedek.org
SUMMARY:Minyan (Online Evening)
DESCRIPTION:Ohavi Zedek offers regular minyan services to meet the worship needs of our community and especially to aid those members of our community who are reciting Kaddish in memory of a recently deceased loved one or on a Yahrzeit. Services are held Sunday-Thursday evenings at 7:00 on Zoom. Ohavi Zedek’s minyan is traditional and egalitarian. Mincha and Maariv are recited at evening services when the services begin before dark\, only Ma’ariv is recited once we reach the point in the year when services start after dark. We also hold Sunday Shacharit at 8:45 AM in person and on Zoom. \nIf you are planning to attend a service to recite Kaddish please fill out this form to let us know so we can make sure there is a minyan present. \nClick here to access the Weekday Siddur Lev Shalem used during our evening Minyan services. \nZoom link is below under the heading ‘Website’. \nPlease make your full first and last name viewable on Zoom\, so we know who you are and can admit you. \nResources: \nWhen Should I Say Kaddish for Yahrzeit? \nThe Mourner’s Kaddish: A Memorial Prayer in Praise of God by My Jewish Learning \n  \n 
URL:https://ohavizedek.org/event/minyan-online-evening-2/2026-01-27/
LOCATION:Ohavi Zedek Synagogue\, 188 North Prospect Street\, Burlington\, VT\, 05401\, United States
CATEGORIES:Minyan,Worship Services
ATTACH;FMTTYPE=image/png:https://ohavizedek.org/wp-content/uploads/2026/01/minyan-new-sunday.png
GEO:44.486379;-73.201175
X-APPLE-STRUCTURED-LOCATION;VALUE=URI;X-ADDRESS=Ohavi Zedek Synagogue 188 North Prospect Street Burlington VT 05401 United States;X-APPLE-RADIUS=500;X-TITLE=188 North Prospect Street:geo:-73.201175,44.486379
END:VEVENT
BEGIN:VEVENT
DTSTART;TZID=America/New_York:20260128T190000
DTEND;TZID=America/New_York:20260128T193000
DTSTAMP:20260423T224344
CREATED:20241231T143600Z
LAST-MODIFIED:20260304T203030Z
UID:10032882-1769626800-1769628600@ohavizedek.org
SUMMARY:Minyan (Online Evening)
DESCRIPTION:Ohavi Zedek offers regular minyan services to meet the worship needs of our community and especially to aid those members of our community who are reciting Kaddish in memory of a recently deceased loved one or on a Yahrzeit. Services are held Sunday-Thursday evenings at 7:00 on Zoom. Ohavi Zedek’s minyan is traditional and egalitarian. Mincha and Maariv are recited at evening services when the services begin before dark\, only Ma’ariv is recited once we reach the point in the year when services start after dark. We also hold Sunday Shacharit at 8:45 AM in person and on Zoom. \nIf you are planning to attend a service to recite Kaddish please fill out this form to let us know so we can make sure there is a minyan present. \nClick here to access the Weekday Siddur Lev Shalem used during our evening Minyan services. \nZoom link is below under the heading ‘Website’. \nPlease make your full first and last name viewable on Zoom\, so we know who you are and can admit you. \nResources: \nWhen Should I Say Kaddish for Yahrzeit? \nThe Mourner’s Kaddish: A Memorial Prayer in Praise of God by My Jewish Learning \n  \n 
URL:https://ohavizedek.org/event/minyan-online-evening-2/2026-01-28/
LOCATION:Ohavi Zedek Synagogue\, 188 North Prospect Street\, Burlington\, VT\, 05401\, United States
CATEGORIES:Minyan,Worship Services
ATTACH;FMTTYPE=image/png:https://ohavizedek.org/wp-content/uploads/2026/01/minyan-new-sunday.png
GEO:44.486379;-73.201175
X-APPLE-STRUCTURED-LOCATION;VALUE=URI;X-ADDRESS=Ohavi Zedek Synagogue 188 North Prospect Street Burlington VT 05401 United States;X-APPLE-RADIUS=500;X-TITLE=188 North Prospect Street:geo:-73.201175,44.486379
END:VEVENT
BEGIN:VEVENT
DTSTART;TZID=America/New_York:20260129T190000
DTEND;TZID=America/New_York:20260129T193000
DTSTAMP:20260423T224344
CREATED:20241231T143600Z
LAST-MODIFIED:20260304T203030Z
UID:10032883-1769713200-1769715000@ohavizedek.org
SUMMARY:Minyan (Online Evening)
DESCRIPTION:Ohavi Zedek offers regular minyan services to meet the worship needs of our community and especially to aid those members of our community who are reciting Kaddish in memory of a recently deceased loved one or on a Yahrzeit. Services are held Sunday-Thursday evenings at 7:00 on Zoom. Ohavi Zedek’s minyan is traditional and egalitarian. Mincha and Maariv are recited at evening services when the services begin before dark\, only Ma’ariv is recited once we reach the point in the year when services start after dark. We also hold Sunday Shacharit at 8:45 AM in person and on Zoom. \nIf you are planning to attend a service to recite Kaddish please fill out this form to let us know so we can make sure there is a minyan present. \nClick here to access the Weekday Siddur Lev Shalem used during our evening Minyan services. \nZoom link is below under the heading ‘Website’. \nPlease make your full first and last name viewable on Zoom\, so we know who you are and can admit you. \nResources: \nWhen Should I Say Kaddish for Yahrzeit? \nThe Mourner’s Kaddish: A Memorial Prayer in Praise of God by My Jewish Learning \n  \n 
URL:https://ohavizedek.org/event/minyan-online-evening-2/2026-01-29/
LOCATION:Ohavi Zedek Synagogue\, 188 North Prospect Street\, Burlington\, VT\, 05401\, United States
CATEGORIES:Minyan,Worship Services
ATTACH;FMTTYPE=image/png:https://ohavizedek.org/wp-content/uploads/2026/01/minyan-new-sunday.png
GEO:44.486379;-73.201175
X-APPLE-STRUCTURED-LOCATION;VALUE=URI;X-ADDRESS=Ohavi Zedek Synagogue 188 North Prospect Street Burlington VT 05401 United States;X-APPLE-RADIUS=500;X-TITLE=188 North Prospect Street:geo:-73.201175,44.486379
END:VEVENT
BEGIN:VEVENT
DTSTART;TZID=America/New_York:20260130T180000
DTEND;TZID=America/New_York:20260130T193000
DTSTAMP:20260423T224344
CREATED:20260129T210721Z
LAST-MODIFIED:20260129T213151Z
UID:10037927-1769796000-1769801400@ohavizedek.org
SUMMARY:Shabbat Shirah
DESCRIPTION:Celebrate Shabbat Shirah with a special musical Friday night service honoring the contributions of women to Jewish music. This year celebrates 50 years of women in the cantorate\, and we mark the yahrzeit of Debbie Friedman\, z”l\, whose voice and vision began a new chapter of spiritual expression through Jewish prayer and music. \nClick here for the Shabbat Shirah YouTube playlist \n 
URL:https://ohavizedek.org/event/shabbat-shirah-2026/
LOCATION:Ohavi Zedek Synagogue\, 188 North Prospect Street\, Burlington\, VT\, 05401\, United States
CATEGORIES:Worship Services
GEO:44.486379;-73.201175
X-APPLE-STRUCTURED-LOCATION;VALUE=URI;X-ADDRESS=Ohavi Zedek Synagogue 188 North Prospect Street Burlington VT 05401 United States;X-APPLE-RADIUS=500;X-TITLE=188 North Prospect Street:geo:-73.201175,44.486379
END:VEVENT
BEGIN:VEVENT
DTSTART;TZID=America/New_York:20260131T083000
DTEND;TZID=America/New_York:20260131T091500
DTSTAMP:20260423T224344
CREATED:20241126T160607Z
LAST-MODIFIED:20260320T153651Z
UID:10032177-1769848200-1769850900@ohavizedek.org
SUMMARY:Torah Study
DESCRIPTION:Join us on Saturday mornings to examine midrash and medieval commentators and Hassidic text to uncover the many layers of meaning in the torah together. Participants are encouraged to bring their own torah commentaries to share.
URL:https://ohavizedek.org/event/torah-study-with/2026-01-31/
LOCATION:Ohavi Zedek Synagogue\, 188 North Prospect Street\, Burlington\, VT\, 05401\, United States
CATEGORIES:Worship Services
ATTACH;FMTTYPE=image/jpeg:https://ohavizedek.org/wp-content/uploads/2023/12/kshabbat.jpg
GEO:44.486379;-73.201175
X-APPLE-STRUCTURED-LOCATION;VALUE=URI;X-ADDRESS=Ohavi Zedek Synagogue 188 North Prospect Street Burlington VT 05401 United States;X-APPLE-RADIUS=500;X-TITLE=188 North Prospect Street:geo:-73.201175,44.486379
END:VEVENT
BEGIN:VEVENT
DTSTART;TZID=America/New_York:20260131T091500
DTEND;TZID=America/New_York:20260131T114500
DTSTAMP:20260423T224344
CREATED:20241126T160920Z
LAST-MODIFIED:20260320T151843Z
UID:10032409-1769850900-1769859900@ohavizedek.org
SUMMARY:Shabbat Morning Services
DESCRIPTION:Our Shabbat morning service is traditional egalitarian with new melodies and kavannot (spiritual intentions) introduced and incorporated. \nFollowing services\, we often host a Kiddush – a lunch donated by synagogue members or b mitzvah families\, where all are welcome. Saturday morning services begin at 9:15 AM.
URL:https://ohavizedek.org/event/shabbat-morning-services-11/2026-01-31/
LOCATION:Ohavi Zedek Synagogue\, 188 North Prospect Street\, Burlington\, VT\, 05401\, United States
CATEGORIES:Worship Services
ATTACH;FMTTYPE=image/jpeg:https://ohavizedek.org/wp-content/uploads/2024/10/shabbat-morning.jpg
GEO:44.486379;-73.201175
X-APPLE-STRUCTURED-LOCATION;VALUE=URI;X-ADDRESS=Ohavi Zedek Synagogue 188 North Prospect Street Burlington VT 05401 United States;X-APPLE-RADIUS=500;X-TITLE=188 North Prospect Street:geo:-73.201175,44.486379
END:VEVENT
END:VCALENDAR