BEGIN:VCALENDAR
VERSION:2.0
PRODID:-//Ohavi Zedek Synagogue - ECPv6.15.17.1//NONSGML v1.0//EN
CALSCALE:GREGORIAN
METHOD:PUBLISH
X-WR-CALNAME:Ohavi Zedek Synagogue
X-ORIGINAL-URL:https://ohavizedek.org
X-WR-CALDESC:Events for Ohavi Zedek Synagogue
REFRESH-INTERVAL;VALUE=DURATION:PT1H
X-Robots-Tag:noindex
X-PUBLISHED-TTL:PT1H
BEGIN:VTIMEZONE
TZID:America/New_York
BEGIN:DAYLIGHT
TZOFFSETFROM:-0500
TZOFFSETTO:-0400
TZNAME:EDT
DTSTART:20250309T070000
END:DAYLIGHT
BEGIN:STANDARD
TZOFFSETFROM:-0400
TZOFFSETTO:-0500
TZNAME:EST
DTSTART:20251102T060000
END:STANDARD
BEGIN:DAYLIGHT
TZOFFSETFROM:-0500
TZOFFSETTO:-0400
TZNAME:EDT
DTSTART:20260308T070000
END:DAYLIGHT
BEGIN:STANDARD
TZOFFSETFROM:-0400
TZOFFSETTO:-0500
TZNAME:EST
DTSTART:20261101T060000
END:STANDARD
BEGIN:DAYLIGHT
TZOFFSETFROM:-0500
TZOFFSETTO:-0400
TZNAME:EDT
DTSTART:20270314T070000
END:DAYLIGHT
BEGIN:STANDARD
TZOFFSETFROM:-0400
TZOFFSETTO:-0500
TZNAME:EST
DTSTART:20271107T060000
END:STANDARD
BEGIN:DAYLIGHT
TZOFFSETFROM:-0500
TZOFFSETTO:-0400
TZNAME:EDT
DTSTART:20280312T070000
END:DAYLIGHT
BEGIN:STANDARD
TZOFFSETFROM:-0400
TZOFFSETTO:-0500
TZNAME:EST
DTSTART:20281105T060000
END:STANDARD
BEGIN:DAYLIGHT
TZOFFSETFROM:-0500
TZOFFSETTO:-0400
TZNAME:EDT
DTSTART:20290311T070000
END:DAYLIGHT
BEGIN:STANDARD
TZOFFSETFROM:-0400
TZOFFSETTO:-0500
TZNAME:EST
DTSTART:20291104T060000
END:STANDARD
END:VTIMEZONE
BEGIN:VEVENT
DTSTART;TZID=America/New_York:20260520T193000
DTEND;TZID=America/New_York:20260520T210000
DTSTAMP:20260420T194751
CREATED:20251031T134333Z
LAST-MODIFIED:20251031T134333Z
UID:10036491-1779305400-1779310800@ohavizedek.org
SUMMARY:Adult Ed Committee Meeting
DESCRIPTION:Those interested in joining or learning more about Adult Education should contact Nancy at ozadulteducation@gmail.com
URL:https://ohavizedek.org/event/adult-ed-committee-meeting/2026-05-20/
CATEGORIES:Adult Learning,Committee Meetings
END:VEVENT
BEGIN:VEVENT
DTSTART;TZID=America/New_York:20260617T193000
DTEND;TZID=America/New_York:20260617T210000
DTSTAMP:20260420T194751
CREATED:20251031T134333Z
LAST-MODIFIED:20251031T134333Z
UID:10036492-1781724600-1781730000@ohavizedek.org
SUMMARY:Adult Ed Committee Meeting
DESCRIPTION:Those interested in joining or learning more about Adult Education should contact Nancy at ozadulteducation@gmail.com
URL:https://ohavizedek.org/event/adult-ed-committee-meeting/2026-06-17/
CATEGORIES:Adult Learning,Committee Meetings
END:VEVENT
BEGIN:VEVENT
DTSTART;TZID=America/New_York:20260715T193000
DTEND;TZID=America/New_York:20260715T210000
DTSTAMP:20260420T194751
CREATED:20251031T134333Z
LAST-MODIFIED:20251031T134333Z
UID:10036493-1784143800-1784149200@ohavizedek.org
SUMMARY:Adult Ed Committee Meeting
DESCRIPTION:Those interested in joining or learning more about Adult Education should contact Nancy at ozadulteducation@gmail.com
URL:https://ohavizedek.org/event/adult-ed-committee-meeting/2026-07-15/
CATEGORIES:Adult Learning,Committee Meetings
END:VEVENT
BEGIN:VEVENT
DTSTART;TZID=America/New_York:20260819T193000
DTEND;TZID=America/New_York:20260819T210000
DTSTAMP:20260420T194751
CREATED:20251031T134333Z
LAST-MODIFIED:20251031T134333Z
UID:10036494-1787167800-1787173200@ohavizedek.org
SUMMARY:Adult Ed Committee Meeting
DESCRIPTION:Those interested in joining or learning more about Adult Education should contact Nancy at ozadulteducation@gmail.com
URL:https://ohavizedek.org/event/adult-ed-committee-meeting/2026-08-19/
CATEGORIES:Adult Learning,Committee Meetings
END:VEVENT
BEGIN:VEVENT
DTSTART;TZID=America/New_York:20260916T193000
DTEND;TZID=America/New_York:20260916T210000
DTSTAMP:20260420T194751
CREATED:20251031T134333Z
LAST-MODIFIED:20251031T134333Z
UID:10036495-1789587000-1789592400@ohavizedek.org
SUMMARY:Adult Ed Committee Meeting
DESCRIPTION:Those interested in joining or learning more about Adult Education should contact Nancy at ozadulteducation@gmail.com
URL:https://ohavizedek.org/event/adult-ed-committee-meeting/2026-09-16/
CATEGORIES:Adult Learning,Committee Meetings
END:VEVENT
BEGIN:VEVENT
DTSTART;TZID=America/New_York:20261021T193000
DTEND;TZID=America/New_York:20261021T210000
DTSTAMP:20260420T194751
CREATED:20251031T134333Z
LAST-MODIFIED:20251031T134333Z
UID:10036496-1792611000-1792616400@ohavizedek.org
SUMMARY:Adult Ed Committee Meeting
DESCRIPTION:Those interested in joining or learning more about Adult Education should contact Nancy at ozadulteducation@gmail.com
URL:https://ohavizedek.org/event/adult-ed-committee-meeting/2026-10-21/
CATEGORIES:Adult Learning,Committee Meetings
END:VEVENT
BEGIN:VEVENT
DTSTART;TZID=America/New_York:20261118T193000
DTEND;TZID=America/New_York:20261118T210000
DTSTAMP:20260420T194751
CREATED:20251031T134333Z
LAST-MODIFIED:20251031T134333Z
UID:10036497-1795030200-1795035600@ohavizedek.org
SUMMARY:Adult Ed Committee Meeting
DESCRIPTION:Those interested in joining or learning more about Adult Education should contact Nancy at ozadulteducation@gmail.com
URL:https://ohavizedek.org/event/adult-ed-committee-meeting/2026-11-18/
CATEGORIES:Adult Learning,Committee Meetings
END:VEVENT
BEGIN:VEVENT
DTSTART;TZID=America/New_York:20261216T193000
DTEND;TZID=America/New_York:20261216T210000
DTSTAMP:20260420T194751
CREATED:20251031T134333Z
LAST-MODIFIED:20251031T134333Z
UID:10036498-1797449400-1797454800@ohavizedek.org
SUMMARY:Adult Ed Committee Meeting
DESCRIPTION:Those interested in joining or learning more about Adult Education should contact Nancy at ozadulteducation@gmail.com
URL:https://ohavizedek.org/event/adult-ed-committee-meeting/2026-12-16/
CATEGORIES:Adult Learning,Committee Meetings
END:VEVENT
BEGIN:VEVENT
DTSTART;TZID=America/New_York:20270120T193000
DTEND;TZID=America/New_York:20270120T210000
DTSTAMP:20260420T194751
CREATED:20251031T134333Z
LAST-MODIFIED:20251031T134333Z
UID:10036499-1800473400-1800478800@ohavizedek.org
SUMMARY:Adult Ed Committee Meeting
DESCRIPTION:Those interested in joining or learning more about Adult Education should contact Nancy at ozadulteducation@gmail.com
URL:https://ohavizedek.org/event/adult-ed-committee-meeting/2027-01-20/
CATEGORIES:Adult Learning,Committee Meetings
END:VEVENT
BEGIN:VEVENT
DTSTART;TZID=America/New_York:20270217T193000
DTEND;TZID=America/New_York:20270217T210000
DTSTAMP:20260420T194751
CREATED:20251031T134333Z
LAST-MODIFIED:20251031T134333Z
UID:10036500-1802892600-1802898000@ohavizedek.org
SUMMARY:Adult Ed Committee Meeting
DESCRIPTION:Those interested in joining or learning more about Adult Education should contact Nancy at ozadulteducation@gmail.com
URL:https://ohavizedek.org/event/adult-ed-committee-meeting/2027-02-17/
CATEGORIES:Adult Learning,Committee Meetings
END:VEVENT
BEGIN:VEVENT
DTSTART;TZID=America/New_York:20270317T193000
DTEND;TZID=America/New_York:20270317T210000
DTSTAMP:20260420T194751
CREATED:20251031T134333Z
LAST-MODIFIED:20251031T134333Z
UID:10036501-1805311800-1805317200@ohavizedek.org
SUMMARY:Adult Ed Committee Meeting
DESCRIPTION:Those interested in joining or learning more about Adult Education should contact Nancy at ozadulteducation@gmail.com
URL:https://ohavizedek.org/event/adult-ed-committee-meeting/2027-03-17/
CATEGORIES:Adult Learning,Committee Meetings
END:VEVENT
BEGIN:VEVENT
DTSTART;TZID=America/New_York:20270421T193000
DTEND;TZID=America/New_York:20270421T210000
DTSTAMP:20260420T194751
CREATED:20251031T134333Z
LAST-MODIFIED:20251031T134333Z
UID:10036502-1808335800-1808341200@ohavizedek.org
SUMMARY:Adult Ed Committee Meeting
DESCRIPTION:Those interested in joining or learning more about Adult Education should contact Nancy at ozadulteducation@gmail.com
URL:https://ohavizedek.org/event/adult-ed-committee-meeting/2027-04-21/
CATEGORIES:Adult Learning,Committee Meetings
END:VEVENT
BEGIN:VEVENT
DTSTART;TZID=America/New_York:20270519T193000
DTEND;TZID=America/New_York:20270519T210000
DTSTAMP:20260420T194751
CREATED:20251031T134333Z
LAST-MODIFIED:20251031T134333Z
UID:10036503-1810755000-1810760400@ohavizedek.org
SUMMARY:Adult Ed Committee Meeting
DESCRIPTION:Those interested in joining or learning more about Adult Education should contact Nancy at ozadulteducation@gmail.com
URL:https://ohavizedek.org/event/adult-ed-committee-meeting/2027-05-19/
CATEGORIES:Adult Learning,Committee Meetings
END:VEVENT
BEGIN:VEVENT
DTSTART;TZID=America/New_York:20270616T193000
DTEND;TZID=America/New_York:20270616T210000
DTSTAMP:20260420T194751
CREATED:20251031T134333Z
LAST-MODIFIED:20251031T134333Z
UID:10036504-1813174200-1813179600@ohavizedek.org
SUMMARY:Adult Ed Committee Meeting
DESCRIPTION:Those interested in joining or learning more about Adult Education should contact Nancy at ozadulteducation@gmail.com
URL:https://ohavizedek.org/event/adult-ed-committee-meeting/2027-06-16/
CATEGORIES:Adult Learning,Committee Meetings
END:VEVENT
BEGIN:VEVENT
DTSTART;TZID=America/New_York:20270721T193000
DTEND;TZID=America/New_York:20270721T210000
DTSTAMP:20260420T194751
CREATED:20251031T134333Z
LAST-MODIFIED:20251031T134333Z
UID:10036505-1816198200-1816203600@ohavizedek.org
SUMMARY:Adult Ed Committee Meeting
DESCRIPTION:Those interested in joining or learning more about Adult Education should contact Nancy at ozadulteducation@gmail.com
URL:https://ohavizedek.org/event/adult-ed-committee-meeting/2027-07-21/
CATEGORIES:Adult Learning,Committee Meetings
END:VEVENT
BEGIN:VEVENT
DTSTART;TZID=America/New_York:20270818T193000
DTEND;TZID=America/New_York:20270818T210000
DTSTAMP:20260420T194751
CREATED:20251031T134333Z
LAST-MODIFIED:20251031T134333Z
UID:10036506-1818617400-1818622800@ohavizedek.org
SUMMARY:Adult Ed Committee Meeting
DESCRIPTION:Those interested in joining or learning more about Adult Education should contact Nancy at ozadulteducation@gmail.com
URL:https://ohavizedek.org/event/adult-ed-committee-meeting/2027-08-18/
CATEGORIES:Adult Learning,Committee Meetings
END:VEVENT
BEGIN:VEVENT
DTSTART;TZID=America/New_York:20270915T193000
DTEND;TZID=America/New_York:20270915T210000
DTSTAMP:20260420T194751
CREATED:20251031T134333Z
LAST-MODIFIED:20251031T134333Z
UID:10036507-1821036600-1821042000@ohavizedek.org
SUMMARY:Adult Ed Committee Meeting
DESCRIPTION:Those interested in joining or learning more about Adult Education should contact Nancy at ozadulteducation@gmail.com
URL:https://ohavizedek.org/event/adult-ed-committee-meeting/2027-09-15/
CATEGORIES:Adult Learning,Committee Meetings
END:VEVENT
BEGIN:VEVENT
DTSTART;TZID=America/New_York:20271020T193000
DTEND;TZID=America/New_York:20271020T210000
DTSTAMP:20260420T194751
CREATED:20251031T134333Z
LAST-MODIFIED:20251031T134333Z
UID:10036508-1824060600-1824066000@ohavizedek.org
SUMMARY:Adult Ed Committee Meeting
DESCRIPTION:Those interested in joining or learning more about Adult Education should contact Nancy at ozadulteducation@gmail.com
URL:https://ohavizedek.org/event/adult-ed-committee-meeting/2027-10-20/
CATEGORIES:Adult Learning,Committee Meetings
END:VEVENT
BEGIN:VEVENT
DTSTART;TZID=America/New_York:20271117T193000
DTEND;TZID=America/New_York:20271117T210000
DTSTAMP:20260420T194751
CREATED:20251031T134333Z
LAST-MODIFIED:20251031T134333Z
UID:10036509-1826479800-1826485200@ohavizedek.org
SUMMARY:Adult Ed Committee Meeting
DESCRIPTION:Those interested in joining or learning more about Adult Education should contact Nancy at ozadulteducation@gmail.com
URL:https://ohavizedek.org/event/adult-ed-committee-meeting/2027-11-17/
CATEGORIES:Adult Learning,Committee Meetings
END:VEVENT
BEGIN:VEVENT
DTSTART;TZID=America/New_York:20271215T193000
DTEND;TZID=America/New_York:20271215T210000
DTSTAMP:20260420T194751
CREATED:20251031T134333Z
LAST-MODIFIED:20251031T134333Z
UID:10036510-1828899000-1828904400@ohavizedek.org
SUMMARY:Adult Ed Committee Meeting
DESCRIPTION:Those interested in joining or learning more about Adult Education should contact Nancy at ozadulteducation@gmail.com
URL:https://ohavizedek.org/event/adult-ed-committee-meeting/2027-12-15/
CATEGORIES:Adult Learning,Committee Meetings
END:VEVENT
BEGIN:VEVENT
DTSTART;TZID=America/New_York:20280119T193000
DTEND;TZID=America/New_York:20280119T210000
DTSTAMP:20260420T194751
CREATED:20251031T134333Z
LAST-MODIFIED:20251031T134333Z
UID:10036511-1831923000-1831928400@ohavizedek.org
SUMMARY:Adult Ed Committee Meeting
DESCRIPTION:Those interested in joining or learning more about Adult Education should contact Nancy at ozadulteducation@gmail.com
URL:https://ohavizedek.org/event/adult-ed-committee-meeting/2028-01-19/
CATEGORIES:Adult Learning,Committee Meetings
END:VEVENT
BEGIN:VEVENT
DTSTART;TZID=America/New_York:20280216T193000
DTEND;TZID=America/New_York:20280216T210000
DTSTAMP:20260420T194751
CREATED:20251031T134333Z
LAST-MODIFIED:20251031T134333Z
UID:10036512-1834342200-1834347600@ohavizedek.org
SUMMARY:Adult Ed Committee Meeting
DESCRIPTION:Those interested in joining or learning more about Adult Education should contact Nancy at ozadulteducation@gmail.com
URL:https://ohavizedek.org/event/adult-ed-committee-meeting/2028-02-16/
CATEGORIES:Adult Learning,Committee Meetings
END:VEVENT
BEGIN:VEVENT
DTSTART;TZID=America/New_York:20280315T193000
DTEND;TZID=America/New_York:20280315T210000
DTSTAMP:20260420T194751
CREATED:20251031T134333Z
LAST-MODIFIED:20251031T134333Z
UID:10036513-1836761400-1836766800@ohavizedek.org
SUMMARY:Adult Ed Committee Meeting
DESCRIPTION:Those interested in joining or learning more about Adult Education should contact Nancy at ozadulteducation@gmail.com
URL:https://ohavizedek.org/event/adult-ed-committee-meeting/2028-03-15/
CATEGORIES:Adult Learning,Committee Meetings
END:VEVENT
BEGIN:VEVENT
DTSTART;TZID=America/New_York:20280419T193000
DTEND;TZID=America/New_York:20280419T210000
DTSTAMP:20260420T194751
CREATED:20251031T134333Z
LAST-MODIFIED:20251031T134333Z
UID:10036514-1839785400-1839790800@ohavizedek.org
SUMMARY:Adult Ed Committee Meeting
DESCRIPTION:Those interested in joining or learning more about Adult Education should contact Nancy at ozadulteducation@gmail.com
URL:https://ohavizedek.org/event/adult-ed-committee-meeting/2028-04-19/
CATEGORIES:Adult Learning,Committee Meetings
END:VEVENT
BEGIN:VEVENT
DTSTART;TZID=America/New_York:20280517T193000
DTEND;TZID=America/New_York:20280517T210000
DTSTAMP:20260420T194751
CREATED:20251031T134333Z
LAST-MODIFIED:20251031T134333Z
UID:10036515-1842204600-1842210000@ohavizedek.org
SUMMARY:Adult Ed Committee Meeting
DESCRIPTION:Those interested in joining or learning more about Adult Education should contact Nancy at ozadulteducation@gmail.com
URL:https://ohavizedek.org/event/adult-ed-committee-meeting/2028-05-17/
CATEGORIES:Adult Learning,Committee Meetings
END:VEVENT
BEGIN:VEVENT
DTSTART;TZID=America/New_York:20280621T193000
DTEND;TZID=America/New_York:20280621T210000
DTSTAMP:20260420T194751
CREATED:20251031T134333Z
LAST-MODIFIED:20251031T134333Z
UID:10036516-1845228600-1845234000@ohavizedek.org
SUMMARY:Adult Ed Committee Meeting
DESCRIPTION:Those interested in joining or learning more about Adult Education should contact Nancy at ozadulteducation@gmail.com
URL:https://ohavizedek.org/event/adult-ed-committee-meeting/2028-06-21/
CATEGORIES:Adult Learning,Committee Meetings
END:VEVENT
BEGIN:VEVENT
DTSTART;TZID=America/New_York:20280719T193000
DTEND;TZID=America/New_York:20280719T210000
DTSTAMP:20260420T194751
CREATED:20251031T134333Z
LAST-MODIFIED:20251031T134333Z
UID:10036517-1847647800-1847653200@ohavizedek.org
SUMMARY:Adult Ed Committee Meeting
DESCRIPTION:Those interested in joining or learning more about Adult Education should contact Nancy at ozadulteducation@gmail.com
URL:https://ohavizedek.org/event/adult-ed-committee-meeting/2028-07-19/
CATEGORIES:Adult Learning,Committee Meetings
END:VEVENT
BEGIN:VEVENT
DTSTART;TZID=America/New_York:20280816T193000
DTEND;TZID=America/New_York:20280816T210000
DTSTAMP:20260420T194751
CREATED:20251031T134333Z
LAST-MODIFIED:20251031T134333Z
UID:10036518-1850067000-1850072400@ohavizedek.org
SUMMARY:Adult Ed Committee Meeting
DESCRIPTION:Those interested in joining or learning more about Adult Education should contact Nancy at ozadulteducation@gmail.com
URL:https://ohavizedek.org/event/adult-ed-committee-meeting/2028-08-16/
CATEGORIES:Adult Learning,Committee Meetings
END:VEVENT
BEGIN:VEVENT
DTSTART;TZID=America/New_York:20280920T193000
DTEND;TZID=America/New_York:20280920T210000
DTSTAMP:20260420T194751
CREATED:20251031T134333Z
LAST-MODIFIED:20251031T134333Z
UID:10036519-1853091000-1853096400@ohavizedek.org
SUMMARY:Adult Ed Committee Meeting
DESCRIPTION:Those interested in joining or learning more about Adult Education should contact Nancy at ozadulteducation@gmail.com
URL:https://ohavizedek.org/event/adult-ed-committee-meeting/2028-09-20/
CATEGORIES:Adult Learning,Committee Meetings
END:VEVENT
BEGIN:VEVENT
DTSTART;TZID=America/New_York:20281018T193000
DTEND;TZID=America/New_York:20281018T210000
DTSTAMP:20260420T194751
CREATED:20251031T134333Z
LAST-MODIFIED:20251031T134333Z
UID:10036520-1855510200-1855515600@ohavizedek.org
SUMMARY:Adult Ed Committee Meeting
DESCRIPTION:Those interested in joining or learning more about Adult Education should contact Nancy at ozadulteducation@gmail.com
URL:https://ohavizedek.org/event/adult-ed-committee-meeting/2028-10-18/
CATEGORIES:Adult Learning,Committee Meetings
END:VEVENT
END:VCALENDAR