BEGIN:VCALENDAR
VERSION:2.0
PRODID:-//Ohavi Zedek Synagogue - ECPv6.15.17.1//NONSGML v1.0//EN
CALSCALE:GREGORIAN
METHOD:PUBLISH
X-WR-CALNAME:Ohavi Zedek Synagogue
X-ORIGINAL-URL:https://ohavizedek.org
X-WR-CALDESC:Events for Ohavi Zedek Synagogue
REFRESH-INTERVAL;VALUE=DURATION:PT1H
X-Robots-Tag:noindex
X-PUBLISHED-TTL:PT1H
BEGIN:VTIMEZONE
TZID:America/New_York
BEGIN:DAYLIGHT
TZOFFSETFROM:-0500
TZOFFSETTO:-0400
TZNAME:EDT
DTSTART:20220313T070000
END:DAYLIGHT
BEGIN:STANDARD
TZOFFSETFROM:-0400
TZOFFSETTO:-0500
TZNAME:EST
DTSTART:20221106T060000
END:STANDARD
BEGIN:DAYLIGHT
TZOFFSETFROM:-0500
TZOFFSETTO:-0400
TZNAME:EDT
DTSTART:20230312T070000
END:DAYLIGHT
BEGIN:STANDARD
TZOFFSETFROM:-0400
TZOFFSETTO:-0500
TZNAME:EST
DTSTART:20231105T060000
END:STANDARD
BEGIN:DAYLIGHT
TZOFFSETFROM:-0500
TZOFFSETTO:-0400
TZNAME:EDT
DTSTART:20240310T070000
END:DAYLIGHT
BEGIN:STANDARD
TZOFFSETFROM:-0400
TZOFFSETTO:-0500
TZNAME:EST
DTSTART:20241103T060000
END:STANDARD
END:VTIMEZONE
BEGIN:VTIMEZONE
TZID:UTC
BEGIN:STANDARD
TZOFFSETFROM:+0000
TZOFFSETTO:+0000
TZNAME:UTC
DTSTART:20220101T000000
END:STANDARD
END:VTIMEZONE
BEGIN:VEVENT
DTSTART;TZID=America/New_York:20230101T100000
DTEND;TZID=America/New_York:20230101T160000
DTSTAMP:20260423T171819
CREATED:20221223T163415Z
LAST-MODIFIED:20221223T163415Z
UID:10024643-1672567200-1672588800@ohavizedek.org
SUMMARY:Shuk Closed - Winter Break
DESCRIPTION:
URL:https://ohavizedek.org/event/shuk-closed-winter-break/2023-01-01/
LOCATION:Ohavi Zedek Synagogue\, 188 North Prospect Street\, Burlington\, VT\, 05401\, United States
GEO:44.486379;-73.201175
X-APPLE-STRUCTURED-LOCATION;VALUE=URI;X-ADDRESS=Ohavi Zedek Synagogue 188 North Prospect Street Burlington VT 05401 United States;X-APPLE-RADIUS=500;X-TITLE=188 North Prospect Street:geo:-73.201175,44.486379
END:VEVENT
BEGIN:VEVENT
DTSTART;TZID=America/New_York:20230101T130000
DTEND;TZID=America/New_York:20230101T150000
DTSTAMP:20260423T171819
CREATED:20220310T182039Z
LAST-MODIFIED:20220312T005443Z
UID:10023690-1672578000-1672585200@ohavizedek.org
SUMMARY:iEngage
DESCRIPTION:This ongoing course follows the curriculum from the Shalom Hartman Institute\, “Foundations for a Thoughtful Judaism- Ethics Course”. Sessions allow all  to have access to deep Jewish thought\, and to grapple with philosophical questions at the heart of Jewish tradition. \nSunday afternoons 1:00 to 3:00 PM; contact Rabbi Amy if you are interested
URL:https://ohavizedek.org/event/iengage-study-series-from-the-hartman-institute-in-israel-led-by-rabbi-amy/2023-01-01/
LOCATION:Ohavi Zedek Synagogue\, 188 North Prospect Street\, Burlington\, VT\, 05401\, United States
GEO:44.486379;-73.201175
X-APPLE-STRUCTURED-LOCATION;VALUE=URI;X-ADDRESS=Ohavi Zedek Synagogue 188 North Prospect Street Burlington VT 05401 United States;X-APPLE-RADIUS=500;X-TITLE=188 North Prospect Street:geo:-73.201175,44.486379
END:VEVENT
BEGIN:VEVENT
DTSTART;TZID=America/New_York:20230101T190000
DTEND;TZID=America/New_York:20230101T190000
DTSTAMP:20260423T171819
CREATED:20211206T162724Z
LAST-MODIFIED:20220310T183555Z
UID:10023440-1672599600-1672599600@ohavizedek.org
SUMMARY:Minyan
DESCRIPTION:Ohavi Zedek offers regular minyan services to meet the worship needs of our community and especially to aid those members of our community who are reciting Kaddish in memory of a recently deceased loved one or on a Yahrzeit. Services are held Sunday-Thursday evenings at 7:00. Ohavi Zedek’s minyan is traditional and egalitarian. Mincha and Maariv are recited at evening services when the services begin before dark\, only Ma’ariv is recited once we reach the point in the year when services start after dark.\nIf you are planning to attend a service to recite Kaddish please contact the OZ Office (office@ohavizedek.org) and let us know so the minyan captains can make sure there is a minyan present.
URL:https://ohavizedek.org/event/minyan-177/2023-01-01/
LOCATION:VT
END:VEVENT
BEGIN:VEVENT
DTSTART;TZID=America/New_York:20230101T190000
DTEND;TZID=America/New_York:20230101T190000
DTSTAMP:20260423T171819
CREATED:20220312T013606Z
LAST-MODIFIED:20220409T151623Z
UID:10024502-1672599600-1672599600@ohavizedek.org
SUMMARY:Minyan
DESCRIPTION:Ohavi Zedek offers regular minyan services to meet the worship needs of our community and especially to aid those members of our community who are reciting Kaddish in memory of a recently deceased loved one or on a Yahrzeit. Services are held Sunday-Thursday evenings at 7:00. Ohavi Zedek’s minyan is traditional and egalitarian. Mincha and Maariv are recited at evening services when the services begin before dark\, only Ma’ariv is recited once we reach the point in the year when services start after dark.\nIf you are planning to attend a service to recite Kaddish please contact the OZ Office (office@ohavizedek.org) and let us know so the minyan captains can make sure there is a minyan present.
URL:https://ohavizedek.org/event/minyan-193/2023-01-01/
LOCATION:Ohavi Zedek Synagogue\, 188 North Prospect Street\, Burlington\, VT\, 05401\, United States
CATEGORIES:Worship Services
GEO:44.486379;-73.201175
X-APPLE-STRUCTURED-LOCATION;VALUE=URI;X-ADDRESS=Ohavi Zedek Synagogue 188 North Prospect Street Burlington VT 05401 United States;X-APPLE-RADIUS=500;X-TITLE=188 North Prospect Street:geo:-73.201175,44.486379
END:VEVENT
BEGIN:VEVENT
DTSTART;TZID=America/New_York:20230101T190000
DTEND;TZID=America/New_York:20230102T190000
DTSTAMP:20260423T171819
CREATED:20220312T013654Z
LAST-MODIFIED:20220514T234452Z
UID:10024790-1672599600-1672686000@ohavizedek.org
SUMMARY:Minyan
DESCRIPTION:Ohavi Zedek offers regular minyan services to meet the worship needs of our community and especially to aid those members of our community who are reciting Kaddish in memory of a recently deceased loved one or on a Yahrzeit. Services are held Sunday-Thursday evenings at 7:00. Ohavi Zedek’s minyan is traditional and egalitarian. Mincha and Maariv are recited at evening services when the services begin before dark\, only Ma’ariv is recited once we reach the point in the year when services start after dark.\nIf you are planning to attend a service to recite Kaddish please contact Cantor Steve to let us know so we can make sure there is a minyan present.
URL:https://ohavizedek.org/event/minyan-215/2023-01-01/
LOCATION:Ohavi Zedek Synagogue\, 188 North Prospect Street\, Burlington\, VT\, 05401\, United States
CATEGORIES:Worship Services
GEO:44.486379;-73.201175
X-APPLE-STRUCTURED-LOCATION;VALUE=URI;X-ADDRESS=Ohavi Zedek Synagogue 188 North Prospect Street Burlington VT 05401 United States;X-APPLE-RADIUS=500;X-TITLE=188 North Prospect Street:geo:-73.201175,44.486379
END:VEVENT
BEGIN:VEVENT
DTSTART;TZID=America/New_York:20230102T080000
DTEND;TZID=America/New_York:20230102T170000
DTSTAMP:20260423T171819
CREATED:20220808T185444Z
LAST-MODIFIED:20221222T212357Z
UID:10025308-1672646400-1672678800@ohavizedek.org
SUMMARY:Office Closed- Winter Break
DESCRIPTION:
URL:https://ohavizedek.org/event/office-closed-winter-break/2023-01-02/
LOCATION:Ohavi Zedek Synagogue\, 188 North Prospect Street\, Burlington\, VT\, 05401\, United States
CATEGORIES:Office Closings
GEO:44.486379;-73.201175
X-APPLE-STRUCTURED-LOCATION;VALUE=URI;X-ADDRESS=Ohavi Zedek Synagogue 188 North Prospect Street Burlington VT 05401 United States;X-APPLE-RADIUS=500;X-TITLE=188 North Prospect Street:geo:-73.201175,44.486379
END:VEVENT
BEGIN:VEVENT
DTSTART;TZID=America/New_York:20230102T100000
DTEND;TZID=America/New_York:20230102T160000
DTSTAMP:20260423T171819
CREATED:20221223T163415Z
LAST-MODIFIED:20221223T163415Z
UID:10024644-1672653600-1672675200@ohavizedek.org
SUMMARY:Shuk Closed - Winter Break
DESCRIPTION:
URL:https://ohavizedek.org/event/shuk-closed-winter-break/2023-01-02/
LOCATION:Ohavi Zedek Synagogue\, 188 North Prospect Street\, Burlington\, VT\, 05401\, United States
GEO:44.486379;-73.201175
X-APPLE-STRUCTURED-LOCATION;VALUE=URI;X-ADDRESS=Ohavi Zedek Synagogue 188 North Prospect Street Burlington VT 05401 United States;X-APPLE-RADIUS=500;X-TITLE=188 North Prospect Street:geo:-73.201175,44.486379
END:VEVENT
BEGIN:VEVENT
DTSTART;TZID=America/New_York:20230102T190000
DTEND;TZID=America/New_York:20230102T190000
DTSTAMP:20260423T171819
CREATED:20211206T162724Z
LAST-MODIFIED:20220310T183407Z
UID:10024175-1672686000-1672686000@ohavizedek.org
SUMMARY:Minyan
DESCRIPTION:Ohavi Zedek offers regular minyan services to meet the worship needs of our community and especially to aid those members of our community who are reciting Kaddish in memory of a recently deceased loved one or on a Yahrzeit. Services are held Sunday-Thursday evenings at 7:00. Ohavi Zedek’s minyan is traditional and egalitarian. Mincha and Maariv are recited at evening services when the services begin before dark\, only Ma’ariv is recited once we reach the point in the year when services start after dark.\nIf you are planning to attend a service to recite Kaddish please contact the OZ Office (office@ohavizedek.org) and let us know so the minyan captains can make sure there is a minyan present.
URL:https://ohavizedek.org/event/minyan-178/2023-01-02/
LOCATION:VT
END:VEVENT
BEGIN:VEVENT
DTSTART;VALUE=DATE:20230103
DTEND;VALUE=DATE:20230104
DTSTAMP:20260423T171819
CREATED:20230105T161242Z
LAST-MODIFIED:20230105T161755Z
UID:10025669-1672704000-1672790399@ohavizedek.org
SUMMARY:Asara B'Tevet
DESCRIPTION:Fast commemorating the siege of Jerusalem
URL:https://ohavizedek.org/event/asara-btevet/
LOCATION:VT
CATEGORIES:Holiday
END:VEVENT
BEGIN:VEVENT
DTSTART;TZID=America/New_York:20230103T100000
DTEND;TZID=America/New_York:20230103T160000
DTSTAMP:20260423T171819
CREATED:20221223T163415Z
LAST-MODIFIED:20221223T163415Z
UID:10024645-1672740000-1672761600@ohavizedek.org
SUMMARY:Shuk Closed - Winter Break
DESCRIPTION:
URL:https://ohavizedek.org/event/shuk-closed-winter-break/2023-01-03/
LOCATION:Ohavi Zedek Synagogue\, 188 North Prospect Street\, Burlington\, VT\, 05401\, United States
GEO:44.486379;-73.201175
X-APPLE-STRUCTURED-LOCATION;VALUE=URI;X-ADDRESS=Ohavi Zedek Synagogue 188 North Prospect Street Burlington VT 05401 United States;X-APPLE-RADIUS=500;X-TITLE=188 North Prospect Street:geo:-73.201175,44.486379
END:VEVENT
BEGIN:VEVENT
DTSTART;TZID=America/New_York:20230103T190000
DTEND;TZID=America/New_York:20230103T190000
DTSTAMP:20260423T171819
CREATED:20211206T162723Z
LAST-MODIFIED:20220310T183730Z
UID:10023240-1672772400-1672772400@ohavizedek.org
SUMMARY:Minyan
DESCRIPTION:Ohavi Zedek offers regular minyan services to meet the worship needs of our community and especially to aid those members of our community who are reciting Kaddish in memory of a recently deceased loved one or on a Yahrzeit. Services are held Sunday-Thursday evenings at 7:00. Ohavi Zedek’s minyan is traditional and egalitarian. Mincha and Maariv are recited at evening services when the services begin before dark\, only Ma’ariv is recited once we reach the point in the year when services start after dark.\nIf you are planning to attend a service to recite Kaddish please contact the OZ Office (office@ohavizedek.org) and let us know so the minyan captains can make sure there is a minyan present.
URL:https://ohavizedek.org/event/minyan-174/2023-01-03/
LOCATION:VT
END:VEVENT
BEGIN:VEVENT
DTSTART;TZID=America/New_York:20230103T190000
DTEND;TZID=America/New_York:20230103T190000
DTSTAMP:20260423T171819
CREATED:20211206T162724Z
LAST-MODIFIED:20220310T183330Z
UID:10023579-1672772400-1672772400@ohavizedek.org
SUMMARY:Minyan
DESCRIPTION:Ohavi Zedek offers regular minyan services to meet the worship needs of our community and especially to aid those members of our community who are reciting Kaddish in memory of a recently deceased loved one or on a Yahrzeit. Services are held Sunday-Thursday evenings at 7:00. Ohavi Zedek’s minyan is traditional and egalitarian. Mincha and Maariv are recited at evening services when the services begin before dark\, only Ma’ariv is recited once we reach the point in the year when services start after dark.\nIf you are planning to attend a service to recite Kaddish please contact the OZ Office (office@ohavizedek.org) and let us know so the minyan captains can make sure there is a minyan present.
URL:https://ohavizedek.org/event/minyan-179/2023-01-03/
LOCATION:VT
END:VEVENT
BEGIN:VEVENT
DTSTART;TZID=America/New_York:20230104T100000
DTEND;TZID=America/New_York:20230104T160000
DTSTAMP:20260423T171819
CREATED:20221223T163415Z
LAST-MODIFIED:20221223T163415Z
UID:10024646-1672826400-1672848000@ohavizedek.org
SUMMARY:Shuk Closed - Winter Break
DESCRIPTION:
URL:https://ohavizedek.org/event/shuk-closed-winter-break/2023-01-04/
LOCATION:Ohavi Zedek Synagogue\, 188 North Prospect Street\, Burlington\, VT\, 05401\, United States
GEO:44.486379;-73.201175
X-APPLE-STRUCTURED-LOCATION;VALUE=URI;X-ADDRESS=Ohavi Zedek Synagogue 188 North Prospect Street Burlington VT 05401 United States;X-APPLE-RADIUS=500;X-TITLE=188 North Prospect Street:geo:-73.201175,44.486379
END:VEVENT
BEGIN:VEVENT
DTSTART;TZID=America/New_York:20230104T130000
DTEND;TZID=America/New_York:20230104T150000
DTSTAMP:20260423T171819
CREATED:20230103T190926Z
LAST-MODIFIED:20230103T191223Z
UID:10025658-1672837200-1672844400@ohavizedek.org
SUMMARY:Daytime Mah Jongg Classes
DESCRIPTION:Come learn to play Mah Jongg! This series of 5 classes will enable you to become a proud Mah Jongg player!  Choose from either the daytime or evening series. \n\nWednesday Daytime Classes: 1-3 PM Jan. 4th\, 11th\, 18th\, 25th\, Feb 1st\nThursday Evening classes: 5-7 PM Jan. 5th\, 12th\, 19th\, 26th and Feb 2nd.\n\nSuggested donation for this series is $50 for OZ members and $100 for others in the community.  No one will be turned away for lack of funds.  Classes will meet in person in the OZ library.  Maximum of 8 participants. Feel free to bring a snack for yourself. Register here.
URL:https://ohavizedek.org/event/daytime-mah-jongg-classes/2023-01-04/
LOCATION:Ohavi Zedek Synagogue\, 188 North Prospect Street\, Burlington\, VT\, 05401\, United States
GEO:44.486379;-73.201175
X-APPLE-STRUCTURED-LOCATION;VALUE=URI;X-ADDRESS=Ohavi Zedek Synagogue 188 North Prospect Street Burlington VT 05401 United States;X-APPLE-RADIUS=500;X-TITLE=188 North Prospect Street:geo:-73.201175,44.486379
END:VEVENT
BEGIN:VEVENT
DTSTART;TZID=America/New_York:20230105T170000
DTEND;TZID=America/New_York:20230105T190000
DTSTAMP:20260423T171819
CREATED:20230103T191020Z
LAST-MODIFIED:20230103T191215Z
UID:10025663-1672938000-1672945200@ohavizedek.org
SUMMARY:Evening Mah Jongg Classes
DESCRIPTION:Come learn to play Mah Jongg! This series of 5 classes will enable you to become a proud Mah Jongg player!  Choose from either the daytime or evening series. \n\nWednesday Daytime Classes: 1-3 PM Jan. 4th\, 11th\, 18th\, 25th\, Feb 1st\nThursday Evening classes: 5-7 PM Jan. 5th\, 12th\, 19th\, 26th and Feb 2nd.\n\nSuggested donation for this series is $50 for OZ members and $100 for others in the community.  No one will be turned away for lack of funds.  Classes will meet in person in the OZ library.  Maximum of 8 participants. Feel free to bring a snack for yourself. Register here.
URL:https://ohavizedek.org/event/evening-mah-jongg-classes/2023-01-05/
LOCATION:Ohavi Zedek Synagogue\, 188 North Prospect Street\, Burlington\, VT\, 05401\, United States
GEO:44.486379;-73.201175
X-APPLE-STRUCTURED-LOCATION;VALUE=URI;X-ADDRESS=Ohavi Zedek Synagogue 188 North Prospect Street Burlington VT 05401 United States;X-APPLE-RADIUS=500;X-TITLE=188 North Prospect Street:geo:-73.201175,44.486379
END:VEVENT
BEGIN:VEVENT
DTSTART;TZID=America/New_York:20230105T190000
DTEND;TZID=America/New_York:20230105T190000
DTSTAMP:20260423T171819
CREATED:20220504T140242Z
LAST-MODIFIED:20220504T140242Z
UID:10024880-1672945200-1672945200@ohavizedek.org
SUMMARY:Minyan
DESCRIPTION:Ohavi Zedek offers regular minyan services to meet the worship needs of our community and especially to aid those members of our community who are reciting Kaddish in memory of a recently deceased loved one or on a Yahrzeit. Services are held Sunday-Thursday evenings at 7:00. Ohavi Zedek’s minyan is traditional and egalitarian. Mincha and Maariv are recited at evening services when the services begin before dark\, only Ma’ariv is recited once we reach the point in the year when services start after dark.\nIf you are planning to attend a service to recite Kaddish please contact Cantor Steve to let us know so we can make sure there is a minyan present.
URL:https://ohavizedek.org/event/minyan-216/2023-01-05/
LOCATION:Ohavi Zedek Synagogue\, 188 North Prospect Street\, Burlington\, VT\, 05401\, United States
GEO:44.486379;-73.201175
X-APPLE-STRUCTURED-LOCATION;VALUE=URI;X-ADDRESS=Ohavi Zedek Synagogue 188 North Prospect Street Burlington VT 05401 United States;X-APPLE-RADIUS=500;X-TITLE=188 North Prospect Street:geo:-73.201175,44.486379
END:VEVENT
BEGIN:VEVENT
DTSTART;TZID=America/New_York:20230105T190000
DTEND;TZID=America/New_York:20230105T193000
DTSTAMP:20260423T171819
CREATED:20211206T162723Z
LAST-MODIFIED:20220920T021132Z
UID:10023342-1672945200-1672947000@ohavizedek.org
SUMMARY:Minyan
DESCRIPTION:Ohavi Zedek offers regular minyan services to meet the worship needs of our community and especially to aid those members of our community who are reciting Kaddish in memory of a recently deceased loved one or on a Yahrzeit. Services are held Sunday-Thursday evenings at 7:00. Ohavi Zedek’s minyan is traditional and egalitarian. Mincha and Maariv are recited at evening services when the services begin before dark\, only Ma’ariv is recited once we reach the point in the year when services start after dark.\nIf you are planning to attend a service to recite Kaddish please contact the OZ Office (office@ohavizedek.org) and let us know so the minyan captains can make sure there is a minyan present.
URL:https://ohavizedek.org/event/minyan-176/2023-01-05/
LOCATION:VT
END:VEVENT
BEGIN:VEVENT
DTSTART;TZID=America/New_York:20230105T193000
DTEND;TZID=America/New_York:20230105T210000
DTSTAMP:20260423T171819
CREATED:20220425T010823Z
LAST-MODIFIED:20220502T235048Z
UID:10024691-1672947000-1672952400@ohavizedek.org
SUMMARY:Can We Talk About Israel Book Discussion - Part 1 of 3
DESCRIPTION:A 3-session book group to read and discuss Daniel Sokatch’s book and better understand the history of one of the most complicated conflicts in the world.  May 12th 19th 26th 7:30-9:00 on Zoom. \nThe program is hosted by Lynda Siegel. \nPlease register here.  Once you register we will email you a zoom link and be in touch about loaning you a copy of the book. 
URL:https://ohavizedek.org/event/can-we-talk-about-israel-3-part-book-discussion/2023-01-05/
LOCATION:Zoom
CATEGORIES:Adult Learning
ATTACH;FMTTYPE=image/png:https://ohavizedek.org/wp-content/uploads/2022/04/Can-We-Talk-About-Israel-Book-Discussion-1.png
END:VEVENT
BEGIN:VEVENT
DTSTART;TZID=America/New_York:20230106T080000
DTEND;TZID=America/New_York:20230106T170000
DTSTAMP:20260423T171819
CREATED:20220310T185219Z
LAST-MODIFIED:20220310T185219Z
UID:10024297-1672992000-1673024400@ohavizedek.org
SUMMARY:Kabbalat Shabbat
DESCRIPTION:Join Rabbi Amy and Cantor Steve for a joyful\, instrumental Friday Night service.
URL:https://ohavizedek.org/event/kabbalat-shabbat-49/2023-01-06/
LOCATION:Ohavi Zedek Synagogue\, 188 North Prospect Street\, Burlington\, VT\, 05401\, United States
GEO:44.486379;-73.201175
X-APPLE-STRUCTURED-LOCATION;VALUE=URI;X-ADDRESS=Ohavi Zedek Synagogue 188 North Prospect Street Burlington VT 05401 United States;X-APPLE-RADIUS=500;X-TITLE=188 North Prospect Street:geo:-73.201175,44.486379
END:VEVENT
BEGIN:VEVENT
DTSTART;TZID=America/New_York:20230106T180000
DTEND;TZID=America/New_York:20230106T193000
DTSTAMP:20260423T171819
CREATED:20221219T205456Z
LAST-MODIFIED:20230214T195409Z
UID:10025590-1673028000-1673033400@ohavizedek.org
SUMMARY:Kabbalat Shabbat
DESCRIPTION:Join Rabbi Amy and Cantor Steve for a joyful\, instrumental Friday Night service. \nJoin in-person\, on Zoom (link below)\, or on livestream. \nJoining by Zoom?  Please make your full first and last name viewable on Zoom\, so we know who you are and can admit you.
URL:https://ohavizedek.org/event/kabbalat-shabbat-55/
LOCATION:Ohavi Zedek Synagogue\, 188 North Prospect Street\, Burlington\, VT\, 05401\, United States
GEO:44.486379;-73.201175
X-APPLE-STRUCTURED-LOCATION;VALUE=URI;X-ADDRESS=Ohavi Zedek Synagogue 188 North Prospect Street Burlington VT 05401 United States;X-APPLE-RADIUS=500;X-TITLE=188 North Prospect Street:geo:-73.201175,44.486379
END:VEVENT
BEGIN:VEVENT
DTSTART;TZID=America/New_York:20230107T083000
DTEND;TZID=America/New_York:20230107T091500
DTSTAMP:20260423T171819
CREATED:20221220T214823Z
LAST-MODIFIED:20230106T153339Z
UID:10025596-1673080200-1673082900@ohavizedek.org
SUMMARY:Torah Study- CANCELLED
DESCRIPTION:Torah study will resume again next week
URL:https://ohavizedek.org/event/torah-study-37/
LOCATION:Ohavi Zedek Synagogue\, 188 North Prospect Street\, Burlington\, VT\, 05401\, United States
GEO:44.486379;-73.201175
X-APPLE-STRUCTURED-LOCATION;VALUE=URI;X-ADDRESS=Ohavi Zedek Synagogue 188 North Prospect Street Burlington VT 05401 United States;X-APPLE-RADIUS=500;X-TITLE=188 North Prospect Street:geo:-73.201175,44.486379
END:VEVENT
BEGIN:VEVENT
DTSTART;TZID=America/New_York:20230107T083000
DTEND;TZID=America/New_York:20230107T093000
DTSTAMP:20260423T171819
CREATED:20220312T011055Z
LAST-MODIFIED:20220528T020820Z
UID:10024072-1673080200-1673083800@ohavizedek.org
SUMMARY:Torah Study
DESCRIPTION:Our torah study takes place on site online\, and on livestream.  Please feel free to register here or you are welcome to simply attend.  See the Zoom link below under ‘website’\, and please be sure you are logged into Zoom with your full name visible to be admitted to the Zoom room. \nIf you plan to come in-person\, please review OZ’s Covid-19 protocols \nWe look forward to learning together.
URL:https://ohavizedek.org/event/torah-study-40/2023-01-07/
LOCATION:Ohavi Zedek Synagogue\, 188 North Prospect Street\, Burlington\, VT\, 05401\, United States
CATEGORIES:Adult Learning,Worship Services
ATTACH;FMTTYPE=image/png:https://ohavizedek.org/wp-content/uploads/2022/03/Torah-Study.png
ORGANIZER;CN="Rabbi Amy":MAILTO:rabbiamy@ohavizedek.org
GEO:44.486379;-73.201175
X-APPLE-STRUCTURED-LOCATION;VALUE=URI;X-ADDRESS=Ohavi Zedek Synagogue 188 North Prospect Street Burlington VT 05401 United States;X-APPLE-RADIUS=500;X-TITLE=188 North Prospect Street:geo:-73.201175,44.486379
END:VEVENT
BEGIN:VEVENT
DTSTART;TZID=UTC:20230107T091500
DTEND;TZID=UTC:20230107T113000
DTSTAMP:20260423T171819
CREATED:20141106T022348Z
LAST-MODIFIED:20230719T144207Z
UID:10024446-1673082900-1673091000@ohavizedek.org
SUMMARY:Shabbat Morning Services
DESCRIPTION:Our Shabbat morning service is traditional egalitarian with new melodies and kavannot (spiritual intentions) introduced and incorporated. \nFollowing services\, we often host a Kiddush – a lunch donated by synagogue members or b mitzvah families\, where all are welcome. Saturday morning services begin at 9:15 AM. \nOur morning service will feature our Shabbat Village: \n– An intentional place for families\, children and anyone to schmooze and be together during the time of Shabbat services \n– No pressure to join in the service (though of course all are welcome to attend as much or little as works for you) \n– Families may access the playground\, gardens and trails \n– Everyone is invited to the kiddush (meal) afterward (when applicable) \n– Children’s books and a livestream of services will be provided. Currently\, children will need to be accompanied by their adult(s).  Parents may choose to team up – it takes a village!
URL:https://ohavizedek.org/event/shabbat-morning-services-2-2017-10-21-2018-12-01-2023-01-28-2023-07-15-2023-07-29/2023-01-07/
LOCATION:Ohavi Zedek Synagogue\, 188 North Prospect Street\, Burlington\, VT\, 05401\, United States
CATEGORIES:Worship Services
GEO:44.486379;-73.201175
X-APPLE-STRUCTURED-LOCATION;VALUE=URI;X-ADDRESS=Ohavi Zedek Synagogue 188 North Prospect Street Burlington VT 05401 United States;X-APPLE-RADIUS=500;X-TITLE=188 North Prospect Street:geo:-73.201175,44.486379
END:VEVENT
BEGIN:VEVENT
DTSTART;TZID=UTC:20230107T091500
DTEND;TZID=UTC:20230107T113000
DTSTAMP:20260423T171819
CREATED:20141106T022348Z
LAST-MODIFIED:20230419T034643Z
UID:10024396-1673082900-1673091000@ohavizedek.org
SUMMARY:Shabbat Morning Services
DESCRIPTION:Our Shabbat morning service is traditional egalitarian with new melodies and kavannot (spiritual intentions) introduced and incorporated. \nFollowing services\, we often host a Kiddush – a lunch donated by synagogue members or b mitzvah families\, where all are welcome. Saturday morning services begin at 9:15 AM.
URL:https://ohavizedek.org/event/shabbat-morning-services-2-2017-10-21-2018-12-01-2023-01-28/2023-01-07/
LOCATION:Ohavi Zedek Synagogue\, 188 North Prospect Street\, Burlington\, VT\, 05401\, United States
CATEGORIES:Worship Services
GEO:44.486379;-73.201175
X-APPLE-STRUCTURED-LOCATION;VALUE=URI;X-ADDRESS=Ohavi Zedek Synagogue 188 North Prospect Street Burlington VT 05401 United States;X-APPLE-RADIUS=500;X-TITLE=188 North Prospect Street:geo:-73.201175,44.486379
END:VEVENT
BEGIN:VEVENT
DTSTART;TZID=America/New_York:20230107T091500
DTEND;TZID=America/New_York:20230107T113000
DTSTAMP:20260423T171819
CREATED:20221220T224744Z
LAST-MODIFIED:20221220T225707Z
UID:10025649-1673082900-1673091000@ohavizedek.org
SUMMARY:Shabbat Morning Services
DESCRIPTION:
URL:https://ohavizedek.org/event/shabbat-morning-service/2023-01-07/
LOCATION:Ohavi Zedek Synagogue\, 188 North Prospect Street\, Burlington\, VT\, 05401\, United States
GEO:44.486379;-73.201175
X-APPLE-STRUCTURED-LOCATION;VALUE=URI;X-ADDRESS=Ohavi Zedek Synagogue 188 North Prospect Street Burlington VT 05401 United States;X-APPLE-RADIUS=500;X-TITLE=188 North Prospect Street:geo:-73.201175,44.486379
END:VEVENT
END:VCALENDAR