BEGIN:VCALENDAR
VERSION:2.0
PRODID:-//Ohavi Zedek Synagogue - ECPv6.15.17.1//NONSGML v1.0//EN
CALSCALE:GREGORIAN
METHOD:PUBLISH
X-ORIGINAL-URL:https://ohavizedek.org
X-WR-CALDESC:Events for Ohavi Zedek Synagogue
REFRESH-INTERVAL;VALUE=DURATION:PT1H
X-Robots-Tag:noindex
X-PUBLISHED-TTL:PT1H
BEGIN:VTIMEZONE
TZID:America/New_York
BEGIN:DAYLIGHT
TZOFFSETFROM:-0500
TZOFFSETTO:-0400
TZNAME:EDT
DTSTART:20230312T070000
END:DAYLIGHT
BEGIN:STANDARD
TZOFFSETFROM:-0400
TZOFFSETTO:-0500
TZNAME:EST
DTSTART:20231105T060000
END:STANDARD
BEGIN:DAYLIGHT
TZOFFSETFROM:-0500
TZOFFSETTO:-0400
TZNAME:EDT
DTSTART:20240310T070000
END:DAYLIGHT
BEGIN:STANDARD
TZOFFSETFROM:-0400
TZOFFSETTO:-0500
TZNAME:EST
DTSTART:20241103T060000
END:STANDARD
BEGIN:DAYLIGHT
TZOFFSETFROM:-0500
TZOFFSETTO:-0400
TZNAME:EDT
DTSTART:20250309T070000
END:DAYLIGHT
BEGIN:STANDARD
TZOFFSETFROM:-0400
TZOFFSETTO:-0500
TZNAME:EST
DTSTART:20251102T060000
END:STANDARD
END:VTIMEZONE
BEGIN:VEVENT
DTSTART;TZID=America/New_York:20240616T103000
DTEND;TZID=America/New_York:20240616T123000
DTSTAMP:20260424T091850
CREATED:20240521T204059Z
LAST-MODIFIED:20240522T174255Z
UID:10027391-1718533800-1718541000@ohavizedek.org
SUMMARY:OZ's Friends of Israel
DESCRIPTION:RSVP \nDo you want to learn more about Israel and Israelis? Feeling very concerned and alone about what’s happening now? Want to join others to talk about it? What are your feelings/thoughts/ideas? Other Israel-related topics\, besides the war\, that you want to talk about? We don’t all have to agree on everything\, but this is for those who need the opportunity to share. \nOn Sunday\, June 16\, from 10:30 am to 12:30 pm\, we will be joined\, on Zoom\, by Marian Lebor\, a cousin of an OZ member Vivien. Marian is a writer\, editor and filmmaker who lives in Israel. This will give us all an opportunity to hear what she says about life in Israel today and to ask her questions. If you’d like to join on June 16\, please click here and we will share the Zoom link prior to the gathering. We look forward to seeing you! \nAbout Marian Lebor  \nMarian is a writer\, editor and filmmaker who was born and educated in London. She made aliyah with her husband and young family in 1994. She graduated in History from Queen Mary College\, London University. She writes for a variety of English-language publications in Israel and abroad on Israel-related themes.  Her work has appeared in the Guardian and in Anglo-Jewish newspapers. She compiled and edited a 280-page book about the North West London Jewish Day School for its 60th anniversary; she edited and contributed to “Memories that Won’t Go Away”\, a book about the Kindertransport\, and she co-wrote the Culture Smart! Guide for Israel.She produces short films that highlight Israel’s diversity\, culture and technology for websites\, online magazines\, and non-profit organizations.
URL:https://ohavizedek.org/event/ozs-friends-of-israel-2/
LOCATION:Zoom
END:VEVENT
BEGIN:VEVENT
DTSTART;TZID=America/New_York:20240616T190000
DTEND;TZID=America/New_York:20240616T193000
DTSTAMP:20260424T091850
CREATED:20231212T190239Z
LAST-MODIFIED:20241023T180439Z
UID:10026247-1718564400-1718566200@ohavizedek.org
SUMMARY:Minyan (Online)
DESCRIPTION:Ohavi Zedek offers regular minyan services to meet the worship needs of our community and especially to aid those members of our community who are reciting Kaddish in memory of a recently deceased loved one or on a Yahrzeit. Services are held Sunday-Thursday evenings at 7:00 on Zoom. Ohavi Zedek’s minyan is traditional and egalitarian. Mincha and Maariv are recited at evening services when the services begin before dark\, only Ma’ariv is recited once we reach the point in the year when services start after dark. \nIf you are planning to attend a service to recite Kaddish please fill out this form to let us know so we can make sure there is a minyan present. \nClick here to access the Weekday Siddur Lev Shalem used during our evening Minyan services. \nZoom link is below under the heading ‘Website’. \nPlease make your full first and last name viewable on Zoom\, so we know who you are and can admit you.
URL:https://ohavizedek.org/event/minyan-225/2024-06-16/
LOCATION:Zoom
CATEGORIES:Minyan,Worship Services
ATTACH;FMTTYPE=image/png:https://ohavizedek.org/wp-content/uploads/2023/10/Minyan.png
END:VEVENT
BEGIN:VEVENT
DTSTART;TZID=America/New_York:20240617T190000
DTEND;TZID=America/New_York:20240617T193000
DTSTAMP:20260424T091850
CREATED:20231212T190239Z
LAST-MODIFIED:20241023T180439Z
UID:10026248-1718650800-1718652600@ohavizedek.org
SUMMARY:Minyan (Online)
DESCRIPTION:Ohavi Zedek offers regular minyan services to meet the worship needs of our community and especially to aid those members of our community who are reciting Kaddish in memory of a recently deceased loved one or on a Yahrzeit. Services are held Sunday-Thursday evenings at 7:00 on Zoom. Ohavi Zedek’s minyan is traditional and egalitarian. Mincha and Maariv are recited at evening services when the services begin before dark\, only Ma’ariv is recited once we reach the point in the year when services start after dark. \nIf you are planning to attend a service to recite Kaddish please fill out this form to let us know so we can make sure there is a minyan present. \nClick here to access the Weekday Siddur Lev Shalem used during our evening Minyan services. \nZoom link is below under the heading ‘Website’. \nPlease make your full first and last name viewable on Zoom\, so we know who you are and can admit you.
URL:https://ohavizedek.org/event/minyan-225/2024-06-17/
LOCATION:Zoom
CATEGORIES:Minyan,Worship Services
ATTACH;FMTTYPE=image/png:https://ohavizedek.org/wp-content/uploads/2023/10/Minyan.png
END:VEVENT
BEGIN:VEVENT
DTSTART;TZID=America/New_York:20240618T173000
DTEND;TZID=America/New_York:20240618T190000
DTSTAMP:20260424T091850
CREATED:20240112T173753Z
LAST-MODIFIED:20241113T201726Z
UID:10026439-1718731800-1718737200@ohavizedek.org
SUMMARY:OZ Board of Directors Meeting
DESCRIPTION:Monthly meeting of OZ’s Board of Directors. 2024 meetings are planned to run from 5:30 pm to 7:00 pm on the third Tuesday of each month. \nMeetings are held in person and on Zoom. When possible meetings include a small group meal prior to the start time. \nAll OZ members are welcome to attend open portions of the meetings. Meetings may include ‘executive sessions’ limited to board members. \nAgendas will be added the week prior to the meeting.
URL:https://ohavizedek.org/event/oz-board-of-directors-meeting-2/2024-06-18/
LOCATION:Ohavi Zedek Synagogue\, 188 North Prospect Street\, Burlington\, VT\, 05401\, United States
ATTACH;FMTTYPE=image/jpeg:https://ohavizedek.org/wp-content/uploads/2024/01/oz-1.jpg
GEO:44.486379;-73.201175
X-APPLE-STRUCTURED-LOCATION;VALUE=URI;X-ADDRESS=Ohavi Zedek Synagogue 188 North Prospect Street Burlington VT 05401 United States;X-APPLE-RADIUS=500;X-TITLE=188 North Prospect Street:geo:-73.201175,44.486379
END:VEVENT
BEGIN:VEVENT
DTSTART;TZID=America/New_York:20240618T173000
DTEND;TZID=America/New_York:20240618T190000
DTSTAMP:20260424T091850
CREATED:20240412T190326Z
LAST-MODIFIED:20240617T223652Z
UID:10026945-1718731800-1718737200@ohavizedek.org
SUMMARY:Inclusion Committee Meeting
DESCRIPTION:
URL:https://ohavizedek.org/event/inclusion-committee-meeting/2024-06-18/
LOCATION:Ohavi Zedek Synagogue\, 188 North Prospect Street\, Burlington\, VT\, 05401\, United States
GEO:44.486379;-73.201175
X-APPLE-STRUCTURED-LOCATION;VALUE=URI;X-ADDRESS=Ohavi Zedek Synagogue 188 North Prospect Street Burlington VT 05401 United States;X-APPLE-RADIUS=500;X-TITLE=188 North Prospect Street:geo:-73.201175,44.486379
END:VEVENT
BEGIN:VEVENT
DTSTART;TZID=America/New_York:20240618T190000
DTEND;TZID=America/New_York:20240618T193000
DTSTAMP:20260424T091850
CREATED:20231212T190239Z
LAST-MODIFIED:20241023T180439Z
UID:10026249-1718737200-1718739000@ohavizedek.org
SUMMARY:Minyan (Online)
DESCRIPTION:Ohavi Zedek offers regular minyan services to meet the worship needs of our community and especially to aid those members of our community who are reciting Kaddish in memory of a recently deceased loved one or on a Yahrzeit. Services are held Sunday-Thursday evenings at 7:00 on Zoom. Ohavi Zedek’s minyan is traditional and egalitarian. Mincha and Maariv are recited at evening services when the services begin before dark\, only Ma’ariv is recited once we reach the point in the year when services start after dark. \nIf you are planning to attend a service to recite Kaddish please fill out this form to let us know so we can make sure there is a minyan present. \nClick here to access the Weekday Siddur Lev Shalem used during our evening Minyan services. \nZoom link is below under the heading ‘Website’. \nPlease make your full first and last name viewable on Zoom\, so we know who you are and can admit you.
URL:https://ohavizedek.org/event/minyan-225/2024-06-18/
LOCATION:Zoom
CATEGORIES:Minyan,Worship Services
ATTACH;FMTTYPE=image/png:https://ohavizedek.org/wp-content/uploads/2023/10/Minyan.png
END:VEVENT
BEGIN:VEVENT
DTSTART;TZID=America/New_York:20240619T103000
DTEND;TZID=America/New_York:20240619T123000
DTSTAMP:20260424T091850
CREATED:20230213T192825Z
LAST-MODIFIED:20241029T151644Z
UID:10025096-1718793000-1718800200@ohavizedek.org
SUMMARY:Midweek Mah Jongg
DESCRIPTION:Stop by every Wednesday from 10:30 AM – 12:30 PM for Mah Jongg \nAdditionally\, fill out this interest form to be notified for upcoming classes
URL:https://ohavizedek.org/event/mid-week-mah-jongg-2023-04-26-2023-07-05-2023-11-15-2023-12-06/2024-06-19/
LOCATION:Ohavi Zedek Synagogue\, 188 North Prospect Street\, Burlington\, VT\, 05401\, United States
CATEGORIES:Community Events
ATTACH;FMTTYPE=image/jpeg:https://ohavizedek.org/wp-content/uploads/2023/02/1.jpg
GEO:44.486379;-73.201175
X-APPLE-STRUCTURED-LOCATION;VALUE=URI;X-ADDRESS=Ohavi Zedek Synagogue 188 North Prospect Street Burlington VT 05401 United States;X-APPLE-RADIUS=500;X-TITLE=188 North Prospect Street:geo:-73.201175,44.486379
END:VEVENT
BEGIN:VEVENT
DTSTART;TZID=America/New_York:20240619T183000
DTEND;TZID=America/New_York:20240619T203000
DTSTAMP:20260424T091850
CREATED:20231011T192414Z
LAST-MODIFIED:20241029T152243Z
UID:10025371-1718821800-1718829000@ohavizedek.org
SUMMARY:Evening Midweek Mah Jongg
DESCRIPTION:Evening midweek Mah Jongg from 6:30 PM – 8:30 PM\nPlease RSVP to lyndasiegel2@gmail.com for availability \nAdditionally\, fill out this interest form to be notified for upcoming classes
URL:https://ohavizedek.org/event/midweek-mah-jongg-evenings-4/2024-06-19/
LOCATION:Ohavi Zedek Synagogue\, 188 North Prospect Street\, Burlington\, VT\, 05401\, United States
CATEGORIES:Community Events
ATTACH;FMTTYPE=image/jpeg:https://ohavizedek.org/wp-content/uploads/2023/10/Homepage-Calender-image-1.jpg
GEO:44.486379;-73.201175
X-APPLE-STRUCTURED-LOCATION;VALUE=URI;X-ADDRESS=Ohavi Zedek Synagogue 188 North Prospect Street Burlington VT 05401 United States;X-APPLE-RADIUS=500;X-TITLE=188 North Prospect Street:geo:-73.201175,44.486379
END:VEVENT
BEGIN:VEVENT
DTSTART;TZID=America/New_York:20240619T190000
DTEND;TZID=America/New_York:20240619T193000
DTSTAMP:20260424T091850
CREATED:20231212T190239Z
LAST-MODIFIED:20241023T180439Z
UID:10026250-1718823600-1718825400@ohavizedek.org
SUMMARY:Minyan (Online)
DESCRIPTION:Ohavi Zedek offers regular minyan services to meet the worship needs of our community and especially to aid those members of our community who are reciting Kaddish in memory of a recently deceased loved one or on a Yahrzeit. Services are held Sunday-Thursday evenings at 7:00 on Zoom. Ohavi Zedek’s minyan is traditional and egalitarian. Mincha and Maariv are recited at evening services when the services begin before dark\, only Ma’ariv is recited once we reach the point in the year when services start after dark. \nIf you are planning to attend a service to recite Kaddish please fill out this form to let us know so we can make sure there is a minyan present. \nClick here to access the Weekday Siddur Lev Shalem used during our evening Minyan services. \nZoom link is below under the heading ‘Website’. \nPlease make your full first and last name viewable on Zoom\, so we know who you are and can admit you.
URL:https://ohavizedek.org/event/minyan-225/2024-06-19/
LOCATION:Zoom
CATEGORIES:Minyan,Worship Services
ATTACH;FMTTYPE=image/png:https://ohavizedek.org/wp-content/uploads/2023/10/Minyan.png
END:VEVENT
BEGIN:VEVENT
DTSTART;TZID=America/New_York:20240619T193000
DTEND;TZID=America/New_York:20240619T210000
DTSTAMP:20260424T091850
CREATED:20240105T162231Z
LAST-MODIFIED:20240820T191502Z
UID:10027382-1718825400-1718830800@ohavizedek.org
SUMMARY:Religious & Spiritual Committee Meeting
DESCRIPTION:OZ’s Religious & Spiritual Committee meets to discuss issues pertaining to OZ ritual and religious practice.  Members are welcome to join.  If you’d like to receive the agenda\, please contact us.
URL:https://ohavizedek.org/event/religious-spiritual-committee-meeting-4/2024-06-19/
LOCATION:Ohavi Zedek Synagogue\, 188 North Prospect Street\, Burlington\, VT\, 05401\, United States
GEO:44.486379;-73.201175
X-APPLE-STRUCTURED-LOCATION;VALUE=URI;X-ADDRESS=Ohavi Zedek Synagogue 188 North Prospect Street Burlington VT 05401 United States;X-APPLE-RADIUS=500;X-TITLE=188 North Prospect Street:geo:-73.201175,44.486379
END:VEVENT
BEGIN:VEVENT
DTSTART;TZID=America/New_York:20240620T190000
DTEND;TZID=America/New_York:20240620T193000
DTSTAMP:20260424T091850
CREATED:20231212T190239Z
LAST-MODIFIED:20241023T180439Z
UID:10026251-1718910000-1718911800@ohavizedek.org
SUMMARY:Minyan (Online)
DESCRIPTION:Ohavi Zedek offers regular minyan services to meet the worship needs of our community and especially to aid those members of our community who are reciting Kaddish in memory of a recently deceased loved one or on a Yahrzeit. Services are held Sunday-Thursday evenings at 7:00 on Zoom. Ohavi Zedek’s minyan is traditional and egalitarian. Mincha and Maariv are recited at evening services when the services begin before dark\, only Ma’ariv is recited once we reach the point in the year when services start after dark. \nIf you are planning to attend a service to recite Kaddish please fill out this form to let us know so we can make sure there is a minyan present. \nClick here to access the Weekday Siddur Lev Shalem used during our evening Minyan services. \nZoom link is below under the heading ‘Website’. \nPlease make your full first and last name viewable on Zoom\, so we know who you are and can admit you.
URL:https://ohavizedek.org/event/minyan-225/2024-06-20/
LOCATION:Zoom
CATEGORIES:Minyan,Worship Services
ATTACH;FMTTYPE=image/png:https://ohavizedek.org/wp-content/uploads/2023/10/Minyan.png
END:VEVENT
BEGIN:VEVENT
DTSTART;TZID=America/New_York:20240621T180000
DTEND;TZID=America/New_York:20240621T193000
DTSTAMP:20260424T091850
CREATED:20231212T184743Z
LAST-MODIFIED:20241029T185513Z
UID:10026049-1718992800-1718998200@ohavizedek.org
SUMMARY:Kabbalat Shabbat
DESCRIPTION:Join Rabbi Aaron for a joyful\, instrumental Friday Night service. \nJoin in-person or on Zoom (link below). \nJoining by Zoom?  Please make your full first and last name viewable on Zoom\, so we know who you are and can admit you.
URL:https://ohavizedek.org/event/kabbalat-shabbat-61-11/2024-06-21/
LOCATION:Ohavi Zedek Synagogue\, 188 North Prospect Street\, Burlington\, VT\, 05401\, United States
CATEGORIES:Worship Services
ATTACH;FMTTYPE=image/jpeg:https://ohavizedek.org/wp-content/uploads/2023/12/kshabbat-2.jpg
GEO:44.486379;-73.201175
X-APPLE-STRUCTURED-LOCATION;VALUE=URI;X-ADDRESS=Ohavi Zedek Synagogue 188 North Prospect Street Burlington VT 05401 United States;X-APPLE-RADIUS=500;X-TITLE=188 North Prospect Street:geo:-73.201175,44.486379
END:VEVENT
END:VCALENDAR