BEGIN:VCALENDAR
VERSION:2.0
PRODID:-//Ohavi Zedek Synagogue - ECPv6.15.17.1//NONSGML v1.0//EN
CALSCALE:GREGORIAN
METHOD:PUBLISH
X-ORIGINAL-URL:https://ohavizedek.org
X-WR-CALDESC:Events for Ohavi Zedek Synagogue
REFRESH-INTERVAL;VALUE=DURATION:PT1H
X-Robots-Tag:noindex
X-PUBLISHED-TTL:PT1H
BEGIN:VTIMEZONE
TZID:America/New_York
BEGIN:DAYLIGHT
TZOFFSETFROM:-0500
TZOFFSETTO:-0400
TZNAME:EDT
DTSTART:20230312T070000
END:DAYLIGHT
BEGIN:STANDARD
TZOFFSETFROM:-0400
TZOFFSETTO:-0500
TZNAME:EST
DTSTART:20231105T060000
END:STANDARD
BEGIN:DAYLIGHT
TZOFFSETFROM:-0500
TZOFFSETTO:-0400
TZNAME:EDT
DTSTART:20240310T070000
END:DAYLIGHT
BEGIN:STANDARD
TZOFFSETFROM:-0400
TZOFFSETTO:-0500
TZNAME:EST
DTSTART:20241103T060000
END:STANDARD
BEGIN:DAYLIGHT
TZOFFSETFROM:-0500
TZOFFSETTO:-0400
TZNAME:EDT
DTSTART:20250309T070000
END:DAYLIGHT
BEGIN:STANDARD
TZOFFSETFROM:-0400
TZOFFSETTO:-0500
TZNAME:EST
DTSTART:20251102T060000
END:STANDARD
END:VTIMEZONE
BEGIN:VEVENT
DTSTART;TZID=America/New_York:20240811T120000
DTEND;TZID=America/New_York:20240811T170000
DTSTAMP:20260423T103631
CREATED:20240520T032213Z
LAST-MODIFIED:20260401T191630Z
UID:10027384-1723377600-1723395600@ohavizedek.org
SUMMARY:Open House at the Browns' - Summer 2024
DESCRIPTION:Open House at the Home of the Browns \nWhere: The Browns’ home in St. Albans\, VT. \nWhen: Sunday\, August 11\, 2024 at noon. \n\n\n\nSit on the porch and enjoy the view!\nSchmooze with your friends!\nHike if you like!\nPlenty to eat!\nThe lox will flow like water!\n\nPlease RSVP Here
URL:https://ohavizedek.org/event/open-house-at-the-browns-summer-2024/
LOCATION:Ohavi Zedek Synagogue\, 188 North Prospect Street\, Burlington\, VT\, 05401\, United States
CATEGORIES:Community Events
GEO:44.486379;-73.201175
X-APPLE-STRUCTURED-LOCATION;VALUE=URI;X-ADDRESS=Ohavi Zedek Synagogue 188 North Prospect Street Burlington VT 05401 United States;X-APPLE-RADIUS=500;X-TITLE=188 North Prospect Street:geo:-73.201175,44.486379
END:VEVENT
BEGIN:VEVENT
DTSTART;TZID=America/New_York:20240811T190000
DTEND;TZID=America/New_York:20240811T193000
DTSTAMP:20260423T103631
CREATED:20231212T190239Z
LAST-MODIFIED:20241023T180439Z
UID:10026287-1723402800-1723404600@ohavizedek.org
SUMMARY:Minyan (Online)
DESCRIPTION:Ohavi Zedek offers regular minyan services to meet the worship needs of our community and especially to aid those members of our community who are reciting Kaddish in memory of a recently deceased loved one or on a Yahrzeit. Services are held Sunday-Thursday evenings at 7:00 on Zoom. Ohavi Zedek’s minyan is traditional and egalitarian. Mincha and Maariv are recited at evening services when the services begin before dark\, only Ma’ariv is recited once we reach the point in the year when services start after dark. \nIf you are planning to attend a service to recite Kaddish please fill out this form to let us know so we can make sure there is a minyan present. \nClick here to access the Weekday Siddur Lev Shalem used during our evening Minyan services. \nZoom link is below under the heading ‘Website’. \nPlease make your full first and last name viewable on Zoom\, so we know who you are and can admit you.
URL:https://ohavizedek.org/event/minyan-225/2024-08-11/
LOCATION:Zoom
CATEGORIES:Minyan,Worship Services
ATTACH;FMTTYPE=image/png:https://ohavizedek.org/wp-content/uploads/2023/10/Minyan.png
END:VEVENT
BEGIN:VEVENT
DTSTART;TZID=America/New_York:20240812T090000
DTEND;TZID=America/New_York:20240812T160000
DTSTAMP:20260423T103631
CREATED:20240617T144411Z
LAST-MODIFIED:20240617T144411Z
UID:10027425-1723453200-1723478400@ohavizedek.org
SUMMARY:Summer Day Camp @ OZ
DESCRIPTION:Campers\, 5-9 years old\, get to have some good old fashioned summer fun at OZ – arts and crafts\, science and nature\, drama\, sports\, playground time\, guest speakers\, field trips with plenty of time to just be kids! Snacks and lunch provided for everyone.
URL:https://ohavizedek.org/event/summer-day-camp-oz/2024-08-12/
LOCATION:Ohavi Zedek Synagogue\, 188 North Prospect Street\, Burlington\, VT\, 05401\, United States
CATEGORIES:Hebrew School
GEO:44.486379;-73.201175
X-APPLE-STRUCTURED-LOCATION;VALUE=URI;X-ADDRESS=Ohavi Zedek Synagogue 188 North Prospect Street Burlington VT 05401 United States;X-APPLE-RADIUS=500;X-TITLE=188 North Prospect Street:geo:-73.201175,44.486379
END:VEVENT
BEGIN:VEVENT
DTSTART;TZID=America/New_York:20240812T190000
DTEND;TZID=America/New_York:20240812T193000
DTSTAMP:20260423T103631
CREATED:20240812T173407Z
LAST-MODIFIED:20240812T173409Z
UID:10026288-1723489200-1723491000@ohavizedek.org
SUMMARY:Minyan - No Minyan Aug 12.  We will gather for Tisha B’avat 8pm.
DESCRIPTION:Please see the 8pm event listing for tisha b’av. \n\nOhavi Zedek offers regular minyan services to meet the worship needs of our community and especially to aid those members of our community who are reciting Kaddish in memory of a recently deceased loved one or on a Yahrzeit. Services are held Sunday-Thursday evenings at 7:00. Ohavi Zedek’s minyan is traditional and egalitarian. Mincha and Maariv are recited at evening services when the services begin before dark\, only Ma’ariv is recited once we reach the point in the year when services start after dark. \nIf you are planning to attend a service to recite Kaddish please fill out this form to let us know so we can make sure there is a minyan present. \nClick here to access the Weekday Siddur Lev Shalem used during our evening Minyan services. \nZoom link is below under the heading ‘Website’. \nPlease make your full first and last name viewable on Zoom\, so we know who you are and can admit you.
URL:https://ohavizedek.org/event/minyan-225-4/
LOCATION:Ohavi Zedek Synagogue\, 188 North Prospect Street\, Burlington\, VT\, 05401\, United States
CATEGORIES:Worship Services
ATTACH;FMTTYPE=image/png:https://ohavizedek.org/wp-content/uploads/2023/10/Minyan.png
GEO:44.486379;-73.201175
X-APPLE-STRUCTURED-LOCATION;VALUE=URI;X-ADDRESS=Ohavi Zedek Synagogue 188 North Prospect Street Burlington VT 05401 United States;X-APPLE-RADIUS=500;X-TITLE=188 North Prospect Street:geo:-73.201175,44.486379
END:VEVENT
BEGIN:VEVENT
DTSTART;TZID=America/New_York:20240812T200000
DTEND;TZID=America/New_York:20240812T210000
DTSTAMP:20260423T103631
CREATED:20240731T174949Z
LAST-MODIFIED:20240812T174122Z
UID:10028153-1723492800-1723496400@ohavizedek.org
SUMMARY:Tisha B'av Evening Services
DESCRIPTION:Taking place in the Samuelson Saiger Sanctuary\, and on Zoom.
URL:https://ohavizedek.org/event/tisha-bav-evening-services/
LOCATION:Ohavi Zedek Synagogue\, 188 North Prospect Street\, Burlington\, VT\, 05401\, United States
CATEGORIES:Holiday
GEO:44.486379;-73.201175
X-APPLE-STRUCTURED-LOCATION;VALUE=URI;X-ADDRESS=Ohavi Zedek Synagogue 188 North Prospect Street Burlington VT 05401 United States;X-APPLE-RADIUS=500;X-TITLE=188 North Prospect Street:geo:-73.201175,44.486379
END:VEVENT
BEGIN:VEVENT
DTSTART;TZID=America/New_York:20240813T083000
DTEND;TZID=America/New_York:20240813T093000
DTSTAMP:20260423T103631
CREATED:20240731T175034Z
LAST-MODIFIED:20240812T173911Z
UID:10028154-1723537800-1723541400@ohavizedek.org
SUMMARY:Tisha B'av Morning Services
DESCRIPTION:Taking place in the Samuelson Saiger Sanctuary\, and on Zoom.
URL:https://ohavizedek.org/event/tisha-bav-morning-services/
LOCATION:Ohavi Zedek Synagogue\, 188 North Prospect Street\, Burlington\, VT\, 05401\, United States
CATEGORIES:Holiday
GEO:44.486379;-73.201175
X-APPLE-STRUCTURED-LOCATION;VALUE=URI;X-ADDRESS=Ohavi Zedek Synagogue 188 North Prospect Street Burlington VT 05401 United States;X-APPLE-RADIUS=500;X-TITLE=188 North Prospect Street:geo:-73.201175,44.486379
END:VEVENT
BEGIN:VEVENT
DTSTART;TZID=America/New_York:20240813T090000
DTEND;TZID=America/New_York:20240813T160000
DTSTAMP:20260423T103631
CREATED:20240617T144411Z
LAST-MODIFIED:20240617T144411Z
UID:10027426-1723539600-1723564800@ohavizedek.org
SUMMARY:Summer Day Camp @ OZ
DESCRIPTION:Campers\, 5-9 years old\, get to have some good old fashioned summer fun at OZ – arts and crafts\, science and nature\, drama\, sports\, playground time\, guest speakers\, field trips with plenty of time to just be kids! Snacks and lunch provided for everyone.
URL:https://ohavizedek.org/event/summer-day-camp-oz/2024-08-13/
LOCATION:Ohavi Zedek Synagogue\, 188 North Prospect Street\, Burlington\, VT\, 05401\, United States
CATEGORIES:Hebrew School
GEO:44.486379;-73.201175
X-APPLE-STRUCTURED-LOCATION;VALUE=URI;X-ADDRESS=Ohavi Zedek Synagogue 188 North Prospect Street Burlington VT 05401 United States;X-APPLE-RADIUS=500;X-TITLE=188 North Prospect Street:geo:-73.201175,44.486379
END:VEVENT
BEGIN:VEVENT
DTSTART;TZID=America/New_York:20240813T093000
DTEND;TZID=America/New_York:20240813T113000
DTSTAMP:20260423T103631
CREATED:20240708T192214Z
LAST-MODIFIED:20240822T184749Z
UID:10027776-1723541400-1723548600@ohavizedek.org
SUMMARY:Elders Writing About Their Lives
DESCRIPTION:At this juncture in life’s journey\, elders have a unique perspective on the lives we’ve lived and our thoughts and feelings about that.  This writing group welcomes  first time or continuing participants.    We’ll use thoughtful writing prompts and rich discussion to help us knit together the story of our lives.  Led by Pat Doherty\,  we’ll meet the second Tuesday of every month via zoom from 9:30 to 11:30
URL:https://ohavizedek.org/event/elders-writing-about-their-lives/2024-08-13/
LOCATION:Ohavi Zedek Synagogue\, 188 North Prospect Street\, Burlington\, VT\, 05401\, United States
CATEGORIES:Adult Learning
GEO:44.486379;-73.201175
X-APPLE-STRUCTURED-LOCATION;VALUE=URI;X-ADDRESS=Ohavi Zedek Synagogue 188 North Prospect Street Burlington VT 05401 United States;X-APPLE-RADIUS=500;X-TITLE=188 North Prospect Street:geo:-73.201175,44.486379
END:VEVENT
BEGIN:VEVENT
DTSTART;TZID=America/New_York:20240813T094500
DTEND;TZID=America/New_York:20240813T111500
DTSTAMP:20260423T103631
CREATED:20240619T132158Z
LAST-MODIFIED:20240807T185232Z
UID:10027488-1723542300-1723547700@ohavizedek.org
SUMMARY:Kulanu Antisemitism Workgroup Meeting
DESCRIPTION:
URL:https://ohavizedek.org/event/kulanu-antisemitism-workgroup-meeting-2/
LOCATION:Ohavi Zedek Synagogue\, 188 North Prospect Street\, Burlington\, VT\, 05401\, United States
CATEGORIES:Committee Meetings,Community Events
ATTACH;FMTTYPE=image/png:https://ohavizedek.org/wp-content/uploads/2024/06/kulanu-1.png
GEO:44.486379;-73.201175
X-APPLE-STRUCTURED-LOCATION;VALUE=URI;X-ADDRESS=Ohavi Zedek Synagogue 188 North Prospect Street Burlington VT 05401 United States;X-APPLE-RADIUS=500;X-TITLE=188 North Prospect Street:geo:-73.201175,44.486379
END:VEVENT
BEGIN:VEVENT
DTSTART;TZID=America/New_York:20240813T190000
DTEND;TZID=America/New_York:20240813T193000
DTSTAMP:20260423T103631
CREATED:20231212T190239Z
LAST-MODIFIED:20241023T180439Z
UID:10026289-1723575600-1723577400@ohavizedek.org
SUMMARY:Minyan (Online)
DESCRIPTION:Ohavi Zedek offers regular minyan services to meet the worship needs of our community and especially to aid those members of our community who are reciting Kaddish in memory of a recently deceased loved one or on a Yahrzeit. Services are held Sunday-Thursday evenings at 7:00 on Zoom. Ohavi Zedek’s minyan is traditional and egalitarian. Mincha and Maariv are recited at evening services when the services begin before dark\, only Ma’ariv is recited once we reach the point in the year when services start after dark. \nIf you are planning to attend a service to recite Kaddish please fill out this form to let us know so we can make sure there is a minyan present. \nClick here to access the Weekday Siddur Lev Shalem used during our evening Minyan services. \nZoom link is below under the heading ‘Website’. \nPlease make your full first and last name viewable on Zoom\, so we know who you are and can admit you.
URL:https://ohavizedek.org/event/minyan-225/2024-08-13/
LOCATION:Zoom
CATEGORIES:Minyan,Worship Services
ATTACH;FMTTYPE=image/png:https://ohavizedek.org/wp-content/uploads/2023/10/Minyan.png
END:VEVENT
BEGIN:VEVENT
DTSTART;TZID=America/New_York:20240814T090000
DTEND;TZID=America/New_York:20240814T160000
DTSTAMP:20260423T103631
CREATED:20240617T144411Z
LAST-MODIFIED:20240617T144411Z
UID:10027427-1723626000-1723651200@ohavizedek.org
SUMMARY:Summer Day Camp @ OZ
DESCRIPTION:Campers\, 5-9 years old\, get to have some good old fashioned summer fun at OZ – arts and crafts\, science and nature\, drama\, sports\, playground time\, guest speakers\, field trips with plenty of time to just be kids! Snacks and lunch provided for everyone.
URL:https://ohavizedek.org/event/summer-day-camp-oz/2024-08-14/
LOCATION:Ohavi Zedek Synagogue\, 188 North Prospect Street\, Burlington\, VT\, 05401\, United States
CATEGORIES:Hebrew School
GEO:44.486379;-73.201175
X-APPLE-STRUCTURED-LOCATION;VALUE=URI;X-ADDRESS=Ohavi Zedek Synagogue 188 North Prospect Street Burlington VT 05401 United States;X-APPLE-RADIUS=500;X-TITLE=188 North Prospect Street:geo:-73.201175,44.486379
END:VEVENT
BEGIN:VEVENT
DTSTART;TZID=America/New_York:20240814T103000
DTEND;TZID=America/New_York:20240814T123000
DTSTAMP:20260423T103631
CREATED:20230213T192825Z
LAST-MODIFIED:20241029T151644Z
UID:10025104-1723631400-1723638600@ohavizedek.org
SUMMARY:Midweek Mah Jongg
DESCRIPTION:Stop by every Wednesday from 10:30 AM – 12:30 PM for Mah Jongg \nAdditionally\, fill out this interest form to be notified for upcoming classes
URL:https://ohavizedek.org/event/mid-week-mah-jongg-2023-04-26-2023-07-05-2023-11-15-2023-12-06/2024-08-14/
LOCATION:Ohavi Zedek Synagogue\, 188 North Prospect Street\, Burlington\, VT\, 05401\, United States
CATEGORIES:Community Events
ATTACH;FMTTYPE=image/jpeg:https://ohavizedek.org/wp-content/uploads/2023/02/1.jpg
GEO:44.486379;-73.201175
X-APPLE-STRUCTURED-LOCATION;VALUE=URI;X-ADDRESS=Ohavi Zedek Synagogue 188 North Prospect Street Burlington VT 05401 United States;X-APPLE-RADIUS=500;X-TITLE=188 North Prospect Street:geo:-73.201175,44.486379
END:VEVENT
BEGIN:VEVENT
DTSTART;TZID=America/New_York:20240814T183000
DTEND;TZID=America/New_York:20240814T203000
DTSTAMP:20260423T103631
CREATED:20231011T192414Z
LAST-MODIFIED:20241029T152243Z
UID:10025379-1723660200-1723667400@ohavizedek.org
SUMMARY:Evening Midweek Mah Jongg
DESCRIPTION:Evening midweek Mah Jongg from 6:30 PM – 8:30 PM\nPlease RSVP to lyndasiegel2@gmail.com for availability \nAdditionally\, fill out this interest form to be notified for upcoming classes
URL:https://ohavizedek.org/event/midweek-mah-jongg-evenings-4/2024-08-14/
LOCATION:Ohavi Zedek Synagogue\, 188 North Prospect Street\, Burlington\, VT\, 05401\, United States
CATEGORIES:Community Events
ATTACH;FMTTYPE=image/jpeg:https://ohavizedek.org/wp-content/uploads/2023/10/Homepage-Calender-image-1.jpg
GEO:44.486379;-73.201175
X-APPLE-STRUCTURED-LOCATION;VALUE=URI;X-ADDRESS=Ohavi Zedek Synagogue 188 North Prospect Street Burlington VT 05401 United States;X-APPLE-RADIUS=500;X-TITLE=188 North Prospect Street:geo:-73.201175,44.486379
END:VEVENT
BEGIN:VEVENT
DTSTART;TZID=America/New_York:20240814T190000
DTEND;TZID=America/New_York:20240814T193000
DTSTAMP:20260423T103631
CREATED:20231212T190239Z
LAST-MODIFIED:20241023T180439Z
UID:10026290-1723662000-1723663800@ohavizedek.org
SUMMARY:Minyan (Online)
DESCRIPTION:Ohavi Zedek offers regular minyan services to meet the worship needs of our community and especially to aid those members of our community who are reciting Kaddish in memory of a recently deceased loved one or on a Yahrzeit. Services are held Sunday-Thursday evenings at 7:00 on Zoom. Ohavi Zedek’s minyan is traditional and egalitarian. Mincha and Maariv are recited at evening services when the services begin before dark\, only Ma’ariv is recited once we reach the point in the year when services start after dark. \nIf you are planning to attend a service to recite Kaddish please fill out this form to let us know so we can make sure there is a minyan present. \nClick here to access the Weekday Siddur Lev Shalem used during our evening Minyan services. \nZoom link is below under the heading ‘Website’. \nPlease make your full first and last name viewable on Zoom\, so we know who you are and can admit you.
URL:https://ohavizedek.org/event/minyan-225/2024-08-14/
LOCATION:Zoom
CATEGORIES:Minyan,Worship Services
ATTACH;FMTTYPE=image/png:https://ohavizedek.org/wp-content/uploads/2023/10/Minyan.png
END:VEVENT
BEGIN:VEVENT
DTSTART;TZID=America/New_York:20240814T193000
DTEND;TZID=America/New_York:20240814T213000
DTSTAMP:20260423T103631
CREATED:20240807T155410Z
LAST-MODIFIED:20240807T181452Z
UID:10028168-1723663800-1723671000@ohavizedek.org
SUMMARY:An Evening of Drop in Folk Dancing
DESCRIPTION:Join us with special guest teacher Riki Adivi for an evening of international/Israeli folk dance. Riki teaches in the Toronto\, Canada area\, and is a very clear\, fun\, upbeat\, and knowledgeable instructor. We are lucky to have this opportunity as she passes through Burlington on her way to Mainewoods Folk Dance Camp.
URL:https://ohavizedek.org/event/an-evening-of-drop-in-folk-dancing/
LOCATION:Ohavi Zedek Synagogue\, 188 North Prospect Street\, Burlington\, VT\, 05401\, United States
CATEGORIES:Community Events
ATTACH;FMTTYPE=image/png:https://ohavizedek.org/wp-content/uploads/2024/08/Folk-dancing-poster.png
GEO:44.486379;-73.201175
X-APPLE-STRUCTURED-LOCATION;VALUE=URI;X-ADDRESS=Ohavi Zedek Synagogue 188 North Prospect Street Burlington VT 05401 United States;X-APPLE-RADIUS=500;X-TITLE=188 North Prospect Street:geo:-73.201175,44.486379
END:VEVENT
BEGIN:VEVENT
DTSTART;TZID=America/New_York:20240815T090000
DTEND;TZID=America/New_York:20240815T160000
DTSTAMP:20260423T103631
CREATED:20240617T144411Z
LAST-MODIFIED:20240617T144411Z
UID:10027428-1723712400-1723737600@ohavizedek.org
SUMMARY:Summer Day Camp @ OZ
DESCRIPTION:Campers\, 5-9 years old\, get to have some good old fashioned summer fun at OZ – arts and crafts\, science and nature\, drama\, sports\, playground time\, guest speakers\, field trips with plenty of time to just be kids! Snacks and lunch provided for everyone.
URL:https://ohavizedek.org/event/summer-day-camp-oz/2024-08-15/
LOCATION:Ohavi Zedek Synagogue\, 188 North Prospect Street\, Burlington\, VT\, 05401\, United States
CATEGORIES:Hebrew School
GEO:44.486379;-73.201175
X-APPLE-STRUCTURED-LOCATION;VALUE=URI;X-ADDRESS=Ohavi Zedek Synagogue 188 North Prospect Street Burlington VT 05401 United States;X-APPLE-RADIUS=500;X-TITLE=188 North Prospect Street:geo:-73.201175,44.486379
END:VEVENT
BEGIN:VEVENT
DTSTART;TZID=America/New_York:20240815T190000
DTEND;TZID=America/New_York:20240815T193000
DTSTAMP:20260423T103631
CREATED:20231212T190239Z
LAST-MODIFIED:20241023T180439Z
UID:10026291-1723748400-1723750200@ohavizedek.org
SUMMARY:Minyan (Online)
DESCRIPTION:Ohavi Zedek offers regular minyan services to meet the worship needs of our community and especially to aid those members of our community who are reciting Kaddish in memory of a recently deceased loved one or on a Yahrzeit. Services are held Sunday-Thursday evenings at 7:00 on Zoom. Ohavi Zedek’s minyan is traditional and egalitarian. Mincha and Maariv are recited at evening services when the services begin before dark\, only Ma’ariv is recited once we reach the point in the year when services start after dark. \nIf you are planning to attend a service to recite Kaddish please fill out this form to let us know so we can make sure there is a minyan present. \nClick here to access the Weekday Siddur Lev Shalem used during our evening Minyan services. \nZoom link is below under the heading ‘Website’. \nPlease make your full first and last name viewable on Zoom\, so we know who you are and can admit you.
URL:https://ohavizedek.org/event/minyan-225/2024-08-15/
LOCATION:Zoom
CATEGORIES:Minyan,Worship Services
ATTACH;FMTTYPE=image/png:https://ohavizedek.org/wp-content/uploads/2023/10/Minyan.png
END:VEVENT
BEGIN:VEVENT
DTSTART;TZID=America/New_York:20240816T090000
DTEND;TZID=America/New_York:20240816T160000
DTSTAMP:20260423T103631
CREATED:20240617T144411Z
LAST-MODIFIED:20240617T144411Z
UID:10027429-1723798800-1723824000@ohavizedek.org
SUMMARY:Summer Day Camp @ OZ
DESCRIPTION:Campers\, 5-9 years old\, get to have some good old fashioned summer fun at OZ – arts and crafts\, science and nature\, drama\, sports\, playground time\, guest speakers\, field trips with plenty of time to just be kids! Snacks and lunch provided for everyone.
URL:https://ohavizedek.org/event/summer-day-camp-oz/2024-08-16/
LOCATION:Ohavi Zedek Synagogue\, 188 North Prospect Street\, Burlington\, VT\, 05401\, United States
CATEGORIES:Hebrew School
GEO:44.486379;-73.201175
X-APPLE-STRUCTURED-LOCATION;VALUE=URI;X-ADDRESS=Ohavi Zedek Synagogue 188 North Prospect Street Burlington VT 05401 United States;X-APPLE-RADIUS=500;X-TITLE=188 North Prospect Street:geo:-73.201175,44.486379
END:VEVENT
BEGIN:VEVENT
DTSTART;TZID=America/New_York:20240816T180000
DTEND;TZID=America/New_York:20240816T193000
DTSTAMP:20260423T103631
CREATED:20240816T180049Z
LAST-MODIFIED:20240816T180050Z
UID:10026056-1723831200-1723836600@ohavizedek.org
SUMMARY:Kabbalat Shabbat with Cantor Silverberg
DESCRIPTION:Join Rabbi Aaron for a joyful\, instrumental Friday Night service. \nJoin in-person\, on Zoom (link below)\, or on livestream. \nJoining by Zoom?  Please make your full first and last name viewable on Zoom\, so we know who you are and can admit you.
URL:https://ohavizedek.org/event/kabbalat-shabbat-61-9/
LOCATION:Ohavi Zedek Synagogue\, 188 North Prospect Street\, Burlington\, VT\, 05401\, United States
CATEGORIES:Worship Services
GEO:44.486379;-73.201175
X-APPLE-STRUCTURED-LOCATION;VALUE=URI;X-ADDRESS=Ohavi Zedek Synagogue 188 North Prospect Street Burlington VT 05401 United States;X-APPLE-RADIUS=500;X-TITLE=188 North Prospect Street:geo:-73.201175,44.486379
END:VEVENT
BEGIN:VEVENT
DTSTART;TZID=America/New_York:20240817T083000
DTEND;TZID=America/New_York:20240817T091500
DTSTAMP:20260423T103631
CREATED:20240717T163448Z
LAST-MODIFIED:20240816T175920Z
UID:10026564-1723883400-1723886100@ohavizedek.org
SUMMARY:Canceled Torah Study
DESCRIPTION:Torah study is unfortunately canceled for this Shabbat\, but will resume next week.
URL:https://ohavizedek.org/event/torah-study-with-rabbi-aaron-3-9/
LOCATION:Ohavi Zedek – Samuelson Saiger Sanctuary
CATEGORIES:Adult Learning
END:VEVENT
BEGIN:VEVENT
DTSTART;TZID=America/New_York:20240817T091500
DTEND;TZID=America/New_York:20240817T113000
DTSTAMP:20260423T103631
CREATED:20240816T180218Z
LAST-MODIFIED:20240816T180220Z
UID:10027516-1723886100-1723894200@ohavizedek.org
SUMMARY:Shabbat Morning Services with Cantor Silverberg
DESCRIPTION:Website / Zoom Link : Click Here \nOur Shabbat morning service is traditional egalitarian with new melodies and kavannot (spiritual intentions) introduced and incorporated. \nFollowing services\, we often host a Kiddush – a lunch donated by synagogue members or b mitzvah families\, where all are welcome. Saturday morning services begin at 9:15 AM. \nOur morning service will feature our Shabbat Village: \n– An intentional place for families\, children and anyone to schmooze and be together during the time of Shabbat services \n– No pressure to join in the service (though of course all are welcome to attend as much or little as works for you) \n– Families may access the playground\, gardens and trails \n– Everyone is invited to the kiddush (meal) afterward (when applicable) \n– Children’s books and a livestream of services will be provided. Currently\, children will need to be accompanied by their adult(s).  Parents may choose to team up – it takes a village! \nTorah Study typically takes place at 8:30 am before services.  Check our calendar for details.
URL:https://ohavizedek.org/event/shabbat-morning-services-7/
LOCATION:Ohavi Zedek Synagogue\, 188 North Prospect Street\, Burlington\, VT\, 05401\, United States
GEO:44.486379;-73.201175
X-APPLE-STRUCTURED-LOCATION;VALUE=URI;X-ADDRESS=Ohavi Zedek Synagogue 188 North Prospect Street Burlington VT 05401 United States;X-APPLE-RADIUS=500;X-TITLE=188 North Prospect Street:geo:-73.201175,44.486379
END:VEVENT
END:VCALENDAR