BEGIN:VCALENDAR
VERSION:2.0
PRODID:-//Ohavi Zedek Synagogue - ECPv6.15.17.1//NONSGML v1.0//EN
CALSCALE:GREGORIAN
METHOD:PUBLISH
X-WR-CALNAME:Ohavi Zedek Synagogue
X-ORIGINAL-URL:https://ohavizedek.org
X-WR-CALDESC:Events for Ohavi Zedek Synagogue
REFRESH-INTERVAL;VALUE=DURATION:PT1H
X-Robots-Tag:noindex
X-PUBLISHED-TTL:PT1H
BEGIN:VTIMEZONE
TZID:America/New_York
BEGIN:DAYLIGHT
TZOFFSETFROM:-0500
TZOFFSETTO:-0400
TZNAME:EDT
DTSTART:20230312T070000
END:DAYLIGHT
BEGIN:STANDARD
TZOFFSETFROM:-0400
TZOFFSETTO:-0500
TZNAME:EST
DTSTART:20231105T060000
END:STANDARD
BEGIN:DAYLIGHT
TZOFFSETFROM:-0500
TZOFFSETTO:-0400
TZNAME:EDT
DTSTART:20240310T070000
END:DAYLIGHT
BEGIN:STANDARD
TZOFFSETFROM:-0400
TZOFFSETTO:-0500
TZNAME:EST
DTSTART:20241103T060000
END:STANDARD
BEGIN:DAYLIGHT
TZOFFSETFROM:-0500
TZOFFSETTO:-0400
TZNAME:EDT
DTSTART:20250309T070000
END:DAYLIGHT
BEGIN:STANDARD
TZOFFSETFROM:-0400
TZOFFSETTO:-0500
TZNAME:EST
DTSTART:20251102T060000
END:STANDARD
END:VTIMEZONE
BEGIN:VEVENT
DTSTART;TZID=America/New_York:20241222T190000
DTEND;TZID=America/New_York:20241222T193000
DTSTAMP:20260421T175705
CREATED:20231212T190239Z
LAST-MODIFIED:20241023T180439Z
UID:10026382-1734894000-1734895800@ohavizedek.org
SUMMARY:Minyan (Online)
DESCRIPTION:Ohavi Zedek offers regular minyan services to meet the worship needs of our community and especially to aid those members of our community who are reciting Kaddish in memory of a recently deceased loved one or on a Yahrzeit. Services are held Sunday-Thursday evenings at 7:00 on Zoom. Ohavi Zedek’s minyan is traditional and egalitarian. Mincha and Maariv are recited at evening services when the services begin before dark\, only Ma’ariv is recited once we reach the point in the year when services start after dark. \nIf you are planning to attend a service to recite Kaddish please fill out this form to let us know so we can make sure there is a minyan present. \nClick here to access the Weekday Siddur Lev Shalem used during our evening Minyan services. \nZoom link is below under the heading ‘Website’. \nPlease make your full first and last name viewable on Zoom\, so we know who you are and can admit you.
URL:https://ohavizedek.org/event/minyan-225/2024-12-22/
LOCATION:Zoom
CATEGORIES:Minyan,Worship Services
ATTACH;FMTTYPE=image/png:https://ohavizedek.org/wp-content/uploads/2023/10/Minyan.png
END:VEVENT
BEGIN:VEVENT
DTSTART;TZID=America/New_York:20241223T190000
DTEND;TZID=America/New_York:20241223T193000
DTSTAMP:20260421T175705
CREATED:20231212T190239Z
LAST-MODIFIED:20241023T180439Z
UID:10026383-1734980400-1734982200@ohavizedek.org
SUMMARY:Minyan (Online)
DESCRIPTION:Ohavi Zedek offers regular minyan services to meet the worship needs of our community and especially to aid those members of our community who are reciting Kaddish in memory of a recently deceased loved one or on a Yahrzeit. Services are held Sunday-Thursday evenings at 7:00 on Zoom. Ohavi Zedek’s minyan is traditional and egalitarian. Mincha and Maariv are recited at evening services when the services begin before dark\, only Ma’ariv is recited once we reach the point in the year when services start after dark. \nIf you are planning to attend a service to recite Kaddish please fill out this form to let us know so we can make sure there is a minyan present. \nClick here to access the Weekday Siddur Lev Shalem used during our evening Minyan services. \nZoom link is below under the heading ‘Website’. \nPlease make your full first and last name viewable on Zoom\, so we know who you are and can admit you.
URL:https://ohavizedek.org/event/minyan-225/2024-12-23/
LOCATION:Zoom
CATEGORIES:Minyan,Worship Services
ATTACH;FMTTYPE=image/png:https://ohavizedek.org/wp-content/uploads/2023/10/Minyan.png
END:VEVENT
BEGIN:VEVENT
DTSTART;TZID=America/New_York:20241224T190000
DTEND;TZID=America/New_York:20241224T193000
DTSTAMP:20260421T175705
CREATED:20231212T190239Z
LAST-MODIFIED:20241023T180439Z
UID:10026384-1735066800-1735068600@ohavizedek.org
SUMMARY:Minyan (Online)
DESCRIPTION:Ohavi Zedek offers regular minyan services to meet the worship needs of our community and especially to aid those members of our community who are reciting Kaddish in memory of a recently deceased loved one or on a Yahrzeit. Services are held Sunday-Thursday evenings at 7:00 on Zoom. Ohavi Zedek’s minyan is traditional and egalitarian. Mincha and Maariv are recited at evening services when the services begin before dark\, only Ma’ariv is recited once we reach the point in the year when services start after dark. \nIf you are planning to attend a service to recite Kaddish please fill out this form to let us know so we can make sure there is a minyan present. \nClick here to access the Weekday Siddur Lev Shalem used during our evening Minyan services. \nZoom link is below under the heading ‘Website’. \nPlease make your full first and last name viewable on Zoom\, so we know who you are and can admit you.
URL:https://ohavizedek.org/event/minyan-225/2024-12-24/
LOCATION:Zoom
CATEGORIES:Minyan,Worship Services
ATTACH;FMTTYPE=image/png:https://ohavizedek.org/wp-content/uploads/2023/10/Minyan.png
END:VEVENT
BEGIN:VEVENT
DTSTART;TZID=America/New_York:20241225T130000
DTEND;TZID=America/New_York:20241225T170000
DTSTAMP:20260421T175705
CREATED:20241212T192737Z
LAST-MODIFIED:20241218T174606Z
UID:10029321-1735131600-1735146000@ohavizedek.org
SUMMARY:Community Fun Day: Chanukah Edition 
DESCRIPTION:Join us for an afternoon of games and fun\, including mah jongg\, Scrabble\, cribbage\, foosball\, and of course\, dreidel!\nCome for the afternoon\, or just the candle lighting at 4:30pm. Either way\, let’s fill the synagogue with joy and light! \nPlease bring: \n\nDessert or snack to share\nGames\n\nMenorah
URL:https://ohavizedek.org/event/community-fun-day-chanukah-edition/
LOCATION:Ohavi Zedek Social Hall\, 188 N. Prospect St\, Burlington\, VT\, 05401
CATEGORIES:Community Events
ATTACH;FMTTYPE=image/png:https://ohavizedek.org/wp-content/uploads/2024/12/funchan.png
GEO:44.486379;-73.201175
X-APPLE-STRUCTURED-LOCATION;VALUE=URI;X-ADDRESS=Ohavi Zedek Social Hall 188 N. Prospect St Burlington VT 05401;X-APPLE-RADIUS=500;X-TITLE=188 N. Prospect St:geo:-73.201175,44.486379
END:VEVENT
BEGIN:VEVENT
DTSTART;TZID=America/New_York:20241225T190000
DTEND;TZID=America/New_York:20241225T193000
DTSTAMP:20260421T175705
CREATED:20231212T190239Z
LAST-MODIFIED:20241023T180439Z
UID:10026385-1735153200-1735155000@ohavizedek.org
SUMMARY:Minyan (Online)
DESCRIPTION:Ohavi Zedek offers regular minyan services to meet the worship needs of our community and especially to aid those members of our community who are reciting Kaddish in memory of a recently deceased loved one or on a Yahrzeit. Services are held Sunday-Thursday evenings at 7:00 on Zoom. Ohavi Zedek’s minyan is traditional and egalitarian. Mincha and Maariv are recited at evening services when the services begin before dark\, only Ma’ariv is recited once we reach the point in the year when services start after dark. \nIf you are planning to attend a service to recite Kaddish please fill out this form to let us know so we can make sure there is a minyan present. \nClick here to access the Weekday Siddur Lev Shalem used during our evening Minyan services. \nZoom link is below under the heading ‘Website’. \nPlease make your full first and last name viewable on Zoom\, so we know who you are and can admit you.
URL:https://ohavizedek.org/event/minyan-225/2024-12-25/
LOCATION:Zoom
CATEGORIES:Minyan,Worship Services
ATTACH;FMTTYPE=image/png:https://ohavizedek.org/wp-content/uploads/2023/10/Minyan.png
END:VEVENT
BEGIN:VEVENT
DTSTART;TZID=America/New_York:20241226T140000
DTEND;TZID=America/New_York:20241226T160000
DTSTAMP:20260421T175705
CREATED:20241219T204638Z
LAST-MODIFIED:20241219T205010Z
UID:10029411-1735221600-1735228800@ohavizedek.org
SUMMARY:JCVT’s Family Hanukkah Glow Party and Concert with Joanie Leeds at ZenBarn
DESCRIPTION:Come celebrate Hanukkah with the catchy pop tunes of Grammy winner Joanie Leeds! Latkes\, dreidels\, and lots of Hanukkah fun as we light the second candle together. \nThis is event is free and open to all thanks to JCVT and a generous grant from the Covenant Foundation.
URL:https://ohavizedek.org/event/jcvts-family-hanukkah-glow-party-and-concert-with-joanie-leeds/
LOCATION:ZEN BARN\, WATERBURY\, VT
CATEGORIES:Community Events,Non-OZ Event
END:VEVENT
BEGIN:VEVENT
DTSTART;TZID=America/New_York:20241226T190000
DTEND;TZID=America/New_York:20241226T193000
DTSTAMP:20260421T175705
CREATED:20231212T190239Z
LAST-MODIFIED:20241023T180439Z
UID:10026386-1735239600-1735241400@ohavizedek.org
SUMMARY:Minyan (Online)
DESCRIPTION:Ohavi Zedek offers regular minyan services to meet the worship needs of our community and especially to aid those members of our community who are reciting Kaddish in memory of a recently deceased loved one or on a Yahrzeit. Services are held Sunday-Thursday evenings at 7:00 on Zoom. Ohavi Zedek’s minyan is traditional and egalitarian. Mincha and Maariv are recited at evening services when the services begin before dark\, only Ma’ariv is recited once we reach the point in the year when services start after dark. \nIf you are planning to attend a service to recite Kaddish please fill out this form to let us know so we can make sure there is a minyan present. \nClick here to access the Weekday Siddur Lev Shalem used during our evening Minyan services. \nZoom link is below under the heading ‘Website’. \nPlease make your full first and last name viewable on Zoom\, so we know who you are and can admit you.
URL:https://ohavizedek.org/event/minyan-225/2024-12-26/
LOCATION:Zoom
CATEGORIES:Minyan,Worship Services
ATTACH;FMTTYPE=image/png:https://ohavizedek.org/wp-content/uploads/2023/10/Minyan.png
END:VEVENT
BEGIN:VEVENT
DTSTART;TZID=America/New_York:20241227T180000
DTEND;TZID=America/New_York:20241227T200000
DTSTAMP:20260421T175705
CREATED:20241126T145725Z
LAST-MODIFIED:20241223T190747Z
UID:10029259-1735322400-1735329600@ohavizedek.org
SUMMARY:Shabbat Chanukah and Dinner
DESCRIPTION:Join us for the unique overlap of the Jewish Sabbath with the holiday of Chanukah as the lighting of the Shabbat candles coincides with that of the Chanukah menorah. In it’s essence\, Shabbat Chanukah is a beautiful blending of two important Jewish traditions\, creating a spiritually rich experience. \nWe invite you for a festive meal of lasagna\, prayers and lights\, in celebration of both the rest and sanctity of Shabbat\, and the miracles of Chanukah. \nRegister Here
URL:https://ohavizedek.org/event/shabbat-chanukah-and-dinner/
LOCATION:Ohavi Zedek Synagogue\, 188 North Prospect Street\, Burlington\, VT\, 05401\, United States
CATEGORIES:Worship Services
ATTACH;FMTTYPE=image/png:https://ohavizedek.org/wp-content/uploads/2024/11/appeal-1.png
GEO:44.486379;-73.201175
X-APPLE-STRUCTURED-LOCATION;VALUE=URI;X-ADDRESS=Ohavi Zedek Synagogue 188 North Prospect Street Burlington VT 05401 United States;X-APPLE-RADIUS=500;X-TITLE=188 North Prospect Street:geo:-73.201175,44.486379
END:VEVENT
BEGIN:VEVENT
DTSTART;TZID=America/New_York:20241228T091500
DTEND;TZID=America/New_York:20241228T113000
DTSTAMP:20260421T175705
CREATED:20241026T114450Z
LAST-MODIFIED:20241115T170203Z
UID:10027535-1735377300-1735385400@ohavizedek.org
SUMMARY:Shabbat Morning Services
DESCRIPTION:Our Shabbat morning service is traditional egalitarian with new melodies and kavannot (spiritual intentions) introduced and incorporated. \nFollowing services\, we often host a Kiddush – a lunch donated by synagogue members or b mitzvah families\, where all are welcome. Saturday morning services begin at 9:15 AM. \nOur morning service will feature our Shabbat Village: \n– An intentional place for families\, children and anyone to schmooze and be together during the time of Shabbat services \n– No pressure to join in the service (though of course all are welcome to attend as much or little as works for you) \n– Families may access the playground\, gardens and trails \n– Everyone is invited to the kiddush (meal) afterward (when applicable) \n– Children’s books and a video feed of services will be provided. Currently\, children will need to be accompanied by their adult(s). Parents may choose to team up – it takes a village! \nTorah Study typically takes place at 8:30 am before services. Check our calendar for details.
URL:https://ohavizedek.org/event/shabbat-morning-services-10/2024-12-28/
LOCATION:Ohavi Zedek Synagogue\, 188 North Prospect Street\, Burlington\, VT\, 05401\, United States
CATEGORIES:Worship Services
ATTACH;FMTTYPE=image/jpeg:https://ohavizedek.org/wp-content/uploads/2024/10/shabbat-morning.jpg
GEO:44.486379;-73.201175
X-APPLE-STRUCTURED-LOCATION;VALUE=URI;X-ADDRESS=Ohavi Zedek Synagogue 188 North Prospect Street Burlington VT 05401 United States;X-APPLE-RADIUS=500;X-TITLE=188 North Prospect Street:geo:-73.201175,44.486379
END:VEVENT
BEGIN:VEVENT
DTSTART;TZID=America/New_York:20241228T180000
DTEND;TZID=America/New_York:20241228T200000
DTSTAMP:20260421T175705
CREATED:20241206T164654Z
LAST-MODIFIED:20241224T140702Z
UID:10029318-1735408800-1735416000@ohavizedek.org
SUMMARY:Chana-Kava & Havdalah with Ruach HaMaqom
DESCRIPTION:Ohavi Zedek and Ruach HaMaqom join together in this celebration of Winter’s darkness and the light of hope kindled by the menorah’s flames. \nWe’ll start with Havdallah—the last light of Shabbat—and light our menorahs with it. Then Rabbi David\, along with Rabbi Aaron and Cantor Jessica will hold space for the most ancient of Jewish—human!—spiritual technologies: song and story. That’s where YOU come in! Let’s sing and story each other into increased light during the darkest week of the year while we sip soothing beverages. \nBYOMS&S – Bring Your Own Menorah (including candles)\, Song & Story! \nKava tea and sufganiyot/donuts will be served. Bring some snacks!
URL:https://ohavizedek.org/event/chana-kava-havdalah-with-ruach-hamaqom/
LOCATION:Ohavi Zedek Samuelson Saiger Sanctuary\, 188 North Prospect Street\, Burlington\, VT\, 05401\, United States
CATEGORIES:Worship Services
ATTACH;FMTTYPE=image/png:https://ohavizedek.org/wp-content/uploads/2024/12/channna.png
END:VEVENT
END:VCALENDAR