BEGIN:VCALENDAR
VERSION:2.0
PRODID:-//Ohavi Zedek Synagogue - ECPv6.15.17.1//NONSGML v1.0//EN
CALSCALE:GREGORIAN
METHOD:PUBLISH
X-ORIGINAL-URL:https://ohavizedek.org
X-WR-CALDESC:Events for Ohavi Zedek Synagogue
REFRESH-INTERVAL;VALUE=DURATION:PT1H
X-Robots-Tag:noindex
X-PUBLISHED-TTL:PT1H
BEGIN:VTIMEZONE
TZID:America/New_York
BEGIN:DAYLIGHT
TZOFFSETFROM:-0500
TZOFFSETTO:-0400
TZNAME:EDT
DTSTART:20240310T070000
END:DAYLIGHT
BEGIN:STANDARD
TZOFFSETFROM:-0400
TZOFFSETTO:-0500
TZNAME:EST
DTSTART:20241103T060000
END:STANDARD
BEGIN:DAYLIGHT
TZOFFSETFROM:-0500
TZOFFSETTO:-0400
TZNAME:EDT
DTSTART:20250309T070000
END:DAYLIGHT
BEGIN:STANDARD
TZOFFSETFROM:-0400
TZOFFSETTO:-0500
TZNAME:EST
DTSTART:20251102T060000
END:STANDARD
BEGIN:DAYLIGHT
TZOFFSETFROM:-0500
TZOFFSETTO:-0400
TZNAME:EDT
DTSTART:20260308T070000
END:DAYLIGHT
BEGIN:STANDARD
TZOFFSETFROM:-0400
TZOFFSETTO:-0500
TZNAME:EST
DTSTART:20261101T060000
END:STANDARD
END:VTIMEZONE
BEGIN:VEVENT
DTSTART;TZID=America/New_York:20250119T091500
DTEND;TZID=America/New_York:20250119T114500
DTSTAMP:20260422T072836
CREATED:20240617T151413Z
LAST-MODIFIED:20241025T180823Z
UID:10027462-1737278100-1737287100@ohavizedek.org
SUMMARY:Jewish Journeys (Hebrew School)
DESCRIPTION:JJ @ OZ classes meet
URL:https://ohavizedek.org/event/hebrew-school-166-2/2025-01-19/
LOCATION:Ohavi Zedek Synagogue\, 188 North Prospect Street\, Burlington\, VT\, 05401\, United States
CATEGORIES:Hebrew School
ORGANIZER;CN="Naomi":MAILTO:naomi@ohavizedek.org
GEO:44.486379;-73.201175
X-APPLE-STRUCTURED-LOCATION;VALUE=URI;X-ADDRESS=Ohavi Zedek Synagogue 188 North Prospect Street Burlington VT 05401 United States;X-APPLE-RADIUS=500;X-TITLE=188 North Prospect Street:geo:-73.201175,44.486379
END:VEVENT
BEGIN:VEVENT
DTSTART;TZID=America/New_York:20250119T130000
DTEND;TZID=America/New_York:20250119T180000
DTSTAMP:20260422T072836
CREATED:20241220T173343Z
LAST-MODIFIED:20250119T210622Z
UID:10029425-1737291600-1737309600@ohavizedek.org
SUMMARY:Bread For Peace
DESCRIPTION:A fundraiser for humanitarian aid in Israel and Palestine. A partnership between communities\, volunteers bake and sell bread in the community kitchens to benefit these medical relief organizations: \nUnited Hatzalah: first responders in Israel\nPalestine Children’s Relief Fund: medical care for children in Gaza and West Bank \nParticipating organizations: Ohavi Zedek and Burlington Friends Meeting \nBread (challah\, pita\, gluten-free oat) will be baked on January 19th from 1pm – 5:30pm and available for pick-up in the evening or the following day. \nVolunteering / purchasing bread is closed for this event\, but you can donate or sign up to be notified about future dates below: \nJoin Our Mailing List / Donate / Sign Up to Volunteer Here \n 
URL:https://ohavizedek.org/event/bread-for-peace/
LOCATION:Ohavi Zedek Kitchen\, 188 N. Prospect St\, Burlington\, VT\, 05401
CATEGORIES:Community Events,Social Justice
ATTACH;FMTTYPE=image/png:https://ohavizedek.org/wp-content/uploads/2024/12/bread.png
GEO:44.486379;-73.201175
X-APPLE-STRUCTURED-LOCATION;VALUE=URI;X-ADDRESS=Ohavi Zedek Kitchen 188 N. Prospect St Burlington VT 05401;X-APPLE-RADIUS=500;X-TITLE=188 N. Prospect St:geo:-73.201175,44.486379
END:VEVENT
BEGIN:VEVENT
DTSTART;TZID=America/New_York:20250119T193000
DTEND;TZID=America/New_York:20250119T213000
DTSTAMP:20260422T072836
CREATED:20241224T151928Z
LAST-MODIFIED:20241224T155902Z
UID:10029434-1737315000-1737322200@ohavizedek.org
SUMMARY:Israeli Dancing - Drop In
DESCRIPTION:Israeli folkdance is a joyous folk art form that is easy to start and difficult to stop. It draws from many cultures and expresses itself in dances that range in complexity and speed. See this article for more information. \nJoin hosts Adele\, Lani and Mitch and a friendly friendly group of people that gathers periodically on Zoom or in person to enjoy the folkdances of Israel! \nWe mostly dance around a circle so no partner is required. We have a large repertoire of beginner-friendly dances. New dancers are encouraged to come at the beginning of the session to benefit from instruction. Please wear shoes with clean soles. \nThis program is free with an optional donation. \nRegister Here \nBecause of ongoing concerns about covid and other circulating viruses\, the group would greatly appreciate attendees wearing a high quality mask such as N95 or KN95. \n 
URL:https://ohavizedek.org/event/israeli-dancing-fall-and-winter-2024-drop-in-3/
LOCATION:Ohavi Zedek Synagogue\, 188 North Prospect Street\, Burlington\, VT\, 05401\, United States
CATEGORIES:Adult Learning,Community Events,Israeli Dance
ATTACH;FMTTYPE=image/png:https://ohavizedek.org/wp-content/uploads/2024/09/dancing.png
GEO:44.486379;-73.201175
X-APPLE-STRUCTURED-LOCATION;VALUE=URI;X-ADDRESS=Ohavi Zedek Synagogue 188 North Prospect Street Burlington VT 05401 United States;X-APPLE-RADIUS=500;X-TITLE=188 North Prospect Street:geo:-73.201175,44.486379
END:VEVENT
BEGIN:VEVENT
DTSTART;TZID=America/New_York:20250121T173000
DTEND;TZID=America/New_York:20250121T193000
DTSTAMP:20260422T072836
CREATED:20241205T150047Z
LAST-MODIFIED:20260318T182417Z
UID:10029173-1737480600-1737487800@ohavizedek.org
SUMMARY:OZ Board of Directors Meeting
DESCRIPTION:Monthly meeting of OZ’s Board of Directors. Meetings are planned to run from 5:30 pm to 7:00 pm on the third Tuesday of each month. \nMeetings are held in person and on Zoom. When possible meetings include a small group meal prior to the start time. \nAll OZ members are welcome to attend open portions of the meetings. Meetings may include ‘executive sessions’ limited to board members. \nAgendas will be added the week prior to the meeting.
URL:https://ohavizedek.org/event/oz-board-of-directors-meeting-3-2/2025-01-21/
LOCATION:Ohavi Zedek Synagogue\, 188 North Prospect Street\, Burlington\, VT\, 05401\, United States
CATEGORIES:Board of Directors
ATTACH;FMTTYPE=image/jpeg:https://ohavizedek.org/wp-content/uploads/2024/01/oz-1.jpg
GEO:44.486379;-73.201175
X-APPLE-STRUCTURED-LOCATION;VALUE=URI;X-ADDRESS=Ohavi Zedek Synagogue 188 North Prospect Street Burlington VT 05401 United States;X-APPLE-RADIUS=500;X-TITLE=188 North Prospect Street:geo:-73.201175,44.486379
END:VEVENT
BEGIN:VEVENT
DTSTART;TZID=America/New_York:20250122T103000
DTEND;TZID=America/New_York:20250122T123000
DTSTAMP:20260422T072836
CREATED:20241219T174403Z
LAST-MODIFIED:20241219T174403Z
UID:10029368-1737541800-1737549000@ohavizedek.org
SUMMARY:Midweek Mah Jongg
DESCRIPTION:Stop by every Wednesday from 10:30 AM – 12:30 PM for Mah Jongg \nAdditionally\, fill out this interest form to be notified for upcoming classes
URL:https://ohavizedek.org/event/midweek-mah-jongg-4/
LOCATION:Ohavi Zedek Social Hall\, 188 N. Prospect St\, Burlington\, VT\, 05401
CATEGORIES:Community Events,Mah Jongg
ATTACH;FMTTYPE=image/jpeg:https://ohavizedek.org/wp-content/uploads/2023/02/1.jpg
GEO:44.486379;-73.201175
X-APPLE-STRUCTURED-LOCATION;VALUE=URI;X-ADDRESS=Ohavi Zedek Social Hall 188 N. Prospect St Burlington VT 05401;X-APPLE-RADIUS=500;X-TITLE=188 N. Prospect St:geo:-73.201175,44.486379
END:VEVENT
BEGIN:VEVENT
DTSTART;TZID=America/New_York:20250122T183000
DTEND;TZID=America/New_York:20250122T203000
DTSTAMP:20260422T072836
CREATED:20241219T180654Z
LAST-MODIFIED:20241219T181921Z
UID:10029391-1737570600-1737577800@ohavizedek.org
SUMMARY:Evening Midweek Mah Jongg
DESCRIPTION:Evening midweek Mah Jongg from 6:30 PM – 8:30 PM\nPlease RSVP to lyndasiegel2@gmail.com for availability \nAdditionally\, fill out this interest form to be notified for upcoming classes
URL:https://ohavizedek.org/event/evening-midweek-mah-jongg-4/
LOCATION:Ohavi Zedek Social Hall\, 188 N. Prospect St\, Burlington\, VT\, 05401
CATEGORIES:Mah Jongg
ATTACH;FMTTYPE=image/jpeg:https://ohavizedek.org/wp-content/uploads/2023/10/Homepage-Calender-image-1.jpg
GEO:44.486379;-73.201175
X-APPLE-STRUCTURED-LOCATION;VALUE=URI;X-ADDRESS=Ohavi Zedek Social Hall 188 N. Prospect St Burlington VT 05401;X-APPLE-RADIUS=500;X-TITLE=188 N. Prospect St:geo:-73.201175,44.486379
END:VEVENT
BEGIN:VEVENT
DTSTART;TZID=America/New_York:20250122T193000
DTEND;TZID=America/New_York:20250122T210000
DTSTAMP:20260422T072836
CREATED:20241114T164205Z
LAST-MODIFIED:20241217T150106Z
UID:10029183-1737574200-1737579600@ohavizedek.org
SUMMARY:Soul Travel: Jewish Ways into Dream Interpretation with Rabbi Aaron
DESCRIPTION:Every night our souls go on a journey through the spirit world. We learn from the Talmud that dreams are 1/60th of prophecy and that a dream that has not been interpreted is like a letter that has not been read. Together we will discover the wealth of Jewish teachings on dreams\, dream interpretation\, and dream rituals.  \nAs part of the class each person will keep a personal dream journal (Sefer Chalomot). We are meeting in the month of Kislev\, which according to kabbalah is a time to turn within and pay attention to the deeper messages of our dreams. Kislev is also when we read from the Torah about Jacob’s Ladder and Josef the dreamer and dream interpreter. \nNo prior knowledge of Judaism is required nor do you need to be Jewish. All you need is an interest in dreams and their spiritual messages. \nSessions will be via Zoom only. \nClick to Register \nLinks to Soul Travel source sheets: Jewish Wisdom and Practices for Dreamers / Bedtime and Waking up Prayers
URL:https://ohavizedek.org/event/soul-travel-jewish-ways-into-dream-interpretation/2025-01-22/
LOCATION:Ohavi Zedek Synagogue\, 188 North Prospect Street\, Burlington\, VT\, 05401\, United States
CATEGORIES:Adult Learning
ATTACH;FMTTYPE=image/jpeg:https://ohavizedek.org/wp-content/uploads/2024/11/dream.jpg
GEO:44.486379;-73.201175
X-APPLE-STRUCTURED-LOCATION;VALUE=URI;X-ADDRESS=Ohavi Zedek Synagogue 188 North Prospect Street Burlington VT 05401 United States;X-APPLE-RADIUS=500;X-TITLE=188 North Prospect Street:geo:-73.201175,44.486379
END:VEVENT
BEGIN:VEVENT
DTSTART;TZID=America/New_York:20250123T140000
DTEND;TZID=America/New_York:20250123T160000
DTSTAMP:20260422T072836
CREATED:20241220T145131Z
LAST-MODIFIED:20241220T145131Z
UID:10029420-1737640800-1737648000@ohavizedek.org
SUMMARY:Mah Jongg Beginner Class | 2-4pm
DESCRIPTION:Join our beginner Mah Jongg class\, taught by Lynda Siegel. \nIn this five week class\, students will learn the basics of American Mah Jongg. Upon completion\, students will be able to play on their own or at OZ’s drop-in games. \nThese classes are full\, so fill out this interest form to be notified for upcoming classes.
URL:https://ohavizedek.org/event/mah-jongg-beginner-class-2-4pm-2/
LOCATION:Ohavi Zedek Social Hall\, 188 N. Prospect St\, Burlington\, VT\, 05401
CATEGORIES:Community Events,Mah Jongg
ATTACH;FMTTYPE=image/jpeg:https://ohavizedek.org/wp-content/uploads/2024/09/mah-jongg-monthly.jpg
GEO:44.486379;-73.201175
X-APPLE-STRUCTURED-LOCATION;VALUE=URI;X-ADDRESS=Ohavi Zedek Social Hall 188 N. Prospect St Burlington VT 05401;X-APPLE-RADIUS=500;X-TITLE=188 N. Prospect St:geo:-73.201175,44.486379
END:VEVENT
BEGIN:VEVENT
DTSTART;TZID=America/New_York:20250123T170000
DTEND;TZID=America/New_York:20250123T190000
DTSTAMP:20260422T072836
CREATED:20241220T144619Z
LAST-MODIFIED:20241220T145322Z
UID:10029415-1737651600-1737658800@ohavizedek.org
SUMMARY:Mah Jongg Beginner Class | 5-7pm
DESCRIPTION:Join our beginner Mah Jongg class\, taught by Lynda Siegel. \nIn this five week class\, students will learn the basics of American Mah Jongg. Upon completion\, students will be able to play on their own or at OZ’s drop-in games. \nThese classes are full\, so fill out this interest form to be notified for upcoming classes.
URL:https://ohavizedek.org/event/mah-jongg-beginner-class-jan-feb-2025-3/
LOCATION:Ohavi Zedek Social Hall\, 188 N. Prospect St\, Burlington\, VT\, 05401
CATEGORIES:Community Events,Mah Jongg
ATTACH;FMTTYPE=image/jpeg:https://ohavizedek.org/wp-content/uploads/2024/09/mah-jongg-monthly.jpg
GEO:44.486379;-73.201175
X-APPLE-STRUCTURED-LOCATION;VALUE=URI;X-ADDRESS=Ohavi Zedek Social Hall 188 N. Prospect St Burlington VT 05401;X-APPLE-RADIUS=500;X-TITLE=188 N. Prospect St:geo:-73.201175,44.486379
END:VEVENT
BEGIN:VEVENT
DTSTART;TZID=America/New_York:20250123T190000
DTEND;TZID=America/New_York:20250123T200000
DTSTAMP:20260422T072836
CREATED:20241204T141511Z
LAST-MODIFIED:20250114T155604Z
UID:10029309-1737658800-1737662400@ohavizedek.org
SUMMARY:When Critique Becomes Hateful: Defining Antisemitism and Anti-Zionism - Derek Penslar\, Harvard University
DESCRIPTION:What rights do people have to criticize their country? Other countries? When do those criticisms become hateful? And when they become hateful\, how should they be combatted? This talk discusses how these questions relate to contemporary anti-Zionism and antisemitism. His discussion draws upon three relevant documents: The International Holocaust Remembrance Alliance’s “Working Definition of Antisemitism” (2016); The Nexus Document: Understanding Antisemitism and its Nexus with Israel and Zionism (2021); and The Jerusalem Declaration on Antisemitism (2021). \nDerek Penslar is the William Lee Frost Professor of Jewish History at Harvard University and Director of Harvard’s Center for Jewish Studies. He is also a resident faculty member at the Minda de Gunzburg Center for European Studies (CES) and is affiliated with Harvard’s Center for Middle Eastern Studies. \nPenslar takes a comparative and transnational approach to modern Jewish history\, which he studies within the contexts of modern nationalism\, capitalism\, and colonialism. His books have engaged with a variety of approaches and methods\, including the history of science and technology (Zionism and Technocracy: The Engineering of the Jewish Settlement in Palestine 1870-1918\, 1991)\, economic history (Shylock’s Children: Economics and Jewish Identity in Modern Europe\, 2001)\, military history (Jews and the Military: A History\, 2013)\, biography (Theodor Herzl: The Charismatic Leader\, 2020)\, and the history of emotions (Zionism: An Emotional State\, 2023). In two co-edited volumes\, Penslar has brought Jewish studies into conversation with postcolonial studies (Orientalism and the Jews\, 2005) and Unacknowledged Kinships: Postcolonial Theory and the Historiography of Zionism\, 2023). His current interests lie in international history\, and he is writing a book about worldwide reactions to the 1948 Arab-Israeli War. \nSponsored by the Raul Hilberg Distinguished Professorship of Holocaust Studies at the University of Vermont
URL:https://ohavizedek.org/event/when-critique-becomes-hateful-defining-antisemitism-and-anti-zionism-derek-penslar-harvard-university/
LOCATION:Memorial Lounge\, 338 Waterman\, 85 S Prospect St\, Burlington\, VT\, 05401\, United States
CATEGORIES:Community Events
ATTACH;FMTTYPE=image/png:https://ohavizedek.org/wp-content/uploads/2024/12/critique.png
END:VEVENT
BEGIN:VEVENT
DTSTART;TZID=America/New_York:20250124T180000
DTEND;TZID=America/New_York:20250124T193000
DTSTAMP:20260422T072836
CREATED:20241217T190351Z
LAST-MODIFIED:20250124T145149Z
UID:10029335-1737741600-1737747000@ohavizedek.org
SUMMARY:Kabbalat Shabbat
DESCRIPTION:Join us for our weekly Kabbalat Shabbat service led by Cantor Silverberg. Experience the warmth and joy of welcoming Shabbat through soulful prayers\, meaningful reflections\, and beautiful melodies. Cantor Jessica Silverberg’s powerful voice will lift our spirits with timeless chants. This evening promises to be a serene and uplifting way to enter the holy day of rest\, filled with community\, connection\, and spiritual renewal.
URL:https://ohavizedek.org/event/kabbalat-shabbat-13/
LOCATION:Ohavi Zedek Synagogue\, 188 North Prospect Street\, Burlington\, VT\, 05401\, United States
CATEGORIES:Kabbalat Shabbat,Worship Services
ATTACH;FMTTYPE=image/png:https://ohavizedek.org/wp-content/uploads/2024/11/kabbalat-1.png
GEO:44.486379;-73.201175
X-APPLE-STRUCTURED-LOCATION;VALUE=URI;X-ADDRESS=Ohavi Zedek Synagogue 188 North Prospect Street Burlington VT 05401 United States;X-APPLE-RADIUS=500;X-TITLE=188 North Prospect Street:geo:-73.201175,44.486379
END:VEVENT
BEGIN:VEVENT
DTSTART;TZID=America/New_York:20250125T091500
DTEND;TZID=America/New_York:20250125T113000
DTSTAMP:20260422T072836
CREATED:20241026T114450Z
LAST-MODIFIED:20241115T170203Z
UID:10029229-1737796500-1737804600@ohavizedek.org
SUMMARY:Shabbat Morning Services
DESCRIPTION:Our Shabbat morning service is traditional egalitarian with new melodies and kavannot (spiritual intentions) introduced and incorporated. \nFollowing services\, we often host a Kiddush – a lunch donated by synagogue members or b mitzvah families\, where all are welcome. Saturday morning services begin at 9:15 AM. \nOur morning service will feature our Shabbat Village: \n– An intentional place for families\, children and anyone to schmooze and be together during the time of Shabbat services \n– No pressure to join in the service (though of course all are welcome to attend as much or little as works for you) \n– Families may access the playground\, gardens and trails \n– Everyone is invited to the kiddush (meal) afterward (when applicable) \n– Children’s books and a video feed of services will be provided. Currently\, children will need to be accompanied by their adult(s). Parents may choose to team up – it takes a village! \nTorah Study typically takes place at 8:30 am before services. Check our calendar for details.
URL:https://ohavizedek.org/event/shabbat-morning-services-10/2025-01-25/
LOCATION:Ohavi Zedek Synagogue\, 188 North Prospect Street\, Burlington\, VT\, 05401\, United States
CATEGORIES:Worship Services
ATTACH;FMTTYPE=image/jpeg:https://ohavizedek.org/wp-content/uploads/2024/10/shabbat-morning.jpg
GEO:44.486379;-73.201175
X-APPLE-STRUCTURED-LOCATION;VALUE=URI;X-ADDRESS=Ohavi Zedek Synagogue 188 North Prospect Street Burlington VT 05401 United States;X-APPLE-RADIUS=500;X-TITLE=188 North Prospect Street:geo:-73.201175,44.486379
END:VEVENT
BEGIN:VEVENT
DTSTART;TZID=America/New_York:20250125T110000
DTEND;TZID=America/New_York:20250125T130000
DTSTAMP:20260422T072836
CREATED:20240709T194517Z
LAST-MODIFIED:20240709T194517Z
UID:10027787-1737802800-1737810000@ohavizedek.org
SUMMARY:NADAV: Mitzvah Day Service Project
DESCRIPTION:
URL:https://ohavizedek.org/event/nadav-mitzvah-day-service-project/
LOCATION:Ohavi Zedek Synagogue\, 188 North Prospect Street\, Burlington\, VT\, 05401\, United States
CATEGORIES:Nadav
GEO:44.486379;-73.201175
X-APPLE-STRUCTURED-LOCATION;VALUE=URI;X-ADDRESS=Ohavi Zedek Synagogue 188 North Prospect Street Burlington VT 05401 United States;X-APPLE-RADIUS=500;X-TITLE=188 North Prospect Street:geo:-73.201175,44.486379
END:VEVENT
END:VCALENDAR