BEGIN:VCALENDAR
VERSION:2.0
PRODID:-//Ohavi Zedek Synagogue - ECPv6.15.17.1//NONSGML v1.0//EN
CALSCALE:GREGORIAN
METHOD:PUBLISH
X-WR-CALNAME:Ohavi Zedek Synagogue
X-ORIGINAL-URL:https://ohavizedek.org
X-WR-CALDESC:Events for Ohavi Zedek Synagogue
REFRESH-INTERVAL;VALUE=DURATION:PT1H
X-Robots-Tag:noindex
X-PUBLISHED-TTL:PT1H
BEGIN:VTIMEZONE
TZID:America/New_York
BEGIN:DAYLIGHT
TZOFFSETFROM:-0500
TZOFFSETTO:-0400
TZNAME:EDT
DTSTART:20240310T070000
END:DAYLIGHT
BEGIN:STANDARD
TZOFFSETFROM:-0400
TZOFFSETTO:-0500
TZNAME:EST
DTSTART:20241103T060000
END:STANDARD
BEGIN:DAYLIGHT
TZOFFSETFROM:-0500
TZOFFSETTO:-0400
TZNAME:EDT
DTSTART:20250309T070000
END:DAYLIGHT
BEGIN:STANDARD
TZOFFSETFROM:-0400
TZOFFSETTO:-0500
TZNAME:EST
DTSTART:20251102T060000
END:STANDARD
BEGIN:DAYLIGHT
TZOFFSETFROM:-0500
TZOFFSETTO:-0400
TZNAME:EDT
DTSTART:20260308T070000
END:DAYLIGHT
BEGIN:STANDARD
TZOFFSETFROM:-0400
TZOFFSETTO:-0500
TZNAME:EST
DTSTART:20261101T060000
END:STANDARD
BEGIN:DAYLIGHT
TZOFFSETFROM:-0500
TZOFFSETTO:-0400
TZNAME:EDT
DTSTART:20270314T070000
END:DAYLIGHT
BEGIN:STANDARD
TZOFFSETFROM:-0400
TZOFFSETTO:-0500
TZNAME:EST
DTSTART:20271107T060000
END:STANDARD
END:VTIMEZONE
BEGIN:VEVENT
DTSTART;TZID=America/New_York:20260315T120000
DTEND;TZID=America/New_York:20260315T180000
DTSTAMP:20260421T091212
CREATED:20260122T191337Z
LAST-MODIFIED:20260209T175035Z
UID:10037590-1773576000-1773597600@ohavizedek.org
SUMMARY:Bread For Peace - March 2026
DESCRIPTION:A fundraiser for humanitarian aid in Israel and Palestine. A partnership between communities\, volunteers bake and sell bread in the community kitchens to benefit these medical relief organizations: \nUnited Hatzalah: first responders in Israel\nPalestine Children’s Relief Fund: medical care for children in Gaza and West Bank \nOur goal is to partner with a diverse groups of interfaith congregations on this project. This date will include Ohavi Zedek and Burlington Friends Meeting\, as well as other invited local congregations. If your house of worship church\, synagogue or mosque is interested in participating\, please contact us. \nBread (challah\, pita\, gluten-free oat) will be baked in the OZ kitchen from 12pm – 6pm and available for pick-up in the evening or the following day in Burlington or Richmond. Volunteers are also needed during the following time slots: Noon – 1:30pm\, 1:30pm – 3pm\, and 3pm – 5pm. \n  \nPurchase Bread / Sign Up to Volunteer Here
URL:https://ohavizedek.org/event/bread-for-peace-march-2026/
LOCATION:Ohavi Zedek Kitchen\, 188 N. Prospect St\, Burlington\, VT\, 05401
CATEGORIES:Community Events,Social Justice
ATTACH;FMTTYPE=image/png:https://ohavizedek.org/wp-content/uploads/2024/12/bread.png
GEO:44.486379;-73.201175
X-APPLE-STRUCTURED-LOCATION;VALUE=URI;X-ADDRESS=Ohavi Zedek Kitchen 188 N. Prospect St Burlington VT 05401;X-APPLE-RADIUS=500;X-TITLE=188 N. Prospect St:geo:-73.201175,44.486379
END:VEVENT
BEGIN:VEVENT
DTSTART;TZID=America/New_York:20260222T120000
DTEND;TZID=America/New_York:20260222T180000
DTSTAMP:20260421T091212
CREATED:20260122T191254Z
LAST-MODIFIED:20260122T191254Z
UID:10037589-1771761600-1771783200@ohavizedek.org
SUMMARY:Bread For Peace - February 2026
DESCRIPTION:A fundraiser for humanitarian aid in Israel and Palestine. A partnership between communities\, volunteers bake and sell bread in the community kitchens to benefit these medical relief organizations: \nUnited Hatzalah: first responders in Israel\nPalestine Children’s Relief Fund: medical care for children in Gaza and West Bank \nOur goal is to partner with a diverse groups of interfaith congregations on this project. This date will include Ohavi Zedek and Burlington Friends Meeting\, as well as other invited local congregations. If your house of worship church\, synagogue or mosque is interested in participating\, please contact us. \nBread (challah\, pita\, gluten-free oat) will be baked in the OZ kitchen from 12pm – 6pm and available for pick-up in the evening or the following day in Burlington or Richmond. Volunteers are also needed during the following time slots: Noon – 1:30pm\, 1:30pm – 3pm\, and 3pm – 5pm. \n  \nPurchase Bread / Sign Up to Volunteer Here
URL:https://ohavizedek.org/event/bread-for-peace-feb-2026/
LOCATION:Ohavi Zedek Kitchen\, 188 N. Prospect St\, Burlington\, VT\, 05401
CATEGORIES:Community Events,Social Justice
ATTACH;FMTTYPE=image/png:https://ohavizedek.org/wp-content/uploads/2024/12/bread.png
GEO:44.486379;-73.201175
X-APPLE-STRUCTURED-LOCATION;VALUE=URI;X-ADDRESS=Ohavi Zedek Kitchen 188 N. Prospect St Burlington VT 05401;X-APPLE-RADIUS=500;X-TITLE=188 N. Prospect St:geo:-73.201175,44.486379
END:VEVENT
BEGIN:VEVENT
DTSTART;TZID=America/New_York:20260125T120000
DTEND;TZID=America/New_York:20260125T180000
DTSTAMP:20260421T091212
CREATED:20251124T173920Z
LAST-MODIFIED:20251124T173920Z
UID:10036627-1769342400-1769364000@ohavizedek.org
SUMMARY:Bread For Peace - January 2026
DESCRIPTION:A fundraiser for humanitarian aid in Israel and Palestine. A partnership between communities\, volunteers bake and sell bread in the community kitchens to benefit these medical relief organizations: \nUnited Hatzalah: first responders in Israel\nPalestine Children’s Relief Fund: medical care for children in Gaza and West Bank \nOur goal is to partner with a diverse groups of interfaith congregations on this project. This date will include Ohavi Zedek and Burlington Friends Meeting\, as well as other invited local congregations. If your house of worship church\, synagogue or mosque is interested in participating\, please contact us. \nBread (challah\, pita\, gluten-free oat) will be baked in the OZ kitchen from 12pm – 6pm and available for pick-up in the evening or the following day in Burlington or Richmond. Volunteers are also needed during the following time slots: Noon – 1:30pm\, 1:30pm – 3pm\, and 3pm – 5pm. \n  \nPurchase Bread / Sign Up to Volunteer Here
URL:https://ohavizedek.org/event/bread-for-peace-january-2026/
LOCATION:Ohavi Zedek Kitchen\, 188 N. Prospect St\, Burlington\, VT\, 05401
CATEGORIES:Community Events,Social Justice
ATTACH;FMTTYPE=image/png:https://ohavizedek.org/wp-content/uploads/2024/12/bread.png
GEO:44.486379;-73.201175
X-APPLE-STRUCTURED-LOCATION;VALUE=URI;X-ADDRESS=Ohavi Zedek Kitchen 188 N. Prospect St Burlington VT 05401;X-APPLE-RADIUS=500;X-TITLE=188 N. Prospect St:geo:-73.201175,44.486379
END:VEVENT
BEGIN:VEVENT
DTSTART;TZID=America/New_York:20251123T120000
DTEND;TZID=America/New_York:20251123T180000
DTSTAMP:20260421T091212
CREATED:20251001T181617Z
LAST-MODIFIED:20251113T185153Z
UID:10036085-1763899200-1763920800@ohavizedek.org
SUMMARY:Bread For Peace - November 2025
DESCRIPTION:A fundraiser for humanitarian aid in Israel and Palestine. A partnership between communities\, volunteers bake and sell bread in the community kitchens to benefit these medical relief organizations: \nUnited Hatzalah: first responders in Israel\nPalestine Children’s Relief Fund: medical care for children in Gaza and West Bank \nOur goal is to partner with a diverse groups of interfaith congregations on this project. This date will include Ohavi Zedek and Burlington Friends Meeting\, as well as other invited local congregations. If your house of worship church\, synagogue or mosque is interested in participating\, please contact us. \nBread (challah\, pita\, gluten-free oat) will be baked in the OZ kitchen from 12pm – 6pm and available for pick-up in the evening or the following day in Burlington or Richmond. Volunteers are also needed during the following time slots: Noon – 1:30pm\, 1:30pm – 3pm\, and 3pm – 5pm. \n  \nPurchase Bread / Sign Up to Volunteer Here
URL:https://ohavizedek.org/event/bread-for-peace-november-2025/
LOCATION:Ohavi Zedek Kitchen\, 188 N. Prospect St\, Burlington\, VT\, 05401
CATEGORIES:Community Events,Social Justice
ATTACH;FMTTYPE=image/png:https://ohavizedek.org/wp-content/uploads/2024/12/bread.png
GEO:44.486379;-73.201175
X-APPLE-STRUCTURED-LOCATION;VALUE=URI;X-ADDRESS=Ohavi Zedek Kitchen 188 N. Prospect St Burlington VT 05401;X-APPLE-RADIUS=500;X-TITLE=188 N. Prospect St:geo:-73.201175,44.486379
END:VEVENT
BEGIN:VEVENT
DTSTART;TZID=America/New_York:20251012T120000
DTEND;TZID=America/New_York:20251012T180000
DTSTAMP:20260421T091212
CREATED:20250813T181329Z
LAST-MODIFIED:20250813T181348Z
UID:10035621-1760270400-1760292000@ohavizedek.org
SUMMARY:Bread For Peace - October 2025
DESCRIPTION:A fundraiser for humanitarian aid in Israel and Palestine. A partnership between communities\, volunteers bake and sell bread in the community kitchens to benefit these medical relief organizations: \nUnited Hatzalah: first responders in Israel\nPalestine Children’s Relief Fund: medical care for children in Gaza and West Bank \nOur goal is to partner with a diverse groups of interfaith congregations on this project. This date will include Ohavi Zedek and Burlington Friends Meeting\, as well as other invited local congregations. If your house of worship church\, synagogue or mosque is interested in participating\, please contact us. \nBread (challah\, pita\, gluten-free oat) will be baked in the OZ kitchen from 12pm – 6pm and available for pick-up in the evening or the following day in Burlington or Richmond. Volunteers are also needed during the following time slots: Noon – 1:30pm\, 1:30pm – 3pm\, and 3pm – 5pm. \n  \nPurchase Bread / Sign Up to Volunteer Here
URL:https://ohavizedek.org/event/bread-for-peace-october-2025/
LOCATION:Ohavi Zedek Kitchen\, 188 N. Prospect St\, Burlington\, VT\, 05401
CATEGORIES:Community Events,Social Justice
ATTACH;FMTTYPE=image/png:https://ohavizedek.org/wp-content/uploads/2024/12/bread.png
GEO:44.486379;-73.201175
X-APPLE-STRUCTURED-LOCATION;VALUE=URI;X-ADDRESS=Ohavi Zedek Kitchen 188 N. Prospect St Burlington VT 05401;X-APPLE-RADIUS=500;X-TITLE=188 N. Prospect St:geo:-73.201175,44.486379
END:VEVENT
BEGIN:VEVENT
DTSTART;TZID=America/New_York:20250921T120000
DTEND;TZID=America/New_York:20250921T180000
DTSTAMP:20260421T091212
CREATED:20250813T142547Z
LAST-MODIFIED:20250813T142654Z
UID:10035620-1758456000-1758477600@ohavizedek.org
SUMMARY:Bread For Peace - September 2025
DESCRIPTION:“Pick up your round challah for Rosh Hashanah and support refuah shlema in the Middle East!”\nA fundraiser for humanitarian aid in Israel and Palestine. A partnership between communities\, volunteers bake and sell bread in the community kitchens to benefit these medical relief organizations: \nUnited Hatzalah: first responders in Israel\nPalestine Children’s Relief Fund: medical care for children in Gaza and West Bank \nOur goal is to partner with a diverse groups of interfaith congregations on this project. This date will include Ohavi Zedek and Burlington Friends Meeting\, as well as other invited local congregations. If your house of worship church\, synagogue or mosque is interested in participating\, please contact us. \nBread (challah\, pita\, gluten-free oat) will be baked in the OZ kitchen from 12pm – 6pm and available for pick-up in the evening or the following day in Burlington or Richmond. Volunteers are also needed during the following time slots: Noon – 1:30pm\, 1:30pm – 3pm\, and 3pm – 5pm. \n  \nPurchase Bread / Sign Up to Volunteer Here
URL:https://ohavizedek.org/event/bread-for-peace-september-2025/
LOCATION:Ohavi Zedek Kitchen\, 188 N. Prospect St\, Burlington\, VT\, 05401
CATEGORIES:Community Events,Social Justice
ATTACH;FMTTYPE=image/png:https://ohavizedek.org/wp-content/uploads/2024/12/bread.png
GEO:44.486379;-73.201175
X-APPLE-STRUCTURED-LOCATION;VALUE=URI;X-ADDRESS=Ohavi Zedek Kitchen 188 N. Prospect St Burlington VT 05401;X-APPLE-RADIUS=500;X-TITLE=188 N. Prospect St:geo:-73.201175,44.486379
END:VEVENT
BEGIN:VEVENT
DTSTART;TZID=America/New_York:20250815T120000
DTEND;TZID=America/New_York:20250815T180000
DTSTAMP:20260421T091212
CREATED:20250723T182512Z
LAST-MODIFIED:20250723T182536Z
UID:10035492-1755259200-1755280800@ohavizedek.org
SUMMARY:Bread For Peace - August 2025
DESCRIPTION:A fundraiser for humanitarian aid in Israel and Palestine. A partnership between communities\, volunteers bake and sell bread in the community kitchens to benefit these medical relief organizations: \nUnited Hatzalah: first responders in Israel\nPalestine Children’s Relief Fund: medical care for children in Gaza and West Bank \nOur goal is to partner with a diverse groups of interfaith congregations on this project. This date will include Ohavi Zedek and Burlington Friends Meeting\, as well as other invited local congregations. If your house of worship church\, synagogue or mosque is interested in participating\, please contact us. \nBread (challah\, pita\, gluten-free oat) will be baked in the OZ kitchen on August 15th from 12pm – 6pm and available for pick-up in the evening or the following day in Burlington or Richmond. Volunteers are also needed on August 15th during the following time slots: Noon – 1:30pm\, 1:30pm – 3pm\, and 3pm – 5pm. \n  \nPurchase Bread / Sign Up to Volunteer Here
URL:https://ohavizedek.org/event/bread-for-peace-august-2025/
LOCATION:Ohavi Zedek Kitchen\, 188 N. Prospect St\, Burlington\, VT\, 05401
CATEGORIES:Community Events,Social Justice
ATTACH;FMTTYPE=image/png:https://ohavizedek.org/wp-content/uploads/2024/12/bread.png
GEO:44.486379;-73.201175
X-APPLE-STRUCTURED-LOCATION;VALUE=URI;X-ADDRESS=Ohavi Zedek Kitchen 188 N. Prospect St Burlington VT 05401;X-APPLE-RADIUS=500;X-TITLE=188 N. Prospect St:geo:-73.201175,44.486379
END:VEVENT
BEGIN:VEVENT
DTSTART;TZID=America/New_York:20250727T150000
DTEND;TZID=America/New_York:20250727T150000
DTSTAMP:20260421T091212
CREATED:20250428T194029Z
LAST-MODIFIED:20250723T210749Z
UID:10031141-1753628400-1753628400@ohavizedek.org
SUMMARY:Bread For Peace - July 2025
DESCRIPTION:A fundraiser for humanitarian aid in Israel and Palestine. A partnership between communities\, volunteers bake and sell bread in the community kitchens to benefit these medical relief organizations: \nUnited Hatzalah: first responders in Israel\nPalestine Children’s Relief Fund: medical care for children in Gaza and West Bank \nOur goal is to partner with a diverse groups of interfaith congregations on this project. This date will include Ohavi Zedek and Burlington Friends Meeting\, as well as other invited local congregations. If your house of worship church\, synagogue or mosque is interested in participating\, please contact us. \nBread (challah\, pita\, gluten-free oat) will be baked in the OZ kitchen on July 27th and available for pick-up in the evening or the following day in Burlington or Richmond. \n  \nPurchase Bread / Sign Up to Volunteer Here
URL:https://ohavizedek.org/event/bread-for-peace-july-2025/
LOCATION:Ohavi Zedek Kitchen\, 188 N. Prospect St\, Burlington\, VT\, 05401
CATEGORIES:Community Events,Social Justice
ATTACH;FMTTYPE=image/png:https://ohavizedek.org/wp-content/uploads/2024/12/bread.png
GEO:44.486379;-73.201175
X-APPLE-STRUCTURED-LOCATION;VALUE=URI;X-ADDRESS=Ohavi Zedek Kitchen 188 N. Prospect St Burlington VT 05401;X-APPLE-RADIUS=500;X-TITLE=188 N. Prospect St:geo:-73.201175,44.486379
END:VEVENT
BEGIN:VEVENT
DTSTART;TZID=America/New_York:20250522T120000
DTEND;TZID=America/New_York:20250522T180000
DTSTAMP:20260421T091212
CREATED:20250312T200528Z
LAST-MODIFIED:20250312T200640Z
UID:10030983-1747915200-1747936800@ohavizedek.org
SUMMARY:Bread For Peace - May 2025
DESCRIPTION:A fundraiser for humanitarian aid in Israel and Palestine. A partnership between communities\, volunteers bake and sell bread in the community kitchens to benefit these medical relief organizations: \nUnited Hatzalah: first responders in Israel\nPalestine Children’s Relief Fund: medical care for children in Gaza and West Bank \nOur goal is to partner with a diverse groups of interfaith congregations on this project. This date will include Ohavi Zedek and Burlington Friends Meeting\, as well as other invited local congregations. If your house of worship church\, synagogue or mosque is interested in participating\, please contact us. \nBread (challah\, pita\, gluten-free oat) will be baked in the OZ kitchen on May 22nd from 12pm – 6pm and available for pick-up in the evening or the following day in Burlington or Richmond. Volunteers are also needed on May 22nd during the following time slots: Noon – 1:30pm\, 1:30pm – 3pm\, and 3pm – 5pm. \n  \nPurchase Bread / Sign Up to Volunteer Here
URL:https://ohavizedek.org/event/bread-for-peace-5/
LOCATION:Ohavi Zedek Kitchen\, 188 N. Prospect St\, Burlington\, VT\, 05401
CATEGORIES:Community Events,Social Justice
ATTACH;FMTTYPE=image/png:https://ohavizedek.org/wp-content/uploads/2024/12/bread.png
GEO:44.486379;-73.201175
X-APPLE-STRUCTURED-LOCATION;VALUE=URI;X-ADDRESS=Ohavi Zedek Kitchen 188 N. Prospect St Burlington VT 05401;X-APPLE-RADIUS=500;X-TITLE=188 N. Prospect St:geo:-73.201175,44.486379
END:VEVENT
BEGIN:VEVENT
DTSTART;TZID=America/New_York:20250427T120000
DTEND;TZID=America/New_York:20250427T180000
DTSTAMP:20260421T091212
CREATED:20250312T200117Z
LAST-MODIFIED:20250312T200839Z
UID:10030982-1745755200-1745776800@ohavizedek.org
SUMMARY:Bread For Peace - April 2025
DESCRIPTION:A fundraiser for humanitarian aid in Israel and Palestine. A partnership between communities\, volunteers bake and sell bread in the community kitchens to benefit these medical relief organizations: \nUnited Hatzalah: first responders in Israel\nPalestine Children’s Relief Fund: medical care for children in Gaza and West Bank \nOur goal is to partner with a diverse groups of interfaith congregations on this project. This date will include Ohavi Zedek and Burlington Friends Meeting\, as well as other invited local congregations. If your house of worship church\, synagogue or mosque is interested in participating\, please contact us. \nBread (challah\, pita\, gluten-free oat) will be baked in the OZ kitchen on April 27th from 12pm – 6pm and available for pick-up in the evening or the following day in Burlington or Richmond. Volunteers are also needed on April 27th during the following time slots: Noon – 1:30pm\, 1:30pm – 3pm\, and 3pm – 5pm. \n  \nPurchase Bread / Sign Up to Volunteer Here
URL:https://ohavizedek.org/event/bread-for-peace-4/
LOCATION:Ohavi Zedek Kitchen\, 188 N. Prospect St\, Burlington\, VT\, 05401
CATEGORIES:Community Events,Social Justice
ATTACH;FMTTYPE=image/png:https://ohavizedek.org/wp-content/uploads/2024/12/bread.png
GEO:44.486379;-73.201175
X-APPLE-STRUCTURED-LOCATION;VALUE=URI;X-ADDRESS=Ohavi Zedek Kitchen 188 N. Prospect St Burlington VT 05401;X-APPLE-RADIUS=500;X-TITLE=188 N. Prospect St:geo:-73.201175,44.486379
END:VEVENT
BEGIN:VEVENT
DTSTART;TZID=America/New_York:20250323T120000
DTEND;TZID=America/New_York:20250323T180000
DTSTAMP:20260421T091212
CREATED:20250203T152842Z
LAST-MODIFIED:20250312T200756Z
UID:10030955-1742731200-1742752800@ohavizedek.org
SUMMARY:Bread For Peace - March 2025
DESCRIPTION:A fundraiser for humanitarian aid in Israel and Palestine. A partnership between communities\, volunteers bake and sell bread in the community kitchens to benefit these medical relief organizations: \nUnited Hatzalah: first responders in Israel\nPalestine Children’s Relief Fund: medical care for children in Gaza and West Bank \nOur goal is to partner with a diverse groups of interfaith congregations on this project. This date will include Ohavi Zedek and Burlington Friends Meeting\, as well as other invited local congregations. If your house of worship church\, synagogue or mosque is interested in participating\, please contact us. \nBread (challah\, pita\, gluten-free oat) will be baked in the OZ kitchen on March 23rd from 12pm – 6pm and available for pick-up in the evening or the following day in Burlington or Richmond. Volunteers are also needed on March 23rd during the following time slots: Noon – 1:30pm\, 1:30pm – 3pm\, and 3pm – 5pm. \n  \nPurchase Bread / Sign Up to Volunteer Here
URL:https://ohavizedek.org/event/bread-for-peace-3/
LOCATION:Ohavi Zedek Kitchen\, 188 N. Prospect St\, Burlington\, VT\, 05401
CATEGORIES:Community Events,Social Justice
ATTACH;FMTTYPE=image/png:https://ohavizedek.org/wp-content/uploads/2024/12/bread.png
GEO:44.486379;-73.201175
X-APPLE-STRUCTURED-LOCATION;VALUE=URI;X-ADDRESS=Ohavi Zedek Kitchen 188 N. Prospect St Burlington VT 05401;X-APPLE-RADIUS=500;X-TITLE=188 N. Prospect St:geo:-73.201175,44.486379
END:VEVENT
BEGIN:VEVENT
DTSTART;TZID=America/New_York:20250223T120000
DTEND;TZID=America/New_York:20250223T180000
DTSTAMP:20260421T091212
CREATED:20250203T150132Z
LAST-MODIFIED:20250214T154616Z
UID:10030954-1740312000-1740333600@ohavizedek.org
SUMMARY:Bread For Peace
DESCRIPTION:A fundraiser for humanitarian aid in Israel and Palestine. A partnership between communities\, volunteers bake and sell bread in the community kitchens to benefit these medical relief organizations: \nUnited Hatzalah: first responders in Israel\nPalestine Children’s Relief Fund: medical care for children in Gaza and West Bank \nOur goal is to partner with a diverse groups of interfaith congregations on this project. This date will include Ohavi Zedek and Burlington Friends Meeting\, as well as other invited local congregations. If your house of worship\, church\, synagogue or mosque is interested in participating\, please contact us. \nBread (challah\, pita\, gluten-free oat) will be baked in the OZ kitchen on February 23rd from 12pm – 6pm and available for pick-up in the evening or the following day in Burlington or Richmond. Volunteers are also needed on February 23rd during the following time slots: Noon – 1:30pm\, 1:30pm – 3pm\, and 3pm – 5pm. \n  \nPurchase Bread / Sign Up to Volunteer Here \n 
URL:https://ohavizedek.org/event/bread-for-peace-2/
LOCATION:Ohavi Zedek Kitchen\, 188 N. Prospect St\, Burlington\, VT\, 05401
CATEGORIES:Community Events,Social Justice
ATTACH;FMTTYPE=image/png:https://ohavizedek.org/wp-content/uploads/2024/12/bread.png
GEO:44.486379;-73.201175
X-APPLE-STRUCTURED-LOCATION;VALUE=URI;X-ADDRESS=Ohavi Zedek Kitchen 188 N. Prospect St Burlington VT 05401;X-APPLE-RADIUS=500;X-TITLE=188 N. Prospect St:geo:-73.201175,44.486379
END:VEVENT
BEGIN:VEVENT
DTSTART;TZID=America/New_York:20250119T130000
DTEND;TZID=America/New_York:20250119T180000
DTSTAMP:20260421T091212
CREATED:20241220T173343Z
LAST-MODIFIED:20250119T210622Z
UID:10029425-1737291600-1737309600@ohavizedek.org
SUMMARY:Bread For Peace
DESCRIPTION:A fundraiser for humanitarian aid in Israel and Palestine. A partnership between communities\, volunteers bake and sell bread in the community kitchens to benefit these medical relief organizations: \nUnited Hatzalah: first responders in Israel\nPalestine Children’s Relief Fund: medical care for children in Gaza and West Bank \nParticipating organizations: Ohavi Zedek and Burlington Friends Meeting \nBread (challah\, pita\, gluten-free oat) will be baked on January 19th from 1pm – 5:30pm and available for pick-up in the evening or the following day. \nVolunteering / purchasing bread is closed for this event\, but you can donate or sign up to be notified about future dates below: \nJoin Our Mailing List / Donate / Sign Up to Volunteer Here \n 
URL:https://ohavizedek.org/event/bread-for-peace/
LOCATION:Ohavi Zedek Kitchen\, 188 N. Prospect St\, Burlington\, VT\, 05401
CATEGORIES:Community Events,Social Justice
ATTACH;FMTTYPE=image/png:https://ohavizedek.org/wp-content/uploads/2024/12/bread.png
GEO:44.486379;-73.201175
X-APPLE-STRUCTURED-LOCATION;VALUE=URI;X-ADDRESS=Ohavi Zedek Kitchen 188 N. Prospect St Burlington VT 05401;X-APPLE-RADIUS=500;X-TITLE=188 N. Prospect St:geo:-73.201175,44.486379
END:VEVENT
END:VCALENDAR