BEGIN:VCALENDAR
VERSION:2.0
PRODID:-//Ohavi Zedek Synagogue - ECPv6.15.17.1//NONSGML v1.0//EN
CALSCALE:GREGORIAN
METHOD:PUBLISH
X-ORIGINAL-URL:https://ohavizedek.org
X-WR-CALDESC:Events for Ohavi Zedek Synagogue
REFRESH-INTERVAL;VALUE=DURATION:PT1H
X-Robots-Tag:noindex
X-PUBLISHED-TTL:PT1H
BEGIN:VTIMEZONE
TZID:America/New_York
BEGIN:DAYLIGHT
TZOFFSETFROM:-0500
TZOFFSETTO:-0400
TZNAME:EDT
DTSTART:20240310T070000
END:DAYLIGHT
BEGIN:STANDARD
TZOFFSETFROM:-0400
TZOFFSETTO:-0500
TZNAME:EST
DTSTART:20241103T060000
END:STANDARD
BEGIN:DAYLIGHT
TZOFFSETFROM:-0500
TZOFFSETTO:-0400
TZNAME:EDT
DTSTART:20250309T070000
END:DAYLIGHT
BEGIN:STANDARD
TZOFFSETFROM:-0400
TZOFFSETTO:-0500
TZNAME:EST
DTSTART:20251102T060000
END:STANDARD
BEGIN:DAYLIGHT
TZOFFSETFROM:-0500
TZOFFSETTO:-0400
TZNAME:EDT
DTSTART:20260308T070000
END:DAYLIGHT
BEGIN:STANDARD
TZOFFSETFROM:-0400
TZOFFSETTO:-0500
TZNAME:EST
DTSTART:20261101T060000
END:STANDARD
END:VTIMEZONE
BEGIN:VEVENT
DTSTART;TZID=America/New_York:20250608T133000
DTEND;TZID=America/New_York:20250608T150000
DTSTAMP:20260422T074652
CREATED:20250317T155421Z
LAST-MODIFIED:20250421T143315Z
UID:10030985-1749389400-1749394800@ohavizedek.org
SUMMARY:Hadassah Vermont presents "Nature in Israel"
DESCRIPTION:A fascinating presentation by the executive director of the American branch of the Society for the Protection of Nature in Israel. \nLearn why Israel is so important environmentally\, why its ecology is so unique\, and how the Society for the Protection of Nature in Israel has helped shape Israeli culture and society to love nature. Nature Israel will introduce you to the important work of Israel’s largest environmental organization founded in 1953\, its historic achievements right up to its innovative nature-based solutions to climate change today. \nOpen to all! Bring your friends! You do not need to be a member of Hadassah to attend. \nMimosas\, Hors d’oeuvres and Yummy Desserts. \n 
URL:https://ohavizedek.org/event/hadassah-vermont-presents-nature-in-israel/
LOCATION:Ohavi Zedek Social Hall\, 188 N. Prospect St\, Burlington\, VT\, 05401
CATEGORIES:Community Events
ATTACH;FMTTYPE=image/png:https://ohavizedek.org/wp-content/uploads/2025/03/ssasa.png
GEO:44.486379;-73.201175
X-APPLE-STRUCTURED-LOCATION;VALUE=URI;X-ADDRESS=Ohavi Zedek Social Hall 188 N. Prospect St Burlington VT 05401;X-APPLE-RADIUS=500;X-TITLE=188 N. Prospect St:geo:-73.201175,44.486379
END:VEVENT
END:VCALENDAR