BEGIN:VCALENDAR
VERSION:2.0
PRODID:-//Ohavi Zedek Synagogue - ECPv6.15.17.1//NONSGML v1.0//EN
CALSCALE:GREGORIAN
METHOD:PUBLISH
X-WR-CALNAME:Ohavi Zedek Synagogue
X-ORIGINAL-URL:https://ohavizedek.org
X-WR-CALDESC:Events for Ohavi Zedek Synagogue
REFRESH-INTERVAL;VALUE=DURATION:PT1H
X-Robots-Tag:noindex
X-PUBLISHED-TTL:PT1H
BEGIN:VTIMEZONE
TZID:America/New_York
BEGIN:DAYLIGHT
TZOFFSETFROM:-0500
TZOFFSETTO:-0400
TZNAME:EDT
DTSTART:20210314T070000
END:DAYLIGHT
BEGIN:STANDARD
TZOFFSETFROM:-0400
TZOFFSETTO:-0500
TZNAME:EST
DTSTART:20211107T060000
END:STANDARD
BEGIN:DAYLIGHT
TZOFFSETFROM:-0500
TZOFFSETTO:-0400
TZNAME:EDT
DTSTART:20220313T070000
END:DAYLIGHT
BEGIN:STANDARD
TZOFFSETFROM:-0400
TZOFFSETTO:-0500
TZNAME:EST
DTSTART:20221106T060000
END:STANDARD
BEGIN:DAYLIGHT
TZOFFSETFROM:-0500
TZOFFSETTO:-0400
TZNAME:EDT
DTSTART:20230312T070000
END:DAYLIGHT
BEGIN:STANDARD
TZOFFSETFROM:-0400
TZOFFSETTO:-0500
TZNAME:EST
DTSTART:20231105T060000
END:STANDARD
END:VTIMEZONE
BEGIN:VEVENT
DTSTART;TZID=America/New_York:20221208T130000
DTEND;TZID=America/New_York:20221208T143000
DTSTAMP:20260421T104932
CREATED:20220507T021353Z
LAST-MODIFIED:20221128T213948Z
UID:10024973-1670504400-1670509800@ohavizedek.org
SUMMARY:Adult Ed Committee Meeting
DESCRIPTION:Join our monthly committee meeting where we will work together to plan upcoming programming. \nPlease make sure your full first and last name are viewable on Zoom\, so we know who you are and can admit you.  The Zoom link is under “Website” below.
URL:https://ohavizedek.org/event/adult-ed-committee-meeting-10-2022-12-13/
LOCATION:Ohavi Zedek Synagogue\, 188 North Prospect Street\, Burlington\, VT\, 05401\, United States
CATEGORIES:Adult Learning
ATTACH;FMTTYPE=image/png:https://ohavizedek.org/wp-content/uploads/2022/05/Lifelong-Learning-1150x422-1.png
GEO:44.486379;-73.201175
X-APPLE-STRUCTURED-LOCATION;VALUE=URI;X-ADDRESS=Ohavi Zedek Synagogue 188 North Prospect Street Burlington VT 05401 United States;X-APPLE-RADIUS=500;X-TITLE=188 North Prospect Street:geo:-73.201175,44.486379
END:VEVENT
BEGIN:VEVENT
DTSTART;TZID=America/New_York:20221108T173000
DTEND;TZID=America/New_York:20221108T185000
DTSTAMP:20260421T104932
CREATED:20220507T021353Z
LAST-MODIFIED:20221003T152457Z
UID:10024954-1667928600-1667933400@ohavizedek.org
SUMMARY:Adult Ed Committee Meeting
DESCRIPTION:Join our monthly committee meeting where we will work together to plan upcoming programming. \nPlease make sure your full first and last name are viewable on Zoom\, so we know who you are and can admit you.  The Zoom link is under “Website” below.
URL:https://ohavizedek.org/event/adult-ed-committee-meeting-10/2022-11-08/
LOCATION:Ohavi Zedek Synagogue\, 188 North Prospect Street\, Burlington\, VT\, 05401\, United States
CATEGORIES:Adult Learning
ATTACH;FMTTYPE=image/png:https://ohavizedek.org/wp-content/uploads/2022/05/Lifelong-Learning-1150x422-1.png
GEO:44.486379;-73.201175
X-APPLE-STRUCTURED-LOCATION;VALUE=URI;X-ADDRESS=Ohavi Zedek Synagogue 188 North Prospect Street Burlington VT 05401 United States;X-APPLE-RADIUS=500;X-TITLE=188 North Prospect Street:geo:-73.201175,44.486379
END:VEVENT
BEGIN:VEVENT
DTSTART;TZID=America/New_York:20221012T173000
DTEND;TZID=America/New_York:20221012T185000
DTSTAMP:20260421T104932
CREATED:20220507T021353Z
LAST-MODIFIED:20221004T145801Z
UID:10024971-1665595800-1665600600@ohavizedek.org
SUMMARY:Adult Ed Committee Meeting
DESCRIPTION:Join our monthly committee meeting where we will work together to plan upcoming programming. \nPlease make sure your full first and last name are viewable on Zoom\, so we know who you are and can admit you.  The Zoom link is under “Website” below.
URL:https://ohavizedek.org/event/adult-ed-committee-meeting-10-2022-10-11/
LOCATION:Ohavi Zedek Synagogue\, 188 North Prospect Street\, Burlington\, VT\, 05401\, United States
CATEGORIES:Adult Learning
ATTACH;FMTTYPE=image/png:https://ohavizedek.org/wp-content/uploads/2022/05/Lifelong-Learning-1150x422-1.png
GEO:44.486379;-73.201175
X-APPLE-STRUCTURED-LOCATION;VALUE=URI;X-ADDRESS=Ohavi Zedek Synagogue 188 North Prospect Street Burlington VT 05401 United States;X-APPLE-RADIUS=500;X-TITLE=188 North Prospect Street:geo:-73.201175,44.486379
END:VEVENT
BEGIN:VEVENT
DTSTART;TZID=America/New_York:20220913T173000
DTEND;TZID=America/New_York:20220913T185000
DTSTAMP:20260421T104932
CREATED:20220507T021353Z
LAST-MODIFIED:20221003T152457Z
UID:10024953-1663090200-1663095000@ohavizedek.org
SUMMARY:Adult Ed Committee Meeting
DESCRIPTION:Join our monthly committee meeting where we will work together to plan upcoming programming. \nPlease make sure your full first and last name are viewable on Zoom\, so we know who you are and can admit you.  The Zoom link is under “Website” below.
URL:https://ohavizedek.org/event/adult-ed-committee-meeting-10/2022-09-13/
LOCATION:Ohavi Zedek Synagogue\, 188 North Prospect Street\, Burlington\, VT\, 05401\, United States
CATEGORIES:Adult Learning
ATTACH;FMTTYPE=image/png:https://ohavizedek.org/wp-content/uploads/2022/05/Lifelong-Learning-1150x422-1.png
GEO:44.486379;-73.201175
X-APPLE-STRUCTURED-LOCATION;VALUE=URI;X-ADDRESS=Ohavi Zedek Synagogue 188 North Prospect Street Burlington VT 05401 United States;X-APPLE-RADIUS=500;X-TITLE=188 North Prospect Street:geo:-73.201175,44.486379
END:VEVENT
BEGIN:VEVENT
DTSTART;TZID=America/New_York:20220809T173000
DTEND;TZID=America/New_York:20220809T185000
DTSTAMP:20260421T104932
CREATED:20220507T021353Z
LAST-MODIFIED:20221003T152457Z
UID:10024952-1660066200-1660071000@ohavizedek.org
SUMMARY:Adult Ed Committee Meeting
DESCRIPTION:Join our monthly committee meeting where we will work together to plan upcoming programming. \nPlease make sure your full first and last name are viewable on Zoom\, so we know who you are and can admit you.  The Zoom link is under “Website” below.
URL:https://ohavizedek.org/event/adult-ed-committee-meeting-10/2022-08-09/
LOCATION:Ohavi Zedek Synagogue\, 188 North Prospect Street\, Burlington\, VT\, 05401\, United States
CATEGORIES:Adult Learning
ATTACH;FMTTYPE=image/png:https://ohavizedek.org/wp-content/uploads/2022/05/Lifelong-Learning-1150x422-1.png
GEO:44.486379;-73.201175
X-APPLE-STRUCTURED-LOCATION;VALUE=URI;X-ADDRESS=Ohavi Zedek Synagogue 188 North Prospect Street Burlington VT 05401 United States;X-APPLE-RADIUS=500;X-TITLE=188 North Prospect Street:geo:-73.201175,44.486379
END:VEVENT
BEGIN:VEVENT
DTSTART;TZID=America/New_York:20220615T153000
DTEND;TZID=America/New_York:20220615T173000
DTSTAMP:20260421T104932
CREATED:20220507T021353Z
LAST-MODIFIED:20220613T193331Z
UID:10024964-1655307000-1655314200@ohavizedek.org
SUMMARY:Adult Ed Committee Meeting
DESCRIPTION:Join our monthly committee meeting where we will work together to plan upcoming programming. \nPlease make sure your full first and last name are viewable on Zoom\, so we know who you are and can admit you.  The Zoom link is under “Website” below.
URL:https://ohavizedek.org/event/adult-ed-committee-meeting-10-2022-06-14/
LOCATION:Ohavi Zedek Synagogue\, 188 North Prospect Street\, Burlington\, VT\, 05401\, United States
CATEGORIES:Adult Learning
ATTACH;FMTTYPE=image/png:https://ohavizedek.org/wp-content/uploads/2022/05/Lifelong-Learning-1150x422-1.png
GEO:44.486379;-73.201175
X-APPLE-STRUCTURED-LOCATION;VALUE=URI;X-ADDRESS=Ohavi Zedek Synagogue 188 North Prospect Street Burlington VT 05401 United States;X-APPLE-RADIUS=500;X-TITLE=188 North Prospect Street:geo:-73.201175,44.486379
END:VEVENT
BEGIN:VEVENT
DTSTART;TZID=America/New_York:20220512T173000
DTEND;TZID=America/New_York:20220512T185000
DTSTAMP:20260421T104932
CREATED:20220507T021353Z
LAST-MODIFIED:20221003T152457Z
UID:10024951-1652376600-1652381400@ohavizedek.org
SUMMARY:Adult Ed Committee Meeting
DESCRIPTION:Join our monthly committee meeting where we will work together to plan upcoming programming. \nPlease make sure your full first and last name are viewable on Zoom\, so we know who you are and can admit you.  The Zoom link is under “Website” below.
URL:https://ohavizedek.org/event/adult-ed-committee-meeting-10/2022-05-12/
LOCATION:Ohavi Zedek Synagogue\, 188 North Prospect Street\, Burlington\, VT\, 05401\, United States
CATEGORIES:Adult Learning
ATTACH;FMTTYPE=image/png:https://ohavizedek.org/wp-content/uploads/2022/05/Lifelong-Learning-1150x422-1.png
GEO:44.486379;-73.201175
X-APPLE-STRUCTURED-LOCATION;VALUE=URI;X-ADDRESS=Ohavi Zedek Synagogue 188 North Prospect Street Burlington VT 05401 United States;X-APPLE-RADIUS=500;X-TITLE=188 North Prospect Street:geo:-73.201175,44.486379
END:VEVENT
END:VCALENDAR